BEGIN:VCALENDAR
VERSION:2.0
PRODID:-//Gringo Gazette - ECPv6.15.13.1//NONSGML v1.0//EN
CALSCALE:GREGORIAN
METHOD:PUBLISH
X-WR-CALNAME:Gringo Gazette
X-ORIGINAL-URL:https://gringogazette.com
X-WR-CALDESC:Events for Gringo Gazette
REFRESH-INTERVAL;VALUE=DURATION:PT1H
X-Robots-Tag:noindex
X-PUBLISHED-TTL:PT1H
BEGIN:VTIMEZONE
TZID:America/Mazatlan
BEGIN:STANDARD
TZOFFSETFROM:-0700
TZOFFSETTO:-0700
TZNAME:MST
DTSTART:20240101T000000
END:STANDARD
END:VTIMEZONE
BEGIN:VEVENT
DTSTART;TZID=America/Mazatlan:20251227T190000
DTEND;TZID=America/Mazatlan:20251227T200000
DTSTAMP:20260420T071726
CREATED:20251214T063719Z
LAST-MODIFIED:20251214T063719Z
UID:10000190-1766862000-1766865600@gringogazette.com
SUMMARY:Without Scriabin
DESCRIPTION:This piano recital offers a reflective and immersive musical experience that explores contrast\, introspection\, and expressive depth. Through a carefully curated program\, the performance moves between different musical eras and styles\, inviting the audience to listen closely to subtle colors\, emotional tension\, and moments of quiet intensity. The evening is designed to feel intimate and thoughtful\, allowing listeners to connect deeply with the pianist’s interpretation and the evolving atmosphere created at the keyboard.
URL:https://gringogazette.com/event/without-scriabin/
LOCATION:Melitón Albáñez 1730\, 1730 Melitón Albáñez La Paz\, BCS 23020\, La paz\, Mexico
ATTACH;FMTTYPE=image/jpeg:https://gringogazette.com/wp-content/uploads/2025/12/https___cdnevbuc_com_images_1171821674_2443578136951_1_original-1.jpg
END:VEVENT
END:VCALENDAR