BEGIN:VCALENDAR
VERSION:2.0
PRODID:-//Gringo Gazette - ECPv6.15.13.1//NONSGML v1.0//EN
CALSCALE:GREGORIAN
METHOD:PUBLISH
X-WR-CALNAME:Gringo Gazette
X-ORIGINAL-URL:https://gringogazette.com
X-WR-CALDESC:Events for Gringo Gazette
REFRESH-INTERVAL;VALUE=DURATION:PT1H
X-Robots-Tag:noindex
X-PUBLISHED-TTL:PT1H
BEGIN:VTIMEZONE
TZID:America/Mazatlan
BEGIN:STANDARD
TZOFFSETFROM:-0700
TZOFFSETTO:-0700
TZNAME:MST
DTSTART:20250101T000000
END:STANDARD
END:VTIMEZONE
BEGIN:VEVENT
DTSTART;TZID=America/Mazatlan:20260502T080000
DTEND;TZID=America/Mazatlan:20260503T170000
DTSTAMP:20260422T014406
CREATED:20251228T092051Z
LAST-MODIFIED:20251228T092051Z
UID:10000214-1777708800-1777827600@gringogazette.com
SUMMARY:Pink Promise Charity Fishing Tournament
DESCRIPTION:A meaningful fishing tournament dedicated to supporting breast cancer awareness and important community causes. The Pink Promise Charity Fishing Tournament brings anglers together for two days of sport\, solidarity\, and purpose\, combining the excitement of fishing with a commitment to making a positive impact.
URL:https://gringogazette.com/event/pink-promise-charity-fishing-tournament/
LOCATION:Loreto\, 26°00'42.3"N 111°20'51.9"W\, Loreto\, Baja California Sur\, Mexico
ATTACH;FMTTYPE=image/jpeg:https://gringogazette.com/wp-content/uploads/2025/12/588887404_843147035136345_6074099581469217667_n.jpg
END:VEVENT
END:VCALENDAR