BEGIN:VCALENDAR
VERSION:2.0
PRODID:-//Gringo Gazette - ECPv6.15.13.1//NONSGML v1.0//EN
CALSCALE:GREGORIAN
METHOD:PUBLISH
X-ORIGINAL-URL:https://gringogazette.com
X-WR-CALDESC:Events for Gringo Gazette
REFRESH-INTERVAL;VALUE=DURATION:PT1H
X-Robots-Tag:noindex
X-PUBLISHED-TTL:PT1H
BEGIN:VTIMEZONE
TZID:America/Mazatlan
BEGIN:STANDARD
TZOFFSETFROM:-0700
TZOFFSETTO:-0700
TZNAME:MST
DTSTART:20240101T000000
END:STANDARD
END:VTIMEZONE
BEGIN:VEVENT
DTSTART;TZID=America/Mazatlan:20260303T190000
DTEND;TZID=America/Mazatlan:20260303T210000
DTSTAMP:20260419T102942
CREATED:20260228T003511Z
LAST-MODIFIED:20260228T003511Z
UID:10000597-1772564400-1772571600@gringogazette.com
SUMMARY:Poetry and Dance in Resistance
DESCRIPTION:The Instituto de la Cultura y las Artes de Los Cabos presents a special edition of “Letras en Plenilunio” titled “Poetry and Dance in Resistance.” This cultural gathering blends spoken word and movement in a powerful artistic celebration under the full moon. \nThe evening will feature performances by Flamenco Duo Fusión and poet Mónica Sánchez\, along with four guest poets and an open mic segment. The program also includes special participation by students from a haiku workshop and reading club led by Salvador Alvarado\, as well as the folkloric ballet Yuramek\, directed by Javier Salazar. \nThe event will take place on Tuesday\, March 3 at 7:00 PM at the Explanada de Casa de Cultura. Admission is free. \n“Poetry and Dance in Resistance” offers a meaningful space for artistic expression\, community engagement\, and cultural reflection through the fusion of literature\, music\, and dance.
URL:https://gringogazette.com/event/poetry-and-dance-in-resistance/
LOCATION:Explanada del Cerrito del Timbre\, Cerrito Del Timbre\, Calle Mariano Matamoros 116\, Downtown\, Ildefonso Green\, Cabo San Lucas\, B.C.S.\, Cabo San lucas\, Baja California Sur\, 23450\, Mexico
CATEGORIES:Arts,Cabo San Lucas,Dance,Music,Poetry
ATTACH;FMTTYPE=image/png:https://gringogazette.com/wp-content/uploads/2026/02/Poesia-y-danza-en-resistencia.PNG
END:VEVENT
BEGIN:VEVENT
DTSTART;TZID=America/Mazatlan:20260205T200000
DTEND;TZID=America/Mazatlan:20260205T220000
DTSTAMP:20260419T102942
CREATED:20260205T021857Z
LAST-MODIFIED:20260205T021857Z
UID:10000281-1770321600-1770328800@gringogazette.com
SUMMARY:Nouvelle Vague
DESCRIPTION:The H. XV City Council of Los Cabos\, through the Institute of Culture and the Arts\, and in collaboration with Cinema Vagabundo\, proudly presents a special open-air film screening as part of its ongoing commitment to promoting culture\, cinema\, and community engagement \nThe featured film\, Nouvelle Vague\, is directed by the acclaimed filmmaker Richard Linklater. Produced in France (2026) with a running time of 105 minutes\, the film offers a reflective and artistic exploration of cinema\, creativity\, and the spirit of a transformative era in film history. Known for his thoughtful storytelling and intimate character-driven narratives\, Linklater delivers a work that pays homage to the passion\, rebellion\, and innovation that defined the Nouvelle Vague movement. \nThis screening is part of a broader effort to bring high-quality cultural experiences into public spaces\, encouraging community participation and appreciation for international cinema. Attendees are invited to enjoy a relaxed\, welcoming atmosphere that celebrates art\, dialogue\, and shared cultural experiences.
URL:https://gringogazette.com/event/nouvelle-vague/
LOCATION:Explanada del Cerrito del Timbre\, Cerrito Del Timbre\, Calle Mariano Matamoros 116\, Downtown\, Ildefonso Green\, Cabo San Lucas\, B.C.S.\, Cabo San lucas\, Baja California Sur\, 23450\, Mexico
CATEGORIES:Arts,Cabo San Lucas,Films,Relaxing,Theater
ATTACH;FMTTYPE=image/jpeg:https://gringogazette.com/wp-content/uploads/2026/02/Vague.jpg
END:VEVENT
BEGIN:VEVENT
DTSTART;TZID=America/Mazatlan:20251205T190000
DTEND;TZID=America/Mazatlan:20251205T220000
DTSTAMP:20260419T102942
CREATED:20251201T201754Z
LAST-MODIFIED:20251201T201754Z
UID:10000166-1764961200-1764972000@gringogazette.com
SUMMARY:Letters on a full moon
DESCRIPTION:The December full moon offers a unique spectacle! The Honorable XV City Council of Los Cabos\, through the Los Cabos Institute of Culture and Arts and in coordination with the “Prof. Nieves Trasviña de Ceseña” Cultural Center\, invites you to a magical\nnight under the stars and the full moon\, with the program “Letters at Full Moon\, Echoes of the Moon” in\nits special “Christmas” edition. Enjoy Poetry\, Music\, and Dance under the moonlight.  \nWe will be joined by CETUS\, the Los Cabos Astronomical Society\, where we will have the opportunity\nto observe the stars through a TELESCOPE!
URL:https://gringogazette.com/event/letters-on-a-full-moon/
LOCATION:Explanada del Cerrito del Timbre\, Cerrito Del Timbre\, Calle Mariano Matamoros 116\, Downtown\, Ildefonso Green\, Cabo San Lucas\, B.C.S.\, Cabo San lucas\, Baja California Sur\, 23450\, Mexico
CATEGORIES:Arts,Cabo San Lucas,Christmas,Dance,Music,Poetry
ATTACH;FMTTYPE=image/jpeg:https://gringogazette.com/wp-content/uploads/2025/12/588710999_17992440359854684_3472095130416514351_n.jpg
END:VEVENT
END:VCALENDAR