BEGIN:VCALENDAR
VERSION:2.0
PRODID:-//Gringo Gazette - ECPv6.15.13.1//NONSGML v1.0//EN
CALSCALE:GREGORIAN
METHOD:PUBLISH
X-ORIGINAL-URL:https://gringogazette.com
X-WR-CALDESC:Events for Gringo Gazette
REFRESH-INTERVAL;VALUE=DURATION:PT1H
X-Robots-Tag:noindex
X-PUBLISHED-TTL:PT1H
BEGIN:VTIMEZONE
TZID:America/Mazatlan
BEGIN:STANDARD
TZOFFSETFROM:-0700
TZOFFSETTO:-0700
TZNAME:MST
DTSTART:20240101T000000
END:STANDARD
END:VTIMEZONE
BEGIN:VEVENT
DTSTART;TZID=America/Mazatlan:20251103T180000
DTEND;TZID=America/Mazatlan:20251103T210000
DTSTAMP:20260421T024318
CREATED:20251031T201333Z
LAST-MODIFIED:20251031T201333Z
UID:10000106-1762192800-1762203600@gringogazette.com
SUMMARY:Watercolor Mondays at Casa Fandango
DESCRIPTION:Come and treat yourself to an afternoon of flow\, creation\, and letting color guide you.\n\nIn this session\, the hummingbird will be our symbol: messenger of dreams\, joy\, and freedom.\nFlow with the water\, paint with your soul\, and let art heal you.
URL:https://gringogazette.com/event/watercolor-mondays-at-casa-fandango/
LOCATION:Casa Fandango\, Esq. Antonio\, Lerdo de Tejada\, A. Mijares\, Zona Central\, La Paz\, B.C.S.\, La Paz\, Baja California Sur\, 23000\, Mexico
CATEGORIES:Arts,La Paz,Relaxing
ATTACH;FMTTYPE=image/jpeg:https://gringogazette.com/wp-content/uploads/2025/10/574067731_122177604914470229_5927580888450015381_n.jpg
END:VEVENT
BEGIN:VEVENT
DTSTART;TZID=America/Mazatlan:20250913T203000
DTEND;TZID=America/Mazatlan:20250913T203000
DTSTAMP:20260421T024318
CREATED:20250910T221524Z
LAST-MODIFIED:20250910T221524Z
UID:10000020-1757795400-1757795400@gringogazette.com
SUMMARY:La gozancia cubana
DESCRIPTION:A special night to enjoy live music\, Cuban salsa\, and let yourself be carried away by the rhythm.
URL:https://gringogazette.com/event/la-gozancia-cubana/
LOCATION:Casa Fandango\, Esq. Antonio\, Lerdo de Tejada\, A. Mijares\, Zona Central\, La Paz\, B.C.S.\, La Paz\, Baja California Sur\, 23000\, Mexico
CATEGORIES:Beer,La Paz,Music
ATTACH;FMTTYPE=image/jpeg:https://gringogazette.com/wp-content/uploads/2025/09/LA-GOZANCIA-CUBANA.jpg
END:VEVENT
END:VCALENDAR