BEGIN:VCALENDAR
VERSION:2.0
PRODID:-//Gringo Gazette - ECPv6.15.13.1//NONSGML v1.0//EN
CALSCALE:GREGORIAN
METHOD:PUBLISH
X-ORIGINAL-URL:https://gringogazette.com
X-WR-CALDESC:Events for Gringo Gazette
REFRESH-INTERVAL;VALUE=DURATION:PT1H
X-Robots-Tag:noindex
X-PUBLISHED-TTL:PT1H
BEGIN:VTIMEZONE
TZID:America/Mazatlan
BEGIN:STANDARD
TZOFFSETFROM:-0700
TZOFFSETTO:-0700
TZNAME:MST
DTSTART:20250101T000000
END:STANDARD
END:VTIMEZONE
BEGIN:VEVENT
DTSTART;TZID=America/Mazatlan:20260517T080000
DTEND;TZID=America/Mazatlan:20260524T170000
DTSTAMP:20260420T063843
CREATED:20260102T095949Z
LAST-MODIFIED:20260102T095949Z
UID:10000215-1779004800-1779642000@gringogazette.com
SUMMARY:High Street Band – Music Week Celebration
DESCRIPTION:Join the High Street Band for a week-long celebration of live music\, dancing\, and entertainment from May 17 to May 24\, 2026. Known for their high-energy performances and wide range of classic hits and party favorites\, the band creates an unforgettable atmosphere for concertgoers of all ages. Expect themed musical nights\, beachside parties\, and festival-style experiences showcasing everything from Motown and dance tunes to classic rock and R&B. Whether you’re an avid dancer or just love great live music\, this week promises fun\, rhythm\, and memories under the sun and stars.
URL:https://gringogazette.com/event/high-street-band-music-week-celebration/
ATTACH;FMTTYPE=image/jpeg:https://gringogazette.com/wp-content/uploads/2026/01/optimizada_1920x1080-HSB26.jpg
END:VEVENT
END:VCALENDAR