BEGIN:VCALENDAR
VERSION:2.0
PRODID:-//Gringo Gazette - ECPv6.15.13.1//NONSGML v1.0//EN
CALSCALE:GREGORIAN
METHOD:PUBLISH
X-WR-CALNAME:Gringo Gazette
X-ORIGINAL-URL:https://gringogazette.com
X-WR-CALDESC:Events for Gringo Gazette
REFRESH-INTERVAL;VALUE=DURATION:PT1H
X-Robots-Tag:noindex
X-PUBLISHED-TTL:PT1H
BEGIN:VTIMEZONE
TZID:America/Mazatlan
BEGIN:STANDARD
TZOFFSETFROM:-0700
TZOFFSETTO:-0700
TZNAME:MST
DTSTART:20250101T000000
END:STANDARD
END:VTIMEZONE
BEGIN:VEVENT
DTSTART;TZID=America/Mazatlan:20260612T080000
DTEND;TZID=America/Mazatlan:20260612T170000
DTSTAMP:20260424T170255
CREATED:20260203T204552Z
LAST-MODIFIED:20260203T204552Z
UID:10000278-1781251200-1781283600@gringogazette.com
SUMMARY:Festival Fantástico Baja California Sur 2026
DESCRIPTION:Festival Fantástico BCS 2026 is a dynamic community arts event celebrating creativity\, environmental awareness\, and cultural heritage in Baja California Sur. Now in its third edition\, the festival invites artists\, community groups\, schools and creative teams to design and build monumental sculptures called “Tewales”—large public art pieces made with at least 80% recycled or reused materials. \nThe 2026 theme focuses on air as a vital environmental element\, encouraging participants to explore sustainability\, collective responsibility\, and respect for nature through art. Selected teams collaborate in workshops\, design and build phases from March through May\, culminating in a public parade and exhibition of sculptures on June 12\, 2026\, with a free concert as part of the cultural program. \nOrganized by Alumbra Innovations Foundation in partnership with Ándale La Paz\, A.C.\, the festival promotes ecological thought\, artistic innovation\, and community participation in Baja California Sur’s rich biocultural landscape.
URL:https://gringogazette.com/event/festival-fantastico-baja-california-sur-2026/
LOCATION:La Paz\, La paz\, Mexico
ATTACH;FMTTYPE=image/jpeg:https://gringogazette.com/wp-content/uploads/2026/02/Festival-Tewales.jpg
END:VEVENT
BEGIN:VEVENT
DTSTART;TZID=America/Mazatlan:20260613T140000
DTEND;TZID=America/Mazatlan:20260613T233000
DTSTAMP:20260424T170255
CREATED:20260413T181300Z
LAST-MODIFIED:20260413T181300Z
UID:10000761-1781359200-1781393400@gringogazette.com
SUMMARY:9th Paella Festival 2026
DESCRIPTION:The 9th Paella Festival is a culinary event and competition organized by the Rotary Club Los Cabos and the Los Cabos Hotel Association. This festival brings together some of the best hotel chefs in the region to showcase and compete with their finest paella creations. \nThe event will take place on Saturday\, June 13 at 2:00 PM at the Hilton Los Cabos. Guests will have the opportunity to taste a wide variety of delicious paellas while enjoying a vibrant and social atmosphere. \nThis is also a charity event\, with proceeds supporting a scholarship program. Admission is a donation of $87 dollars per person\, and the event will continue until food runs out. \nThe festival offers a unique blend of gastronomy\, community\, and philanthropy\, making it a must-attend experience for food lovers in Los Cabos.
URL:https://gringogazette.com/event/9th-paella-festival-2026/
LOCATION:Hilton Los Cabos\, Carr. Transpeninsular\, Tourist Corridor\, Cabo San Lucas\, B.C.S.\, Cabo San lucas\, Baja California Sur\, 23400\, Mexico
CATEGORIES:Baja California Sur,Cabo San Lucas,Contest,Cooking,Food,Food & wine,Hotel
ATTACH;FMTTYPE=image/jpeg:https://gringogazette.com/wp-content/uploads/2026/04/festival-de-Paellas-num-9.jpeg
END:VEVENT
END:VCALENDAR