BEGIN:VCALENDAR
VERSION:2.0
PRODID:-//Gringo Gazette - ECPv6.15.13.1//NONSGML v1.0//EN
CALSCALE:GREGORIAN
METHOD:PUBLISH
X-ORIGINAL-URL:https://gringogazette.com
X-WR-CALDESC:Events for Gringo Gazette
REFRESH-INTERVAL;VALUE=DURATION:PT1H
X-Robots-Tag:noindex
X-PUBLISHED-TTL:PT1H
BEGIN:VTIMEZONE
TZID:America/Mazatlan
BEGIN:STANDARD
TZOFFSETFROM:-0700
TZOFFSETTO:-0700
TZNAME:MST
DTSTART:20250101T000000
END:STANDARD
END:VTIMEZONE
BEGIN:VEVENT
DTSTART;TZID=America/Mazatlan:20260501T110000
DTEND;TZID=America/Mazatlan:20260504T160000
DTSTAMP:20260421T175501
CREATED:20260203T073244Z
LAST-MODIFIED:20260203T073244Z
UID:10000274-1777633200-1777910400@gringogazette.com
SUMMARY:Focus Foundations 2026 Retreat – Cabo | Le Blanc Resort
DESCRIPTION:An exclusive retreat experience hosted by Focus Foundations at Le Blanc Resort in Cabo. Taking place from May 1–3\, 2026\, this retreat offers a carefully curated agenda that combines relaxation\, reflection\, and meaningful connection in a luxury beachfront setting. \nThe program includes a welcome cocktail reception\, guided philosophy sessions by the pool\, and a full day at sea aboard a charter yacht with water activities\, drinks\, and light bites. Designed for participants seeking balance\, inspiration\, and a refined retreat experience\, this event provides an intimate atmosphere with limited availability.
URL:https://gringogazette.com/event/focus-foundations-2026-retreat-cabo-le-blanc-resort/
LOCATION:Le Blanc Spa Resort Los Cabos All Inclusive Adults Only\, Carretera Transpeninsular San José del Cabo\, BCN 23405\, Los cabos\, Mexico
ATTACH;FMTTYPE=image/webp:https://gringogazette.com/wp-content/uploads/2026/02/image-2.webp
END:VEVENT
BEGIN:VEVENT
DTSTART;TZID=America/Mazatlan:20260505T170000
DTEND;TZID=America/Mazatlan:20260505T220000
DTSTAMP:20260421T175501
CREATED:20260403T080047Z
LAST-MODIFIED:20260403T080047Z
UID:10000670-1778000400-1778018400@gringogazette.com
SUMMARY:Mexican Night Kermés
DESCRIPTION:Every Tuesday\, join us at Los Tres Gallos San José del Cabo for an unforgettable Mexican Night inspired by a traditional kermés. \nEnjoy an evening full of color\, flavor\, and tradition:Authentic Mexican dishes and street-style snacksMargaritas\, mezcalitas\, and refreshing aguas frescasLive musicFun fair games and surprises for the whole family \nA festive\, authentic\, and delicious experience in the heart of San José del Cabo – Art District. \nReserve your table in advance. Limited seating available. \nContact number: (624) 261-31-01 \nCome with your family and friends and celebrate together!
URL:https://gringogazette.com/event/mexican-night-kermes/2026-05-05/
LOCATION:Los Tres Gallos SJD\, Los Tres Gallos SJD Álvaro Obregón 15\, gallery district San Jose del cabo\, BCS 23450\, San jose del cabo\, Select a State:\, 3405\, Mexico
CATEGORIES:San Jose del Cabo
ATTACH;FMTTYPE=image/png:https://gringogazette.com/wp-content/uploads/2026/04/Screenshot-2026-04-03-005936.png
ORGANIZER;CN="Los Tres Gallos SJD":MAILTO:info@lostresgallos.com
END:VEVENT
BEGIN:VEVENT
DTSTART;VALUE=DATE:20260507
DTEND;VALUE=DATE:20260510
DTSTAMP:20260421T175501
CREATED:20260309T201610Z
LAST-MODIFIED:20260310T182038Z
UID:10000614-1778112000-1778371199@gringogazette.com
SUMMARY:Viva El Gonzo
DESCRIPTION:Viva El Gonzo Music Festival is a vibrant multi-day music celebration taking place in San José del Cabo from May 7 to May 9\, 2026. The festival brings together an eclectic lineup of artists for an immersive musical experience that blends rock\, funk\, indie\, jam bands\, and experimental sounds. \nHeadlining the festival is Goose\, performing across three nights\, along with notable acts such as My Morning Jacket\, Cory Wong\, Jim James (in a special acoustic set)\, LP Giobbi\, The Disco Biscuits\, Leisure\, and many more performers including City of the Sun and Mikaela Davis. \nThe festival features a diverse program of live concerts\, collaborative performances\, and DJ sets\, creating a unique atmosphere where music lovers can discover new artists while enjoying performances from well-known international acts. With its colorful aesthetic and diverse lineup\, Viva El Gonzo offers an energetic celebration of live music and creative expression in the coastal setting of Los Cabos. \nFor more information\, visit vivaelgonzo.com.
URL:https://gringogazette.com/event/long-live-gonzo/
LOCATION:El Gonzo Sculpture Garden\, Jardin Escultorio Puerto Los cabos\, San Jose del Cabo\, B.C.S.\, San jose del Cabo\, Baja California Sur\, 23403\, Mexico
CATEGORIES:Concert,Festivals,Music,Party,San Jose del Cabo
ATTACH;FMTTYPE=image/png:https://gringogazette.com/wp-content/uploads/2026/03/viva-el-gonzo.PNG
END:VEVENT
BEGIN:VEVENT
DTSTART;TZID=America/Mazatlan:20260509T180000
DTEND;TZID=America/Mazatlan:20260509T200000
DTSTAMP:20260421T175501
CREATED:20260418T003446Z
LAST-MODIFIED:20260418T003446Z
UID:10000777-1778349600-1778356800@gringogazette.com
SUMMARY:The Corpse of Mr. Garcia Season Two - Play
DESCRIPTION:El Cadáver del Señor García” A Hilarious Black Comedy by Enrique Jardiel Poncela \nThe Escuela Estatal de Arte Teatral proudly presents the second season of the acclaimed theatrical production “El Cadáver del Señor García”\, a sharp and wildly entertaining black comedy by the legendary Spanish playwright Enrique Jardiel Poncela. \nAdapted and directed by Diego Carlón\, this fresh new staging brings the absurd\, witty\, and darkly humorous world of Jardiel Poncela to life with energy\, precision\, and a distinctly contemporary touch. \nThis production is part of the school’s commitment to professional training and bringing quality theater to the people of La Paz. With sharp dialogue\, physical comedy\, and impeccable timing\, “El Cadáver del Señor García” promises an evening of nonstop laughter and theatrical delight. \nWhether you’re a longtime theater lover or simply looking for a fun and clever night out\, this second season is not to be missed.
URL:https://gringogazette.com/event/the-corpse-of-mr-garcia-season-two-play/
LOCATION:Teatro de la Paz\, Antonio Navarro e/ Altamirano y H\, de Independencia Centro\, Zona Central\, 23000 La Paz\, B.C.S.\, La Paz\, Baja California Sur\, 23000\, Mexico
CATEGORIES:Acting,Baja California Sur,La Paz,Relaxing,Theater
ATTACH;FMTTYPE=image/jpeg:https://gringogazette.com/wp-content/uploads/2026/04/El-cadaver-del-Senor-garcia.jpg
END:VEVENT
END:VCALENDAR