BEGIN:VCALENDAR
VERSION:2.0
PRODID:-//Gringo Gazette - ECPv6.15.13.1//NONSGML v1.0//EN
CALSCALE:GREGORIAN
METHOD:PUBLISH
X-ORIGINAL-URL:https://gringogazette.com
X-WR-CALDESC:Events for Gringo Gazette
REFRESH-INTERVAL;VALUE=DURATION:PT1H
X-Robots-Tag:noindex
X-PUBLISHED-TTL:PT1H
BEGIN:VTIMEZONE
TZID:America/Mazatlan
BEGIN:STANDARD
TZOFFSETFROM:-0700
TZOFFSETTO:-0700
TZNAME:MST
DTSTART:20250101T000000
END:STANDARD
END:VTIMEZONE
BEGIN:VEVENT
DTSTART;TZID=America/Mazatlan:20260323T180000
DTEND;TZID=America/Mazatlan:20260323T200000
DTSTAMP:20260420T005859
CREATED:20260321T000514Z
LAST-MODIFIED:20260321T000514Z
UID:10000638-1774288800-1774296000@gringogazette.com
SUMMARY:Poetic Microphone
DESCRIPTION:The Honorable 15th City Council of Los Cabos\, through the Institute of Culture and the Arts\, in collaboration with the South Baja California Institute of Culture\, the “Prof. Francisca Monroy Vda. de Collins” House of Culture\, and the Miraflores Delegation\, invites you to an unforgettable evening of poetry and emotion: “Poetic Microphone. \n” Join us to celebrate World Poetry Day\, a day to reflect on the importance of words and art in our lives. Enjoy an evening filled with verses\, rhymes\, and feelings\, featuring local poets and our special guest\, Rebeca Gutiérrez Avilés. \nDon’t miss this opportunity to connect with poetry and community.
URL:https://gringogazette.com/event/poetic-microphone/
LOCATION:Casa de la Cultura Profesora Francisca Monroy Viuda de Collins\, Av. Unión 19\, Centro\,Miraflores\, Baja California Sur\, Los Cabos\, Baja California\, 23520\, Mexico
CATEGORIES:Culture,Los Cabos,Poetry,Relaxing
ATTACH;FMTTYPE=image/png:https://gringogazette.com/wp-content/uploads/2026/03/Microfono-poetico.PNG
END:VEVENT
BEGIN:VEVENT
DTSTART;TZID=America/Mazatlan:20260325T180000
DTEND;TZID=America/Mazatlan:20260325T200000
DTSTAMP:20260420T005859
CREATED:20260324T191258Z
LAST-MODIFIED:20260324T191258Z
UID:10000643-1774461600-1774468800@gringogazette.com
SUMMARY:Living the writings of my mind - Book presentation
DESCRIPTION:A special book presentation for “Viviendo los escritos de mi mente” by Gabriela Torres will take place on Wednesday\, March 25 at 6:00 PM in Cabo San Lucas\, at the Art Gallery “Cerrito del Timbre.” \nOrganized by the Instituto de la Cultura y las Artes de Los Cabos in collaboration with Casa de la Cultura\, this free event invites the public to discover the author’s work\, which explores personal thoughts\, emotions\, and reflections through writing. \nAttendees will have the opportunity to engage with the author\, learn about the inspiration behind the book\, and enjoy a cultural evening focused on literature and artistic expression in an intimate and welcoming setting.
URL:https://gringogazette.com/event/living-the-writings-of-my-mind-book-presentation/
LOCATION:Galeria de Arte Cerrito del timbre\, Centro\, Ildefonso Green\, Cabo San Lucas\, B.C.S.\, Cabo San lucas\, Baja California Sur\, 23470\, Mexico
CATEGORIES:Arts,Book Presentation,Cabo San Lucas,Gallery,Relaxing
ATTACH;FMTTYPE=image/png:https://gringogazette.com/wp-content/uploads/2026/03/viviendo-los-escritos-de-mi-mente.PNG
END:VEVENT
BEGIN:VEVENT
DTSTART;TZID=America/Mazatlan:20260325T180000
DTEND;TZID=America/Mazatlan:20260325T213000
DTSTAMP:20260420T005859
CREATED:20260318T192858Z
LAST-MODIFIED:20260318T192858Z
UID:10000635-1774461600-1774474200@gringogazette.com
SUMMARY:Just Like a Woman with Colleen Rennison
DESCRIPTION:Songs and stories of women in music who moved us\, changed us\, challenged us. One night only.
URL:https://gringogazette.com/event/just-like-a-woman-with-colleen-rennison/
LOCATION:Teatro Luna Azul\, Camino del Cielo Todos Santos\, BCS 23300\, Todos Santos\, BC\, Select a State:\, 23300\, Mexico
CATEGORIES:Todos Santos
ATTACH;FMTTYPE=image/webp:https://gringogazette.com/wp-content/uploads/2026/03/image-14.webp
END:VEVENT
BEGIN:VEVENT
DTSTART;TZID=America/Mazatlan:20260326T160000
DTEND;TZID=America/Mazatlan:20260326T180000
DTSTAMP:20260420T005859
CREATED:20260326T013402Z
LAST-MODIFIED:20260326T013402Z
UID:10000647-1774540800-1774548000@gringogazette.com
SUMMARY:World Theater Day Part 1
DESCRIPTION:As part of the celebration of World Theatre Day\, organized by the Instituto de la Cultura y las Artes de Los Cabos\, a special activity will take place on Thursday\, March 26 at the Casa de la Cultura Profa. Francisca Monroy Vda. de Collins. \nOn this day\, attendees can enjoy a children’s theater workshop titled “Let’s Play Theater”\, led by Osiris Reyes and Génesis Ramírez. The workshop is designed to introduce kids to the world of theater through fun\, interactive activities that encourage creativity\, expression\, and imagination. It is scheduled to begin at 4:00 PM. \nThis event is part of a larger cultural program running from March 26 to 29 and aims to promote the performing arts within the community. Admission is free\, making it an excellent opportunity for families and young participants to engage with theater in an accessible and enjoyable way.
URL:https://gringogazette.com/event/world-theater-day-part-1/
LOCATION:Casa de la Cultura Profesora Francisca Monroy Viuda de Collins\, Av. Unión 19\, Centro\,Miraflores\, Baja California Sur\, Los Cabos\, Baja California\, 23520\, Mexico
CATEGORIES:Acting,Arts,Los Cabos,Relaxing,Theater
ATTACH;FMTTYPE=image/png:https://gringogazette.com/wp-content/uploads/2026/03/dia-mundial-del-teatro.PNG
END:VEVENT
BEGIN:VEVENT
DTSTART;TZID=America/Mazatlan:20260326T183000
DTEND;TZID=America/Mazatlan:20260326T203000
DTSTAMP:20260420T005859
CREATED:20260206T222729Z
LAST-MODIFIED:20260206T222729Z
UID:10000551-1774549800-1774557000@gringogazette.com
SUMMARY:Kpop Warriors Tribute
DESCRIPTION: The K-Pop Warriors Tribute is a high-energy live performance that brings the power\, style\, and attitude of K-pop to the stage. This visually striking show blends dance\, music\, and theatrical elements\, inspired by the fierce aesthetics and choreography of K-pop culture. \nThe event takes place on Thursday\, March 26 at 6:30 PM at the Teatro de la Ciudad in La Paz\, Baja California Sur. The performance features strong female characters\, dynamic choreography\, and immersive visuals that create an exciting and modern stage experience for fans of pop culture and live entertainment. \nTickets will be available for purchase at the theater box office.An ideal event for K-pop fans and anyone looking to enjoy an energetic and visually powerful show.
URL:https://gringogazette.com/event/kpop-warriors-tribute/
LOCATION:Teatro de la Paz\, Antonio Navarro e/ Altamirano y H\, de Independencia Centro\, Zona Central\, 23000 La Paz\, B.C.S.\, La Paz\, Baja California Sur\, 23000\, Mexico
CATEGORIES:Acting,La Paz,Music,Theater
ATTACH;FMTTYPE=image/jpeg:https://gringogazette.com/wp-content/uploads/2026/02/Kpop-26.jpg
END:VEVENT
BEGIN:VEVENT
DTSTART;TZID=America/Mazatlan:20260327T090000
DTEND;TZID=America/Mazatlan:20260328T153000
DTSTAMP:20260420T005859
CREATED:20260129T051935Z
LAST-MODIFIED:20260129T051935Z
UID:10000239-1774602000-1774711800@gringogazette.com
SUMMARY:World Summit of Writers La Paz 2026
DESCRIPTION:2026 will mark a new era for international literature… And you can be a part of it. Two days surrounded by brilliant minds in writing at a historic venue overlooking the sea. You’ll experience a blend of knowledge\, inspiration\, extraordinary connections\, and an atmosphere that only La Paz can offer.  \nThis year\, nothing will be ordinary:  6 international speakers will address topics such as global literature\, publishing trends\, disruptive narrative\, artificial intelligence applied to art\, profound creativity\, and the future of writing.  High-Impact Workshops Professional Networking with authors\, editors\, agents\, and cultural managers  Official Recognitions  Open Mic for Emerging Talents  Book Signing Area\, Book Sales\, and Literary Exhibition  Literary Gala Ceremony  Gifts\, Surprises\, and Exclusive Content for the first 10 participants registered in December 2025.  “If writing is your passion… this event is your destination.” The La Paz 2026 World Writers Summit is not just another conference; it’s a meeting point for cultures\, ideas\, and dreams that deserves to be experienced to the fullest.
URL:https://gringogazette.com/event/world-summit-of-writers-la-paz-2026/
LOCATION:Centro cultural de la Paz\, Calle16 de Septiembre\, #120\, zona centro\, La Paz\, Baja California Sur\, 23000\, Mexico
CATEGORIES:Arts,Book Fair,La Paz,Relaxing
ATTACH;FMTTYPE=image/jpeg:https://gringogazette.com/wp-content/uploads/2026/01/Cumbre.jpg
END:VEVENT
BEGIN:VEVENT
DTSTART;TZID=America/Mazatlan:20260327T120000
DTEND;TZID=America/Mazatlan:20260327T140000
DTSTAMP:20260420T005859
CREATED:20260321T003105Z
LAST-MODIFIED:20260321T003105Z
UID:10000639-1774612800-1774620000@gringogazette.com
SUMMARY:Sacred Thresholds
DESCRIPTION:Sacred Thresholds: Masks\, Myths\, Magic\, and Tradition is a temporary exhibition that explores the cultural and symbolic significance of masks across different traditions. The exhibition presents a unique collection curated by Ignacio Gallardo Ballacey\, showcasing pieces that reflect ritual practices\, spiritual beliefs\, and artistic expression. \nThrough these masks\, visitors are invited to discover the stories\, myths\, and meanings behind their creation\, highlighting how they serve as bridges between the human and the sacred. The exhibition offers an immersive cultural experience that blends history\, anthropology\, and art. \nOrganized with the support of institutions such as the Instituto Nacional de Antropología e Historia and the Secretaría de Cultura\, this event is an opportunity to appreciate the richness of traditional craftsmanship and its deep-rooted cultural heritage.
URL:https://gringogazette.com/event/sacred-thresholds/
LOCATION:Museo Regional de Antropología e Historia de BCS\, Calle Ignacio Altamirano s/n\, Zona Central\, La Paz\, B.C.S.\, La Paz\, Baja California Sur\, 23000\, Mexico
CATEGORIES:Culture,Expo,History,La Paz,Museum,Relaxing,Tradition
ATTACH;FMTTYPE=image/jpeg:https://gringogazette.com/wp-content/uploads/2026/03/Umbrales-sagrados.jpg
END:VEVENT
BEGIN:VEVENT
DTSTART;TZID=America/Mazatlan:20260327T170000
DTEND;TZID=America/Mazatlan:20260327T190000
DTSTAMP:20260420T005859
CREATED:20260313T025358Z
LAST-MODIFIED:20260313T025358Z
UID:10000623-1774630800-1774638000@gringogazette.com
SUMMARY:I wish you knew - Documentary
DESCRIPTION:The documentary Ojalá Supieras will premiere on Friday\, March 27\, 2026\, at 5:00 PM at the Museo Regional de Antropología e Historia de Baja California Sur in La Paz. \nThis special screening will feature a presentation and discussion with several cultural and academic figures\, including Alejandra Gómez Colorado\, Hernán Taboada\, and Mehdi Mesmoudi. The event will be moderated by Luis Alberto Trasviña Moreno\, director of the museum\, with a welcome address by Alfredo Feria Cuevas\, director of the INAH Center in Baja California Sur. \nOrganized with the support of Instituto Nacional de Antropología e Historia (INAH) and cultural institutions from the region\, the event invites the public to explore the themes of the documentary through dialogue and reflection. Admission is free and open to the public.
URL:https://gringogazette.com/event/i-wish-you-knew-documentary/
LOCATION:Museo Regional de Antropología e Historia de BCS\, Calle Ignacio Altamirano s/n\, Zona Central\, La Paz\, B.C.S.\, La Paz\, Baja California Sur\, 23000\, Mexico
CATEGORIES:Documentary,History,La Paz,Museum
ATTACH;FMTTYPE=image/jpeg:https://gringogazette.com/wp-content/uploads/2026/03/Ojala-supieras.jpg
END:VEVENT
BEGIN:VEVENT
DTSTART;TZID=America/Mazatlan:20260327T170000
DTEND;TZID=America/Mazatlan:20260327T193000
DTSTAMP:20260420T005859
CREATED:20260304T080126Z
LAST-MODIFIED:20260304T080126Z
UID:10000604-1774630800-1774639800@gringogazette.com
SUMMARY:International Literature & Cultural Diplomacy Forum
DESCRIPTION:he event “Diálogos Culturales por Naciones” is an international gathering focused on literature and cultural diplomacy. Titled the Salón Internacional de Literatura y Diplomacia Cultural\, it brings together different countries to promote intercultural dialogue\, artistic exchange\, and global understanding through literary expression. \nThis edition features participation from Spain\, El Salvador\, Georgia\, Mexico\, and Côte d’Ivoire\, representing diverse cultural perspectives. The program highlights four thematic stations\, each dedicated to a different national voice\, encouraging conversation and collaboration among attendees. \nThe event will take place on March 27\, 2026\, from 5:00 p.m. to 7:30 p.m.\, and admission is free and open to the public. It is designed as an inclusive cultural space that celebrates international connections through literature and diplomacy
URL:https://gringogazette.com/event/international-literature-cultural-diplomacy-forum/
LOCATION:Centro cultural de la Paz\, Calle16 de Septiembre\, #120\, zona centro\, La Paz\, Baja California Sur\, 23000\, Mexico
CATEGORIES:Culture,La Paz
END:VEVENT
BEGIN:VEVENT
DTSTART;TZID=America/Mazatlan:20260327T170000
DTEND;TZID=America/Mazatlan:20260327T220000
DTSTAMP:20260420T005859
CREATED:20260327T034902Z
LAST-MODIFIED:20260327T034902Z
UID:10000648-1774630800-1774648800@gringogazette.com
SUMMARY:World Theater Day Part 2
DESCRIPTION:As part of the World Theatre Day celebrations\, organized by the Instituto de la Cultura y las Artes de Los Cabos\, a full day of theatrical activities will take place on Friday\, March 27 at Plaza Antonio Mijares. \nThe program begins at 5:00 PM with a puppet theater workshop\, led by the group Por Letras en Escena BCS under the direction of Elisa Lieras Puls. This interactive activity invites attendees to explore storytelling through puppetry. \nAt 7:00 PM\, the stage will feature the play “Hazú”\, performed by the Municipal Theater Workshop of Los Cabos and directed by Francisco Barragán. The evening concludes at 8:00 PM with a musical theater performance of “Don Quixote”\, presented by the Gran Ohana group from COBACH Plantel 02\, directed by Julio César Trigueros. \nThis day offers a rich combination of workshops and live performances\, celebrating theater in its many forms. Admission is free\, making it an accessible cultural experience for the entire community.
URL:https://gringogazette.com/event/world-theater-day-part-2/
LOCATION:Plaza Antonio Mijares\, Blvd. Antonio Mijares\, Centro\, San José del Cabo\, B.C.S.\, San jose del cabo\, Baja California Sur\, 23400\, Mexico
CATEGORIES:Acting,Arts,Culture,San Jose del Cabo,Theater,Workshop
ATTACH;FMTTYPE=image/png:https://gringogazette.com/wp-content/uploads/2026/03/dia-mundial-del-teatro.PNG
END:VEVENT
BEGIN:VEVENT
DTSTART;TZID=America/Mazatlan:20260328T110000
DTEND;TZID=America/Mazatlan:20260328T123000
DTSTAMP:20260420T005859
CREATED:20260323T193646Z
LAST-MODIFIED:20260323T193646Z
UID:10000641-1774695600-1774701000@gringogazette.com
SUMMARY:Art Workshop Little Brushes of Baja California Sur
DESCRIPTION:“Art and Nature Workshop” is a creative activity organized as part of the Pincelitos Sudcalifornianos program at the Museo de Arte de Baja California Sur. \nThis workshop invites participants especially children and families to explore the relationship between art and the natural environment. Using materials inspired by nature\, such as leaves\, textures\, and organic colors\, attendees will create their own artistic pieces while learning about creativity\, observation\, and environmental appreciation. \nHosted with the support of the Instituto Sudcaliforniano de Cultura\, the event promotes artistic expression and cultural engagement in a fun\, hands-on setting. \nWorkshop registration only via telephone: 612-129-4176
URL:https://gringogazette.com/event/art-workshop-little-brushes-of-baja-california-sur/
LOCATION:Museo de Arte de BCS\, Cl. 5 de Mayo SN-S"BANCO VITAL"\, Zona Central\, La Paz\, B.C.S.\, La Paz\, Baja California Sur\, Cl. 5 de Mayo SN-S"BANCO VITAL"\, Zona Central\, 23000 La Paz\, B.C.S.\, Mexico
CATEGORIES:Arts,La Paz,Museum,Relaxing,Workshop
ATTACH;FMTTYPE=image/jpeg:https://gringogazette.com/wp-content/uploads/2026/03/taller-arte-y-naturaleza.jpg
END:VEVENT
BEGIN:VEVENT
DTSTART;TZID=America/Mazatlan:20260328T170000
DTEND;TZID=America/Mazatlan:20260328T220000
DTSTAMP:20260420T005859
CREATED:20260327T035601Z
LAST-MODIFIED:20260327T035601Z
UID:10000649-1774717200-1774735200@gringogazette.com
SUMMARY:World Theater Day Part 3
DESCRIPTION:As part of the World Theatre Day celebrations organized by the Instituto de la Cultura y las Artes de Los Cabos\, activities on Saturday\, March 28 will take place at Cerrito del Timbre\, offering an engaging mix of workshops and live performances. \nThe day begins at 5:00 PM with a puppet theater workshop\, led by Por Letras en Escena BCS and directed by Elisa Lieras Puls\, providing a creative and interactive experience for attendees interested in storytelling through puppetry. \nAt 7:00 PM\, the audience can enjoy the theatrical performance “Día Risa Te De”\, presented by the UABCS Theater Company under the direction of Juan Matehuala. Later\, at 8:00 PM\, the event concludes with a community dialogue and gathering\, bringing together members of the local theater community for reflection\, exchange\, and celebration. \nThis day highlights both artistic expression and community connection\, making it a meaningful part of the festival. Admission is free\, and all are welcome to attend.
URL:https://gringogazette.com/event/world-theater-day-part-3/
LOCATION:Cerrito del Timbre delegacion\, Cerrito Del Timbre\, Calle Mariano Matamoros 116\, Downtown\, Ildefonso Green\, Cabo San Lucas\, B.C.S.\, Cabo San lucas\, Baja California Sur\, 23450\, Mexico
CATEGORIES:Acting,Arts,Cabo San Lucas,Culture,Festivals,Theater
ATTACH;FMTTYPE=image/png:https://gringogazette.com/wp-content/uploads/2026/03/dia-mundial-del-teatro.PNG
END:VEVENT
BEGIN:VEVENT
DTSTART;TZID=America/Mazatlan:20260328T210000
DTEND;TZID=America/Mazatlan:20260328T230000
DTSTAMP:20260420T005859
CREATED:20260324T192044Z
LAST-MODIFIED:20260324T192044Z
UID:10000644-1774731600-1774738800@gringogazette.com
SUMMARY:Tribute to Soda Stereo and Cerati
DESCRIPTION:Tributo a Soda Stereo & Cerati  “3 de Ellos” from Argentina A Spectacular 4-Night Tribute to Two Icons of Latin Rock \nGet ready for an unforgettable musical journey as the acclaimed Argentine band “3 de Ellos” brings their powerful tribute to Soda Stereo and Gustavo Cerati to Baja California Sur for four special nights in March 2026. \nThis high-energy show faithfully recreates the sound\, energy\, and emotion of two legendary artists who defined a generation. Expect to hear all the classic hits from Soda Stereo (“De Música Ligera”\, “Persiana Americana”\, “Cuando Pase el Temblor”\, “En la Ciudad de la Furia”\, etc.) plus Gustavo Cerati’s solo masterpieces (“Crimen”\, “Puente”\, “Bocanada”\, “Adiós”\, etc.) performed with incredible precision and passion. \nThis is your chance to experience the magic of Soda Stereo and Gustavo Cerati live once again  through the passionate and talented musicians of “3 de Ellos” straight from Argentina.
URL:https://gringogazette.com/event/tribute-to-soda-stereo-and-cerati/
LOCATION:La cantina Choyera\, Carretera Transpeninsular km 37.7\, Col.Aplicación Zacatal\, Al lado del Soriana de San Jose Viejo\, San José del Cabo\, B.C.S.\, San jose del Cabo\, Baja California Sur\, 23436\, Mexico
CATEGORIES:Concert,Dance,Music,Party,San Jose del Cabo
ATTACH;FMTTYPE=image/jpeg:https://gringogazette.com/wp-content/uploads/2026/03/tributo-a-soda-y-cerati.jpg
END:VEVENT
BEGIN:VEVENT
DTSTART;TZID=America/Mazatlan:20260328T210000
DTEND;TZID=America/Mazatlan:20260328T230000
DTSTAMP:20260420T005859
CREATED:20260327T231512Z
LAST-MODIFIED:20260327T231512Z
UID:10000653-1774731600-1774738800@gringogazette.com
SUMMARY:Carin Leon At Los Cabos
DESCRIPTION:The unstoppable regional Mexican superstar Carín León is bringing his highly anticipated Tour México 2026 to Los Cabos for one unforgettable night! \nDate: Saturday\, March 28\, 2026 \nKnown for his powerful voice\, charismatic stage presence\, and genre-blending style that fuses traditional regional Mexican music with rock\, pop\, and corridos\, Carín León has become one of the most important voices in contemporary Latin music. His hits like “El Tóxico”\, “Primera Cita”\, “Aclarando”\, “No Es Por Acá”\, and many more have dominated charts across Mexico and the United States. \nExpect a vibrant\, emotional\, and celebratory atmosphere as thousands of fans gather under the night sky at the iconic Explanada Madcons to sing along with one of Mexico’s biggest stars. \nTickets: Available now at UTicket.mx \nThis is a must-see event for fans of regional Mexican music\, corridos\, and anyone who loves powerful live performances. Whether you’re a longtime supporter or discovering Carín León for the first time\, this concert in Cabo San Lucas is set to be one of the biggest musical highlights of 2026 in Baja California Sur.
URL:https://gringogazette.com/event/carin-leon-at-los-cabos/
LOCATION:Explanada Madcons\, Lomas Altas\, Colonia El Progreso\, 23472 Cabo San Lucas\, B.C.S.\, Los cabos\, Mexico
CATEGORIES:Concert,Dance,Los Cabos,Music,Party
ATTACH;FMTTYPE=image/jpeg:https://gringogazette.com/wp-content/uploads/2026/03/Carin-leon.jpg
END:VEVENT
BEGIN:VEVENT
DTSTART;TZID=America/Mazatlan:20260329T160000
DTEND;TZID=America/Mazatlan:20260329T190000
DTSTAMP:20260420T005859
CREATED:20260327T040235Z
LAST-MODIFIED:20260327T040235Z
UID:10000650-1774800000-1774810800@gringogazette.com
SUMMARY:World Theater Day Final Part
DESCRIPTION:The World Theatre Day celebrations\, organized by the Instituto de la Cultura y las Artes de Los Cabos\, conclude on Sunday\, March 29 with a vibrant closing program at Parque Villas de Cortés. \nThe final day begins at 4:00 PM with a theatrical games workshop\, led by Puentes de Juego and directed by Chiara Sandretti\, offering a fun and interactive experience that encourages creativity and participation. \nAt 5:00 PM\, attendees can enjoy the play “El Sueño de la Chureya”\, performed by the Gaby and Gabriela Pérez Puppet Theater Group\, bringing storytelling to life through imaginative puppetry. The festival then closes at 6:00 PM with the musical theater performance “Somos Cósmicos”\, presented by Erimar Teatro and directed by Erika Reyes. \nThis closing day combines playful learning\, artistic expression\, and live performance\, providing a memorable finale to the celebration. Admission is free\, inviting the entire community to take part in this cultural event.
URL:https://gringogazette.com/event/world-theater-day-final-part/
LOCATION:Parque Villas de Cortez\, Blvd. Villa de Oropesa\, Villas de Cortéz\, Vista Hermosa\, San José del Cabo\, B.C.S\, San jose del Cabo\, Baja California Sur\, 23427\, Mexico
CATEGORIES:Acting,Arts,Culture,Festivals,Music,San Jose del Cabo,Theater
ATTACH;FMTTYPE=image/png:https://gringogazette.com/wp-content/uploads/2026/03/dia-mundial-del-teatro.PNG
END:VEVENT
BEGIN:VEVENT
DTSTART;TZID=America/Mazatlan:20260329T190000
DTEND;TZID=America/Mazatlan:20260329T210000
DTSTAMP:20260420T005859
CREATED:20260310T193243Z
LAST-MODIFIED:20260310T193243Z
UID:10000619-1774810800-1774818000@gringogazette.com
SUMMARY:Noche Romántica - Piano Recital
DESCRIPTION:The Honorable XV City Council of Los Cabos\, through the Institute of Culture and the Arts\, and the “Prof. Alfredo Green González” House of Culture\, invites you to immerse yourself in an evening of music and romance with the piano recital “Romantic Night.”  \nThe renowned pianist Jonathan Orozco\, accompanied by the incredible voices of Yudith Ascencio\, Ana Lilia\, Ericka Chávez\, Karina Ramos\, and Rey David\, will take you on a journey through the most emotive and passionate melodies of the romantic repertoire. Enjoy an unforgettable evening of music and emotion in the welcoming setting of the House of Culture in San José del Cabo.
URL:https://gringogazette.com/event/noche-romantica-piano-recital/
LOCATION:Foro de la Casa de la Cultura de San José del Cabo\, Centro\, San José del Cabo\, B.C.S.\, San jose del Cabo\, Baja California Sur\, 23400\, Mexico
CATEGORIES:Culture,Music,Recital,San Jose del Cabo
ATTACH;FMTTYPE=image/png:https://gringogazette.com/wp-content/uploads/2026/03/Recital-de-piano.PNG
END:VEVENT
END:VCALENDAR