BEGIN:VCALENDAR
VERSION:2.0
PRODID:-//Gringo Gazette - ECPv6.15.13.1//NONSGML v1.0//EN
CALSCALE:GREGORIAN
METHOD:PUBLISH
X-WR-CALNAME:Gringo Gazette
X-ORIGINAL-URL:https://gringogazette.com
X-WR-CALDESC:Events for Gringo Gazette
REFRESH-INTERVAL;VALUE=DURATION:PT1H
X-Robots-Tag:noindex
X-PUBLISHED-TTL:PT1H
BEGIN:VTIMEZONE
TZID:America/Mazatlan
BEGIN:STANDARD
TZOFFSETFROM:-0700
TZOFFSETTO:-0700
TZNAME:MST
DTSTART:20240101T000000
END:STANDARD
END:VTIMEZONE
BEGIN:VEVENT
DTSTART;TZID=America/Mazatlan:20251201T080000
DTEND;TZID=America/Mazatlan:20260131T170000
DTSTAMP:20260423T222525
CREATED:20251205T040944Z
LAST-MODIFIED:20251205T040944Z
UID:10000176-1764576000-1769878800@gringogazette.com
SUMMARY:12th Baja California Sur Visual Arts Biennial Exhibition
DESCRIPTION:Experience a diverse showcase of contemporary visual art at the 12th Baja California Sur Visual Arts Biennial Exhibition. This event highlights outstanding works in both three-dimensional forms—such as sculpture\, installation\, and objects—and two-dimensional techniques\, including painting\, drawing\, and graphic art. Featuring creations from talented regional artists\, the exhibition offers a unique opportunity to explore fresh perspectives and artistic expressions. Free admission allows everyone to enjoy this cultural celebration throughout December 2025 and January 2026 at the Carlos Olachea Bouciéguez Art Gallery.
URL:https://gringogazette.com/event/12th-baja-california-sur-visual-arts-biennial-exhibition/
LOCATION:Galería de Arte Carlos Olachea Bouciéguez\, Antonio Navarro entre Altamirano y H. de Independencia\, Colonia Centro\, La Paz\, Baja California Sur.\, La Paz\, Baja California Sur\, Mexico
ATTACH;FMTTYPE=image/jpeg:https://gringogazette.com/wp-content/uploads/2025/12/594604235_1177031477938460_4065447321370569420_n.jpg
END:VEVENT
BEGIN:VEVENT
DTSTART;TZID=America/Mazatlan:20251227T100000
DTEND;TZID=America/Mazatlan:20251230T233000
DTSTAMP:20260423T222525
CREATED:20251223T060518Z
LAST-MODIFIED:20251223T060518Z
UID:10000205-1766829600-1767137400@gringogazette.com
SUMMARY:The Window Grom Fest 2025
DESCRIPTION:GromFest is a vibrant\, youth-focused wind sports championship held in La Ventana\, Baja California Sur. Designed for young athletes ages 8–19\, the event celebrates the next generation of riders in an exciting\, fun\, and competitive environment. Participants compete in kiteboarding\, wingfoiling\, and parawing\, showcasing their skills in one of the world’s premier wind sports destinations. \nPresented by World Class Academy\, GromFest brings together top brands\, professional instructors\, and an energetic community to support and inspire young riders. Beyond the competitions\, the festival atmosphere includes DJ music\, food trucks\, merchandise\, and family-friendly activities\, making it an unforgettable experience for athletes and spectators alike. \nTaking place from December 27–30\, 2025\, GromFest is more than a championship—it’s a celebration of progression\, community\, and the passion for wind sports in La Ventana.
URL:https://gringogazette.com/event/the-window-grom-fest-2025/
LOCATION:Playa Central\, Corredor Isla Cerralvo s/n\, La Ventana\, B.C.S.\, La Paz\, Baja California Sur\, 23232\, Mexico
CATEGORIES:Beer,Concert,Festivals,La Paz,Music,Party
ATTACH;FMTTYPE=image/webp:https://gringogazette.com/wp-content/uploads/2025/12/Gromfest-2025-01-scaled-1.webp
END:VEVENT
BEGIN:VEVENT
DTSTART;TZID=America/Mazatlan:20251229T170000
DTEND;TZID=America/Mazatlan:20260101T000000
DTSTAMP:20260423T222525
CREATED:20251202T041108Z
LAST-MODIFIED:20251202T041108Z
UID:10000168-1767027600-1767225600@gringogazette.com
SUMMARY:Astronomy Music Art Wellness Festival
DESCRIPTION:This event brings together astronomy\, music\, art\, and wellness in a unique multi-day experience. Set from December 29th to January 1st\, the gathering features performances and appearances by artists such as Bora Uzér\, Omri\, Yamaguucci\, Danger Foley\, Earthtones\, Gavlak\, Golden\, María Nocheydia\, and Tommy Raffa. Special live presentations by Jo.Ke & Billy Mendrix\, Bear Kittay\, and the El Ganzo Collective also highlight the lineup\, creating an immersive atmosphere for attendees throughout the New Year celebration.
URL:https://gringogazette.com/event/astronomy-music-art-wellness-festival/
LOCATION:Hotel el ganzo\, Boulevard Tiburon s/n La Playa\, 23403 San José del Cabo\, B.C.S.\, San jose del cabo\, Select a State:\, 3405\, Mexico
ATTACH;FMTTYPE=image/png:https://gringogazette.com/wp-content/uploads/2025/12/Screenshot-2025-12-01-195825.png
END:VEVENT
BEGIN:VEVENT
DTSTART;VALUE=DATE:20251231
DTEND;VALUE=DATE:20260101
DTSTAMP:20260423T222525
CREATED:20251218T055557Z
LAST-MODIFIED:20251218T055557Z
UID:10000201-1767139200-1767225599@gringogazette.com
SUMMARY:New Years at La Terraza 2025
DESCRIPTION:Spend the last night of 2025 in an unforgettable celebration with a sophisticated multi-course dinner\, live music\, champagne toasts\, cold fireworks display\, and a joyful atmosphere right on the Malecón. This is the perfect place to gather with family or friends to say goodbye to the year and welcome the new one with delicious food and pure happiness. \nThis is one of the most anticipated New Year’s Eve dinners in La Paz. Tables are limited and they sell out quickly every year. Book today so you don’t miss the chance to celebrate 2026 with incredible food\, music and fireworks in the heart of the city.
URL:https://gringogazette.com/event/new-years-at-la-terraza-2025/
LOCATION:Terraza La Choperia\, Paseo Álvaro Obregón 15\, Zona Comercial\, La Paz\, B.C.S\, La Paz\, Baja California Sur\, 23000\, Mexico
CATEGORIES:Beer,Food & wine,La Paz
ATTACH;FMTTYPE=image/jpeg:https://gringogazette.com/wp-content/uploads/2025/12/600304401_1500051218243570_5694473235592674796_n.jpg
END:VEVENT
BEGIN:VEVENT
DTSTART;TZID=America/Mazatlan:20251231T170000
DTEND;TZID=America/Mazatlan:20251231T220000
DTSTAMP:20260423T222525
CREATED:20251216T005451Z
LAST-MODIFIED:20251216T005451Z
UID:10000196-1767200400-1767218400@gringogazette.com
SUMMARY:New Year’s Eve 2026 at Don Sanchez
DESCRIPTION:Welcome the New Year with an elegant culinary celebration at Don Sanchez. This special New Year’s Eve experience offers a refined dining atmosphere designed to celebrate the arrival of 2026 in style. Guests may enjoy a thoughtfully curated dinner\, with the option to enhance the evening through a premium Mexican wine pairing. A perfect setting for those seeking a sophisticated and memorable way to toast to the new year.
URL:https://gringogazette.com/event/new-years-eve-2026-at-don-sanchez/
LOCATION:Don Sánchez restaurant\, Blvd. Antonio Mijares 27\, Centro\, Blvd. Antonio Mijares 27\, Centro\, San José del Cabo\, BCS 23400\, San jose del cabo\, Select a State:\, 3405\, Mexico
ATTACH;FMTTYPE=image/png:https://gringogazette.com/wp-content/uploads/2025/12/ano-nuevo2025v-INSTA-ESPANOL_74FB68B2-1F46-4E75-91593CB4A504833B_5dde8070-781e-42a2-82b840e13608b162.png
ORGANIZER;CN="Don S%C3%A1nchez restaurant":MAILTO:prelenirabadan@gmail.com
END:VEVENT
BEGIN:VEVENT
DTSTART;TZID=America/Mazatlan:20251231T220000
DTEND;TZID=America/Mazatlan:20260101T000000
DTSTAMP:20260423T222525
CREATED:20251214T042952Z
LAST-MODIFIED:20251214T042952Z
UID:10000188-1767218400-1767225600@gringogazette.com
SUMMARY:Celebrate 2026 – Rooftop 360
DESCRIPTION:Welcome the new year with an elevated celebration under the stars\, surrounded by stunning 360° views. This rooftop experience blends a sophisticated atmosphere with music\, lights\, and an energetic vibe designed to make the countdown unforgettable. Enjoy a night of rhythm and celebration as the year changes\, creating the perfect setting to toast new beginnings in style.
URL:https://gringogazette.com/event/celebrate-2026-rooftop-360/
LOCATION:Corazon Cabo Resort\, Pelicanos 225\, El Medano Ejidal\, 23453 Cabo San Lucas\, B.C.S.\, Los cabos\, Mexico
ATTACH;FMTTYPE=image/png:https://gringogazette.com/wp-content/uploads/2025/12/e184e9d81c3cef785fbc792e93f895cfb077075de1f2097c.png
END:VEVENT
END:VCALENDAR