BEGIN:VCALENDAR
VERSION:2.0
PRODID:-//Gringo Gazette - ECPv6.15.13.1//NONSGML v1.0//EN
CALSCALE:GREGORIAN
METHOD:PUBLISH
X-WR-CALNAME:Gringo Gazette
X-ORIGINAL-URL:https://gringogazette.com
X-WR-CALDESC:Events for Gringo Gazette
REFRESH-INTERVAL;VALUE=DURATION:PT1H
X-Robots-Tag:noindex
X-PUBLISHED-TTL:PT1H
BEGIN:VTIMEZONE
TZID:America/Mazatlan
BEGIN:STANDARD
TZOFFSETFROM:-0700
TZOFFSETTO:-0700
TZNAME:MST
DTSTART:20240101T000000
END:STANDARD
END:VTIMEZONE
BEGIN:VEVENT
DTSTART;VALUE=DATE:20251114
DTEND;VALUE=DATE:20251217
DTSTAMP:20260420T103826
CREATED:20251023T050928Z
LAST-MODIFIED:20251023T050928Z
UID:10000081-1763078400-1765929599@gringogazette.com
SUMMARY:Expo CMIC
DESCRIPTION:The most anticipated event in Baja California Sur is fast approaching\, and excitement is building across the entire construction industry! EXPOCONSTRUCCIÓN BCS 2025 brings together the region’s most influential companies\, innovative technologies\, and top business leaders for three days that will shape the future of construction in Mexico. \nThree Days That Will Change Everything: \nStrategic networking opportunities \nInnovative technologies and trends \nGrowth and collaboration possibilities \nHigh-level business connections \nBe part of the event that everyone will remember EXPOCONSTRUCCIÓN BCS 2025\, where the future of the construction industry is built.
URL:https://gringogazette.com/event/expo-cmic/
LOCATION:Centro de convenciones Bcs\, La Paz B.C.S\, La Paz\, Baja California Sur\, 23019\, Mexico
CATEGORIES:Expo,La Paz
ATTACH;FMTTYPE=image/jpeg:https://gringogazette.com/wp-content/uploads/2025/10/535558449_122140597160806053_6648478128685243191_n.jpg
END:VEVENT
BEGIN:VEVENT
DTSTART;TZID=America/Mazatlan:20251201T080000
DTEND;TZID=America/Mazatlan:20260131T170000
DTSTAMP:20260420T103826
CREATED:20251205T040944Z
LAST-MODIFIED:20251205T040944Z
UID:10000176-1764576000-1769878800@gringogazette.com
SUMMARY:12th Baja California Sur Visual Arts Biennial Exhibition
DESCRIPTION:Experience a diverse showcase of contemporary visual art at the 12th Baja California Sur Visual Arts Biennial Exhibition. This event highlights outstanding works in both three-dimensional forms—such as sculpture\, installation\, and objects—and two-dimensional techniques\, including painting\, drawing\, and graphic art. Featuring creations from talented regional artists\, the exhibition offers a unique opportunity to explore fresh perspectives and artistic expressions. Free admission allows everyone to enjoy this cultural celebration throughout December 2025 and January 2026 at the Carlos Olachea Bouciéguez Art Gallery.
URL:https://gringogazette.com/event/12th-baja-california-sur-visual-arts-biennial-exhibition/
LOCATION:Galería de Arte Carlos Olachea Bouciéguez\, Antonio Navarro entre Altamirano y H. de Independencia\, Colonia Centro\, La Paz\, Baja California Sur.\, La Paz\, Baja California Sur\, Mexico
ATTACH;FMTTYPE=image/jpeg:https://gringogazette.com/wp-content/uploads/2025/12/594604235_1177031477938460_4065447321370569420_n.jpg
END:VEVENT
BEGIN:VEVENT
DTSTART;TZID=America/Mazatlan:20251208T170000
DTEND;TZID=America/Mazatlan:20251208T200000
DTSTAMP:20260420T103826
CREATED:20251205T215820Z
LAST-MODIFIED:20251205T215820Z
UID:10000178-1765213200-1765224000@gringogazette.com
SUMMARY:Christmas Carol Contest 2025
DESCRIPTION:Hosted by: State Cultural Center of Baja California Sur “Mtro. J. Armando Manríquez Manríquez” \nJoin the festive spirit at the annual Christmas Carol Contest\, where choirs from across the state come together to perform traditional holiday songs. \nWho can participate? \nAll choirs from the state of Baja California Sur\, whether representing an educational institution or participating independently.Participants must perform three Christmas carols. \nRegistration \nAt the State Cultural Center of BCS (La Paz).Those who live outside the city may request a registration form via email:📩 ca****************@*****il.com🗓️ Registration deadline: December 5th \nPrizes \n🏆 1st Place: $15\,000 MXN🥈 2nd Place: $10\,000 MXN🥉 3rd Place: $5\,000 MXN \nCategory Youth/Adults (16 years and older)
URL:https://gringogazette.com/event/christmas-carol-contest-2025/
LOCATION:Teatro de la Paz\, Antonio Navarro e/ Altamirano y H\, de Independencia Centro\, Zona Central\, 23000 La Paz\, B.C.S.\, La Paz\, Baja California Sur\, 23000\, Mexico
CATEGORIES:Christmas,Festivals,La Paz,Music
ATTACH;FMTTYPE=image/jpeg:https://gringogazette.com/wp-content/uploads/2025/12/594860709_1179038027737805_1803172991446707844_n.jpg
END:VEVENT
BEGIN:VEVENT
DTSTART;VALUE=DATE:20251210
DTEND;VALUE=DATE:20251215
DTSTAMP:20260420T103826
CREATED:20251117T202032Z
LAST-MODIFIED:20251117T202032Z
UID:10000133-1765324800-1765756799@gringogazette.com
SUMMARY:Los Cabos International Film Festival
DESCRIPTION:From December 10 to 14\, the Los Cabos International Film Festival  marks its 13th edition\, reaffirming its status as one of Mexico’s most significant film events and a key platform that bridges cinema with creative industries\, visual arts\, music\, and the local community. \nGuided by its #BeyondTheScreen vision\, the festival expands the traditional movie-going experience with outdoor screenings\, masterclasses\, live performances\, art installations\, and conversations with filmmakers from around the world. For five days\, Puerto Los Cabos becomes a vibrant setting where film interacts with the region’s landscape\, the unique biodiversity of Baja\, and emerging global storytelling trends. \nThis year’s lineup features tributes\, premieres\, retrospectives\, live music\, immersive activities\, and special screenings—strengthening FICLosCabos’ role as a meeting point for creativity\, place-based culture\, and sustainability.
URL:https://gringogazette.com/event/los-cabos-international-film-festival/
LOCATION:Puerto Los Cabos\, 38FX+R5\, San José del Cabo\, B.C.S.\, San jose del Cabo\, Baja California Sur\, 23403\, Mexico
CATEGORIES:Acting,Arts,Festivals,Films,San Jose del Cabo
ATTACH;FMTTYPE=image/png:https://gringogazette.com/wp-content/uploads/2025/11/festival-internacional-de-cine-de-los-cabos.png
END:VEVENT
BEGIN:VEVENT
DTSTART;TZID=America/Mazatlan:20251210T170000
DTEND;TZID=America/Mazatlan:20251210T200000
DTSTAMP:20260420T103826
CREATED:20251121T203047Z
LAST-MODIFIED:20251121T203047Z
UID:10000147-1765386000-1765396800@gringogazette.com
SUMMARY:Christmas Concert 2025
DESCRIPTION:Celebrate the Season at the OSABCS 2025 Christmas Concert!Join the Baja California Sur State Orchestra as they commemorate their 45th anniversary with a festive holiday performance. This special Christmas concert will feature delightful seasonal music and the participation of special guest ensembles: Coro Romance and the Youth Choir of the State Music School. \nEnjoy an evening filled with warmth\, harmony\, and the spirit of the holidays.
URL:https://gringogazette.com/event/christmas-concert-2025/
LOCATION:Sala de Conciertos La Paz\, José María Morelos y Pavón 1055\, Colina de la Cruz\, La Paz\, B.C.S.\, La Paz\, Baja California Sur\, 23020\, Mexico
CATEGORIES:Concert,La Paz,Music
ATTACH;FMTTYPE=image/jpeg:https://gringogazette.com/wp-content/uploads/2025/11/586286485_1167789252196016_1692056835837791517_n.jpg
END:VEVENT
BEGIN:VEVENT
DTSTART;VALUE=DATE:20251211
DTEND;VALUE=DATE:20251215
DTSTAMP:20260420T103826
CREATED:20251020T085023Z
LAST-MODIFIED:20251124T123425Z
UID:10000077-1765411200-1765756799@gringogazette.com
SUMMARY:Baja Surf Stomp: Surf Music Excursion 2025
DESCRIPTION:The Baja Surf Stomp: SURF MUSIC EXCURSION 2025 is an exciting surf music event\, touring various destinations in Baja California Sur: La Ventana\, Todos Santos\, Playa Los Cerritos\, and La Paz. This musical experience will feature live performances by THE MEXICAN WEIRDOH’S\, THE STRINGS AFLAME\, KASSAMA\, and THE MURDANS. \nThe event schedule is as follows: \nDAY 1: LA VENTANA – THURSDAY\, DECEMBER 11\, 2025 \nDAY 2: ALL SAINTS – FRIDAY\, DECEMBER 12\, 2025 \nDAY 3: PLAYA LOS CERRITOS – SATURDAY\, DECEMBER 13\, 2025 \nDAY 4: LA PAZ – SUNDAY\, DECEMBER 14\, 2025 \nThis is an ideal experience for lovers of surf music and the unique landscapes of Baja California Sur.
URL:https://gringogazette.com/event/baja-surf-stomp-surf-music-excursion-2025/
LOCATION:Catedral de Nuestra Señora de La Paz\, Catedral de Nuestra Señora de La Paz\, Avenida Revolución de 1910\, La Paz Centro\, 23000 La Paz\, BCS\, México\, La paz\, Baja California Sur\, Mexico
CATEGORIES:La Paz
ATTACH;FMTTYPE=image/jpeg:https://gringogazette.com/wp-content/uploads/2025/10/517680120_748810921173670_8417857169991034209_n.jpg
ORGANIZER;CN="Baja Surf Stomp":MAILTO:bajasurfstomp@gmail.com
END:VEVENT
BEGIN:VEVENT
DTSTART;TZID=America/Mazatlan:20251211T170000
DTEND;TZID=America/Mazatlan:20251211T223000
DTSTAMP:20260420T103826
CREATED:20251204T203748Z
LAST-MODIFIED:20251204T203748Z
UID:10000174-1765472400-1765492200@gringogazette.com
SUMMARY:The Kermesse 4th Edition
DESCRIPTION:Casa Fandango presents the 4th Edition of La Kermés!Join the fun on December 11\, from 5:00 PM to 10:30 PM\, for an evening full of color\, creativity\, and community vibes. \nEnjoy live music featuring Relax and Brinx/DJ Remix\, plus a special dance performance by NaNa. Explore a lively mix of food\, desserts\, mitote\, clothing\, accessories\, and much more! \nThis festive kermés brings together art\, music\, dance\, and local vendors for a unique celebration you won’t want to miss. \nThis year’s fair is special. In support of our community\, the fair will be a fundraiser\, accepting voluntary donations for the cancer treatment of Sandra Icela Hampl Quiroz\, mother of our dear friend and musician Lalo Hampl. Your presence makes a difference\, your help matters.
URL:https://gringogazette.com/event/the-kermesse-4th-edition/
LOCATION:Casa Fandango\, Esq. Antonio\, Lerdo de Tejada\, A. Mijares\, Zona Central\, La Paz\, B.C.S.\, La Paz\, Baja California Sur\, 23000\, Mexico
CATEGORIES:Beer,Dance,La Paz,Music,Party
ATTACH;FMTTYPE=image/jpeg:https://gringogazette.com/wp-content/uploads/2025/12/594554220_122181949628470229_3986929567491646155_n.jpg
END:VEVENT
BEGIN:VEVENT
DTSTART;TZID=America/Mazatlan:20251212T180000
DTEND;TZID=America/Mazatlan:20251212T200000
DTSTAMP:20260420T103826
CREATED:20251202T195036Z
LAST-MODIFIED:20251202T195036Z
UID:10000169-1765562400-1765569600@gringogazette.com
SUMMARY:The Corpse of Mr. Garcia
DESCRIPTION:The State Theater Art School presents \nEl cadáver del Señor García A play by Enrique Jardiel Poncela Adaptation and direction: Diego Carlón \nDate: Friday\, December 12\, 2025 Time: Two performances  6:00 PM and 8:00 PM Venue: Teatro de la Ciudad (La Paz\, BCS) Address: Antonio Navarro Esq. Altamirano y H. de Independencia\, Col. Centro\, La Paz\, Baja California Sur \nA classic Spanish black comedy filled with absurd humor\, mistaken identities\, and farcical situations surrounding a supposedly dead man who may not be as dead as everyone thinks! \nPresented in collaboration with the Instituto Sudcaliforniano de Cultura and the Government of Baja California Sur. \nA great theater night in La Paz don’t miss it!
URL:https://gringogazette.com/event/the-corpse-of-mr-garcia/
LOCATION:Teatro de la Paz\, Antonio Navarro e/ Altamirano y H\, de Independencia Centro\, Zona Central\, 23000 La Paz\, B.C.S.\, La Paz\, Baja California Sur\, 23000\, Mexico
CATEGORIES:Acting,Films,La Paz
ATTACH;FMTTYPE=image/jpeg:https://gringogazette.com/wp-content/uploads/2025/12/593739845_1360712135514273_738963051873462640_n.jpg
END:VEVENT
BEGIN:VEVENT
DTSTART;TZID=America/Mazatlan:20251213T130000
DTEND;TZID=America/Mazatlan:20251213T200000
DTSTAMP:20260420T103826
CREATED:20251209T221842Z
LAST-MODIFIED:20251209T221842Z
UID:10000181-1765630800-1765656000@gringogazette.com
SUMMARY:Christmas at The Shoppes at Palmilla
DESCRIPTION:Get ready for a magical holiday afternoon at The Shoppes at Palmilla as they host a joyful Christmas Celebration filled with festive activities for families\, children\, and visitors of all ages. \nThe event will feature a charming Christmas Bazaar with local vendors offering handcrafted gifts\, seasonal treats\, art\, accessories\, and unique holiday finds—perfect for your Christmas shopping. \nEnjoy a delightful Christmas Show full of holiday spirit\, music\, and fun entertainment that will bring the season to life. \nAnd of course\, the highlight of the celebration: a special photo session with Santa! Children and families will have the chance to meet Santa Claus and capture a memorable holiday moment.
URL:https://gringogazette.com/event/christmas-at-the-shoppes-at-palmilla/
LOCATION:The Shoppes at Palmilla\, Carr. Transp. KM 27.5 S/N Palmilla\, San José del Cabo\, B.C.S.\, San jose del Cabo\, Baja California Sur\, 23406\, Mexico
CATEGORIES:Christmas,Festivals,Music,San Jose del Cabo
ATTACH;FMTTYPE=image/jpeg:https://gringogazette.com/wp-content/uploads/2025/12/586721121_17979246587940764_7276442652683485058_n.jpg
END:VEVENT
BEGIN:VEVENT
DTSTART;TZID=America/Mazatlan:20251213T163000
DTEND;TZID=America/Mazatlan:20251213T203000
DTSTAMP:20260420T103826
CREATED:20251211T000955Z
LAST-MODIFIED:20251211T000955Z
UID:10000183-1765643400-1765657800@gringogazette.com
SUMMARY:Loreto’s Art Alley Fifth Edition 2025
DESCRIPTION:Celebrate the holiday season with creativity and community at the 5th Edition of Loreto’s Art Alley\, a charming cultural event held in the heart of Loreto\, Baja California Sur\, Mexico. \nSet along the picturesque Callejón Romanita\, this festive art walk brings together a wonderful selection of local guest artists\, showcasing their work in a warm\, inviting Christmas atmosphere. Visitors can stroll through the decorated alley\, discover unique art pieces\, handmade crafts\, seasonal creations\, and meet the talented artists who give life to Loreto’s vibrant art scene. \nEnjoy an afternoon filled with color\, creativity\, and holiday spirit perfect for families\, tourists\, and anyone looking to experience local culture while supporting regional talent. \nCome be part of this festive celebration and discover the artistic soul of Loreto during a magical holiday evening.
URL:https://gringogazette.com/event/loretos-art-alley-fifth-edition-2025/
LOCATION:Callejon Romanita\, Centro Loreto\, B.C.S.\, Loreto\, Baja California Sur\, 23880\, Mexico
CATEGORIES:Arts,Christmas,Loreto
ATTACH;FMTTYPE=image/jpeg:https://gringogazette.com/wp-content/uploads/2025/12/597223594_879931964548736_2543587038580319448_n.jpg
END:VEVENT
BEGIN:VEVENT
DTSTART;TZID=America/Mazatlan:20251213T203000
DTEND;TZID=America/Mazatlan:20251213T213000
DTSTAMP:20260420T103826
CREATED:20251120T204814Z
LAST-MODIFIED:20251124T124127Z
UID:10000145-1765657800-1765661400@gringogazette.com
SUMMARY:Christmas in Cabo - A Classical Contemporary Experience
DESCRIPTION:Experience the warmth of the holiday season with Andoreni Erazo as he presents a captivating mix of classical and modern music at Christmas in Cabo. Enjoy an enchanting night of heartfelt performances in the center of San José del Cabo—perfect for welcoming the festive mood. \nThe evening will feature a remarkable string trio with Andoreni Erazo\, Bernardo Izcalli\, and Jen Simone\, performing on violin\, guitar\, and cello. Allow the expressive sound of these instruments to immerse you in a rich\, uplifting musical journey. \nJoin us for this special holiday concert—you won’t want to miss it!
URL:https://gringogazette.com/event/christmas-in-cabo-a-classical-contemporary-experience/
LOCATION:Mision San Jose del Cabo Centro\, Miguel Hidalgo S/N\, Gallery District\, Centro\, San José del Cabo\, B.C.S.\, San jose del Cabo\, Baja California Sur\, 23400\, Mexico
CATEGORIES:Christmas,Relaxing,San Jose del Cabo
ATTACH;FMTTYPE=image/jpeg:https://gringogazette.com/wp-content/uploads/2025/11/https___cdnevbuc_com_images_1170927610_2983334357288_1_original.jpg
END:VEVENT
BEGIN:VEVENT
DTSTART;TZID=America/Mazatlan:20251214T150000
DTEND;TZID=America/Mazatlan:20251214T180000
DTSTAMP:20260420T103826
CREATED:20251208T220156Z
LAST-MODIFIED:20251208T220156Z
UID:10000179-1765724400-1765735200@gringogazette.com
SUMMARY:Feeding Los Cabos Kids 2025
DESCRIPTION:Experience a warm and joyful holiday celebration while supporting a meaningful cause at the Feeding Los Cabos Kids Christmas Fiesta 2025. This festive afternoon brings together community members\, visitors\, and supporters to raise funds that help provide meals to children in need throughout Los Cabos. \nThe event features a vibrant Christmas atmosphere filled with entertainment and holiday spirit. Guests can enjoy a Silent Basket Auction\, where beautifully arranged themed baskets will be available for bidding\, offering unique gifts and experiences just in time for the season. \nAdding to the festive mood\, there will be live music performed by The Lucy Three\, a group known for their energetic and engaging performances\, ensuring a fun and lively environment for all attendees. \nTicket includes: \nA delicious Mexican taco buffet \nA 10% discount on all beverages throughout the entire day at the venue \nAccess to all entertainment and auction activities \nThis Christmas Fiesta is more than just a holiday event — it’s an opportunity to make a real difference. All proceeds help support Feeding Los Cabos Kids\, an organization dedicated to providing meals and hope to local children and their families.
URL:https://gringogazette.com/event/feeding-los-cabos-kids-2025/
LOCATION:Cabo San Lucas Country Club\, Carretera Transpeninsular CSL-SJC Km. 3.7 Mza\, Cabo San lucas\, Baja California Sur\, 23463\, Mexico
CATEGORIES:Cabo San Lucas,Christmas,Festivals,Music,Party
ATTACH;FMTTYPE=image/jpeg:https://gringogazette.com/wp-content/uploads/2025/12/WhatsApp-Image-2025-12-08-at-123429_64850a70.jpg
END:VEVENT
END:VCALENDAR