BEGIN:VCALENDAR
VERSION:2.0
PRODID:-//Gringo Gazette - ECPv6.15.13.1//NONSGML v1.0//EN
CALSCALE:GREGORIAN
METHOD:PUBLISH
X-ORIGINAL-URL:https://gringogazette.com
X-WR-CALDESC:Events for Gringo Gazette
REFRESH-INTERVAL;VALUE=DURATION:PT1H
X-Robots-Tag:noindex
X-PUBLISHED-TTL:PT1H
BEGIN:VTIMEZONE
TZID:America/Mazatlan
BEGIN:STANDARD
TZOFFSETFROM:-0700
TZOFFSETTO:-0700
TZNAME:MST
DTSTART:20240101T000000
END:STANDARD
END:VTIMEZONE
BEGIN:VEVENT
DTSTART;VALUE=DATE:20251110
DTEND;VALUE=DATE:20251117
DTSTAMP:20260421T211805
CREATED:20250905T120237Z
LAST-MODIFIED:20250905T120237Z
UID:10000008-1762732800-1763337599@gringogazette.com
SUMMARY:58th SCORE Baja 1000
DESCRIPTION:The SCORE Baja 1000\, often hailed as the “Mother of all Desert Races\,” is the crown jewel of off-road racing. It’s a grueling\, high-octane test of endurance\, skill\, and machinery—where racers tackle approximately 1\,000 miles across the rugged and unpredictable terrain of the Baja California Peninsula. Held annually\, this iconic race draws elite teams from across the globe—ranging from factory-backed squads with custom Trophy Trucks to grassroots competitors in buggies\, motorcycles\, and side-by-sides—all vying for glory in the world’s most prestigious desert racing event   . \nSince its inception in 1967\, the Baja 1000 has become legendary not only for the sheer scale and toughness of the course but also for its storied legacy. The event has seen participation from famous names like Paul Newman\, Steve McQueen\, and modern racing legends including Nasser Al-Attiyah and Ken Block   . \nKey Details\n\n\n** Dates:** November 10–16\, 2025   \n\n\n** Location:** Course starts and finishes in Ensenada\, Baja California\, looping around the peninsula
URL:https://gringogazette.com/event/58th-score-baja-1000/
LOCATION:Ensenada\, Ensenada\, Baja California\, Mexico
CATEGORIES:Race
ATTACH;FMTTYPE=image/jpeg:https://gringogazette.com/wp-content/uploads/2025/09/score1000.jpg
END:VEVENT
BEGIN:VEVENT
DTSTART;TZID=America/Mazatlan:20251112T073000
DTEND;TZID=America/Mazatlan:20251112T213000
DTSTAMP:20260421T211805
CREATED:20251103T213536Z
LAST-MODIFIED:20251103T213536Z
UID:10000108-1762932600-1762983000@gringogazette.com
SUMMARY:Film club at Casa Fandango: A better world
DESCRIPTION:Stories that celebrate life\, struggle\, and hope await you at our screenings. \nCome enjoy cinema\, good company\, and the unique atmosphere of Casa Fandango semanales.\nFeaturing: A better World
URL:https://gringogazette.com/event/film-club-at-casa-fandango-a-better-world/
LOCATION:Casa Fandango\, Esq. Antonio\, Lerdo de Tejada\, A. Mijares\, Zona Central\, La Paz\, B.C.S.\, La Paz\, Baja California Sur\, 23000\, Mexico
CATEGORIES:Beer,Films,La Paz
ATTACH;FMTTYPE=image/jpeg:https://gringogazette.com/wp-content/uploads/2025/11/MV5BZGNjMWQ0M2QtODIwNi00MWQ2LTlhMTEtZWIyNDJiMDBlODkyXkEyXkFqcGc_V1_.jpg
END:VEVENT
BEGIN:VEVENT
DTSTART;TZID=America/Mazatlan:20251113T190000
DTEND;TZID=America/Mazatlan:20251113T210000
DTSTAMP:20260421T211805
CREATED:20251110T205729Z
LAST-MODIFIED:20251110T205729Z
UID:10000119-1763060400-1763067600@gringogazette.com
SUMMARY:Checkmate 2025
DESCRIPTION:Get ready for an unforgettable evening of dance and artistry with Jaque Mate 2025\, presented by Anna Pavlova Dance Studio. Under the direction of Fernanda Bautista and Lupita Cano\, this performance promises to captivate the audience with elegance\, creativity\, and emotion.
URL:https://gringogazette.com/event/checkmate-2025/
LOCATION:Teatro de la Paz\, Antonio Navarro e/ Altamirano y H\, de Independencia Centro\, Zona Central\, 23000 La Paz\, B.C.S.\, La Paz\, Baja California Sur\, 23000\, Mexico
CATEGORIES:Acting,Films,La Paz
ATTACH;FMTTYPE=image/jpeg:https://gringogazette.com/wp-content/uploads/2025/11/578400041_1343817710537049_372844835132098171_n.jpg
END:VEVENT
BEGIN:VEVENT
DTSTART;TZID=America/Mazatlan:20251113T190000
DTEND;TZID=America/Mazatlan:20251113T213000
DTSTAMP:20260421T211805
CREATED:20251111T202631Z
LAST-MODIFIED:20251111T202631Z
UID:10000121-1763060400-1763069400@gringogazette.com
SUMMARY:With the flavor of Cuban trova
DESCRIPTION:A concert that promises to transport you to the island of enchantment with the voice of Liliana \ndel Conde and Carlos Rivas\, accompanied by the masterful music of Odin Ramírez on piano\, \nJuan Ochoa on guitar\, Eduardo Hernández on percussion\, Roberto Montaño on drums and \nJosé Ángel García Borrego on bass.
URL:https://gringogazette.com/event/with-the-flavor-of-cuban-trova/
LOCATION:Sala de Conciertos La Paz\, José María Morelos y Pavón 1055\, Colina de la Cruz\, La Paz\, B.C.S.\, La Paz\, Baja California Sur\, 23020\, Mexico
CATEGORIES:Concert,La Paz,Music
ATTACH;FMTTYPE=image/jpeg:https://gringogazette.com/wp-content/uploads/2025/11/580576527_1159677106340564_1002196057789962577_n.jpg
END:VEVENT
BEGIN:VEVENT
DTSTART;TZID=America/Mazatlan:20251113T200000
DTEND;TZID=America/Mazatlan:20251113T230000
DTSTAMP:20260421T211805
CREATED:20251106T202324Z
LAST-MODIFIED:20251106T202324Z
UID:10000113-1763064000-1763074800@gringogazette.com
SUMMARY:HA-ASH TRIBUTE
DESCRIPTION:Join us at La Lupita Rock Café in La Paz\, MX\, for an epic HA-ASH Tribute Night on Thursday\, November 13th! \nExperience the magic of HA-ASH brought to life by an incredible lineup of performers: Grettel\, Duna\, Yahir\, Paul\, Martin\, and Álvaro. Get ready for a night filled with your favorite hits\, high energy\, and authentic country-rock vibes under the stars.
URL:https://gringogazette.com/event/ha-ash-tribute/
LOCATION:La Lupita Rock Cafe\, C. Francisco I. Madero 1438\, Zona Comercial\, 23000 La Paz\, B.C.S.\, La paz\, Baja California Sur\, Mexico
CATEGORIES:Beer,La Paz,Music
ATTACH;FMTTYPE=image/jpeg:https://gringogazette.com/wp-content/uploads/2025/11/577059664_845331288005082_7702655322177813668_n.jpg
END:VEVENT
BEGIN:VEVENT
DTSTART;VALUE=DATE:20251114
DTEND;VALUE=DATE:20251117
DTSTAMP:20260421T211805
CREATED:20250909T034611Z
LAST-MODIFIED:20250909T043924Z
UID:10000015-1763078400-1763337599@gringogazette.com
SUMMARY:Cabos Jazz Festival
DESCRIPTION:Cabos Jazz Festival is a musical event held annually in San José del Cabo and Cabo San Lucas\, designed for an adult audience who enjoy music in an elegant and relaxed atmosphere. \nIt brings together international and national jazz artists—from classical styles to contemporary fusions—on beachfront stages\, in resorts\, and at local plazas. In addition to concerts\, it often includes gastronomic experiences\, wine tastings\, and cultural activities\, making it an attractive event for both foreign tourists and local residents looking for a sophisticated experience. \nA sophisticated yet relaxed jazz event\, ideal for music lovers under the stars
URL:https://gringogazette.com/event/cabos-jazz-festival/
LOCATION:GR Solaris Lighthouse\, San José del Cabo\, P.º Malecon San Jose 9\, Zona Hotelera\, 23400 San José del Cabo\, B.C.S.\, Los cabos\, Baja California Sur\, Mexico
CATEGORIES:Arts,Festivals
ATTACH;FMTTYPE=image/jpeg:https://gringogazette.com/wp-content/uploads/2025/09/atardecer-jazz-e1757519387218.jpg
ORGANIZER;CN="Raquel Rocha":MAILTO:info@cabojazzfest.com
END:VEVENT
BEGIN:VEVENT
DTSTART;VALUE=DATE:20251114
DTEND;VALUE=DATE:20251117
DTSTAMP:20260421T211806
CREATED:20250919T034508Z
LAST-MODIFIED:20250919T034508Z
UID:10000050-1763078400-1763337599@gringogazette.com
SUMMARY:Triatlón Loreto Nomadix Banorte
DESCRIPTION:A sporting event that combines endurance disciplines in a unique natural setting. It stands out for its adventure format and the comprehensive experience it offers participants\, bringing together sport\, nature\, and coexistence in a single setting. \nMore than 120 km spread across three disciplines and three unforgettable days. Two nights in fully equipped camps\, surrounded by nature\, stars\, and a community of athletes seeking more than a medal: a transformation. \n(The price varies from $680 to $612).
URL:https://gringogazette.com/event/triatlon-loreto-nomadix-banorte/
LOCATION:Loreto\, 26°00'42.3"N 111°20'51.9"W\, Loreto\, Baja California Sur\, Mexico
CATEGORIES:Loreto,Race
ATTACH;FMTTYPE=image/jpeg:https://gringogazette.com/wp-content/uploads/2025/09/triatlon_0.jpg
END:VEVENT
BEGIN:VEVENT
DTSTART;VALUE=DATE:20251114
DTEND;VALUE=DATE:20251217
DTSTAMP:20260421T211806
CREATED:20251023T050928Z
LAST-MODIFIED:20251023T050928Z
UID:10000081-1763078400-1765929599@gringogazette.com
SUMMARY:Expo CMIC
DESCRIPTION:The most anticipated event in Baja California Sur is fast approaching\, and excitement is building across the entire construction industry! EXPOCONSTRUCCIÓN BCS 2025 brings together the region’s most influential companies\, innovative technologies\, and top business leaders for three days that will shape the future of construction in Mexico. \nThree Days That Will Change Everything: \nStrategic networking opportunities \nInnovative technologies and trends \nGrowth and collaboration possibilities \nHigh-level business connections \nBe part of the event that everyone will remember EXPOCONSTRUCCIÓN BCS 2025\, where the future of the construction industry is built.
URL:https://gringogazette.com/event/expo-cmic/
LOCATION:Centro de convenciones Bcs\, La Paz B.C.S\, La Paz\, Baja California Sur\, 23019\, Mexico
CATEGORIES:Expo,La Paz
ATTACH;FMTTYPE=image/jpeg:https://gringogazette.com/wp-content/uploads/2025/10/535558449_122140597160806053_6648478128685243191_n.jpg
END:VEVENT
BEGIN:VEVENT
DTSTART;TZID=America/Mazatlan:20251114T200000
DTEND;TZID=America/Mazatlan:20251114T220000
DTSTAMP:20260421T211806
CREATED:20251114T153211Z
LAST-MODIFIED:20251114T153211Z
UID:10000128-1763150400-1763157600@gringogazette.com
SUMMARY:Heartbreak Divas
DESCRIPTION:A night filled with powerful voices\, bold emotions\, and an atmosphere that celebrates strength\, confidence\, and a little bit of attitude. Surrounded by vibrant neon tones and dynamic visuals\, the stage becomes a space where passion and empowerment take the spotlight. The energy is electric—groups of women singing their hearts out\, a mix of intensity and fun\, and a vibe that blends celebration with a touch of dramatic flair. It’s the perfect setting for letting loose\, connecting with friends\, and embracing every emotion through music in a lively\, expressive environment.
URL:https://gringogazette.com/event/heartbreak-divas/
LOCATION:La Lupita Rock Cafe\, C. Francisco I. Madero 1438\, Zona Comercial\, 23000 La Paz\, B.C.S.\, La paz\, Baja California Sur\, Mexico
CATEGORIES:Beer,Music
ATTACH;FMTTYPE=image/jpeg:https://gringogazette.com/wp-content/uploads/2025/11/579360046_851206690750875_1214964414694329588_n-1.jpg
ORGANIZER;CN="La Lupita Rock Cafe":MAILTO:lalupitarockcafe@gmail.com
END:VEVENT
BEGIN:VEVENT
DTSTART;TZID=America/Mazatlan:20251114T200000
DTEND;TZID=America/Mazatlan:20251114T230000
DTSTAMP:20260421T211806
CREATED:20251110T205216Z
LAST-MODIFIED:20251110T205216Z
UID:10000118-1763150400-1763161200@gringogazette.com
SUMMARY:Paul The German stand up
DESCRIPTION:This Friday\, November 14th\, PAUL EL ALEMÁN arrives at Casa Fandango!\nFor the first time in La Paz\, enjoy the funniest stand-up show of the moment:\n\n“From Wero to Ñero\,” a night full of laughter\, witty remarks\, and humor without borders.
URL:https://gringogazette.com/event/paul-the-german-stand-up/
LOCATION:Casa Fandango\, Esq. Antonio\, Lerdo de Tejada\, A. Mijares\, Zona Central\, La Paz\, B.C.S.\, La Paz\, Baja California Sur\, 23000\, Mexico
CATEGORIES:Beer,Comedy,La Paz,Music
ATTACH;FMTTYPE=image/jpeg:https://gringogazette.com/wp-content/uploads/2025/11/580634293_122179131536470229_5758874353379124357_n.jpg
END:VEVENT
BEGIN:VEVENT
DTSTART;TZID=America/Mazatlan:20251114T210000
DTEND;TZID=America/Mazatlan:20251114T230000
DTSTAMP:20260421T211806
CREATED:20251022T041849Z
LAST-MODIFIED:20251022T041849Z
UID:10000080-1763154000-1763161200@gringogazette.com
SUMMARY:Flamenco and Son
DESCRIPTION:Diego el Sigala comes back to la paz with his concert flamenco and son join us for an unforgettable gathering where friends and fun come together. Whether you’re looking to network\, celebrate\, or simply enjoy a lively atmosphere\, this event is made for you. \nExpect a festive setting\, engaging activities\, great company\, and the perfect vibe to make the evening yours.
URL:https://gringogazette.com/event/flamenco-and-son/
LOCATION:Teatro de la Paz\, Antonio Navarro e/ Altamirano y H\, de Independencia Centro\, Zona Central\, 23000 La Paz\, B.C.S.\, La Paz\, Baja California Sur\, 23000\, Mexico
CATEGORIES:Festivals,La Paz,Music
ATTACH;FMTTYPE=image/jpeg:https://gringogazette.com/wp-content/uploads/2025/10/565893406_1139125648395710_8142545802734948438_n.jpg
END:VEVENT
BEGIN:VEVENT
DTSTART;TZID=America/Mazatlan:20251115T000000
DTEND;TZID=America/Mazatlan:20251115T000000
DTSTAMP:20260421T211806
CREATED:20251104T052804Z
LAST-MODIFIED:20251104T052804Z
UID:10000110-1763164800-1763164800@gringogazette.com
SUMMARY:Aloha Cup
DESCRIPTION:Join the movement for a cleaner\, greener future with Alianza Cero Basura! 🌎💪Be part of a community effort dedicated to protecting Todos Santos\, Pescadero\, and Cerritos through collaboration\, sustainability\, and action. Volunteers are coming together to help with registration\, community market support\, kids’ activities\, transportation\, and waste separation stations — every helping hand makes a difference! 🌱✨This initiative promotes a Zero Waste lifestyle\, turning organic waste into nutrient-rich compost\, strengthening recycling routes\, and inspiring others through workshops and community programs. Together\, we can build a cleaner \n\n\n\n\n\n\n\, healthier\, and more sustainable community where every small action creates lasting change. 💫♻️Join Alianza Cero Basura — because caring for our planet starts right here\, with all of us. 🌍💚
URL:https://gringogazette.com/event/aloha-cup/
LOCATION:Barracuda Cantina\, 23.3320380\, -110.1743720\, El Pescadero\, Mexico\, Todos Santos\, BC\, Select a State:\, 23300\, Mexico
ATTACH;FMTTYPE=image/jpeg:https://gringogazette.com/wp-content/uploads/2025/11/d7e473cd-7f16-434c-8403-07ccaf367128-2.jpg
END:VEVENT
BEGIN:VEVENT
DTSTART;TZID=America/Mazatlan:20251115T063000
DTEND;TZID=America/Mazatlan:20251115T110000
DTSTAMP:20260421T211806
CREATED:20251106T203201Z
LAST-MODIFIED:20251106T203201Z
UID:10000114-1763188200-1763204400@gringogazette.com
SUMMARY:The 19th Los Cabos Tourist Race
DESCRIPTION:Run Through History in Los Cabos  \nGet ready to pound the pavement in one of Baja California Sur’s most beloved athletic traditions! The 19th edition of the Carrera Turística invites runners of all levels to experience the stunning landscapes of Los Cabos while celebrating fitness\, community\, and local pride. \nThis isn’t just a race  it’s a morning of movement\, music\, and Mexican spirit\, bringing together locals\, tourists\, and athletes in a celebration of health and heritage. Whether you’re chasing a personal best or just soaking in the sunrise over the desert\, the Carrera Turística is your chance to make memories on the move.
URL:https://gringogazette.com/event/the-19th-los-cabos-tourist-race/
LOCATION:Plaza san lucas\, Pedregal\, Cabo San Lucas\, B.C.S\, Cabo San lucas\, Baja California Sur\, 23453\, Mexico
CATEGORIES:Cabo San Lucas,Race,Sports
ATTACH;FMTTYPE=image/jpeg:https://gringogazette.com/wp-content/uploads/2025/11/572798774_1251051607067807_6360578732142913961_n.jpg
END:VEVENT
BEGIN:VEVENT
DTSTART;TZID=America/Mazatlan:20251115T110000
DTEND;TZID=America/Mazatlan:20251115T160000
DTSTAMP:20260421T211806
CREATED:20251107T232424Z
LAST-MODIFIED:20251107T232424Z
UID:10000117-1763204400-1763222400@gringogazette.com
SUMMARY:Baja Groove
DESCRIPTION:The Baja Groove Street Dance event presents its 7th edition: Santa Cruz\, an exciting statewide urban dance routine competition in La Paz\, Baja California Sur. \nJoin the movement and be part of the legacy! Dancers from across the state will showcase their creativity\, rhythm\, and street dance skills in an energetic celebration of hip-hop culture\, art\, and community. \nThe event is organized by the Government of Baja California Sur\, the Instituto Sudcaliforniano de Cultura\, and the Teatro de la Ciudad\, promoting youth expression and the vibrant urban dance scene in the region.
URL:https://gringogazette.com/event/baja-groove/
LOCATION:Teatro de la Paz\, Antonio Navarro e/ Altamirano y H\, de Independencia Centro\, Zona Central\, 23000 La Paz\, B.C.S.\, La Paz\, Baja California Sur\, 23000\, Mexico
CATEGORIES:Arts,Dance,La Paz,Music
ATTACH;FMTTYPE=image/jpeg:https://gringogazette.com/wp-content/uploads/2025/11/576827840_1340264767559010_8001651379899228335_n.jpg
END:VEVENT
BEGIN:VEVENT
DTSTART;TZID=America/Mazatlan:20251115T110000
DTEND;TZID=America/Mazatlan:20251115T190000
DTSTAMP:20260421T211806
CREATED:20251114T154629Z
LAST-MODIFIED:20251114T154629Z
UID:10000129-1763204400-1763233200@gringogazette.com
SUMMARY:Entrepreneurship Fair – Women Empowering Women
DESCRIPTION:A vibrant celebration of creativity\, community\, and female empowerment. Surrounded by colorful displays and handcrafted pieces\, the atmosphere brings together women who inspire\, support\, and uplift one another. The space feels warm and inviting\, filled with talent\, artistry\, and the joy of sharing unique creations. It’s a lively environment where connection\, expression\, and entrepreneurship come together\, creating a dynamic experience that highlights the strength and brilliance of women working side by side.
URL:https://gringogazette.com/event/entrepreneurship-fair-women-empowering-women/
LOCATION:Plaza Paseo\, BLVD. AGUSTIN OLACHEA S/N ESQ. DANIEL ROLDAN COL. SAN ANTONIO EL ZACATA\, La Paz\, Mexico\, La paz\, Baja California Sur\, Mexico
CATEGORIES:La Paz
ATTACH;FMTTYPE=image/jpeg:https://gringogazette.com/wp-content/uploads/2025/11/580648369_122248979240191380_1110238319519385126_n.jpg
END:VEVENT
END:VCALENDAR