BEGIN:VCALENDAR
VERSION:2.0
PRODID:-//Gringo Gazette - ECPv6.15.13.1//NONSGML v1.0//EN
CALSCALE:GREGORIAN
METHOD:PUBLISH
X-WR-CALNAME:Gringo Gazette
X-ORIGINAL-URL:https://gringogazette.com
X-WR-CALDESC:Events for Gringo Gazette
REFRESH-INTERVAL;VALUE=DURATION:PT1H
X-Robots-Tag:noindex
X-PUBLISHED-TTL:PT1H
BEGIN:VTIMEZONE
TZID:America/Mazatlan
BEGIN:STANDARD
TZOFFSETFROM:-0700
TZOFFSETTO:-0700
TZNAME:MST
DTSTART:20240101T000000
END:STANDARD
END:VTIMEZONE
BEGIN:VEVENT
DTSTART;TZID=America/Mazatlan:20251026T120000
DTEND;TZID=America/Mazatlan:20251101T160000
DTSTAMP:20260420T005807
CREATED:20250916T140534Z
LAST-MODIFIED:20250916T140534Z
UID:10000043-1761480000-1762012800@gringogazette.com
SUMMARY:Playa\, Pen\, & Pose Women's Wellness Retreat
DESCRIPTION:Welcome to Playa\, Pen\, & Pose Women’s Wellness Retreat. Oct 26-Nov 1\, 2025. \nJoin Chrissy Roll Wellness Coach\, LLC and Chara Yoga & Wellness Collaborative at Villa Bugambilias in beautiful Todos Santos for a rejuvenating 7-day experience like no other. This transformative retreat is all about embracing self-care\, ycreativity\, and mindfulness where the desert landscapes meet the Pacific Ocean. \nGet ready to playa – indulge in relaxing beach activities\, connect with like-minded women\, enjoy intentional rest periods\, and recharge your soul in this stunning coastal paradise. \nUnleash your inner writer during our pen sessions\, where you can journal\, reflect\, and explore your thoughts through creative expression in a supportive environment. \nStrike a pose during our pose yoga and movement therapy classes\, designed to help you find balance\, strength\, and inner peace through mindful movement.
URL:https://gringogazette.com/event/playa-pen-pose-womens-wellness-retreat/
LOCATION:Villa Bugambilias\, C.horizonte San ignacio Todos Santos\, Todos Santos\, Baja California Sur\, 22974
CATEGORIES:Relaxing,Todos Santos,Yoga
ATTACH;FMTTYPE=image/jpeg:https://gringogazette.com/wp-content/uploads/2025/09/https___cdnevbuc_com_images_1107151623_2872992875061_1_original.jpg
END:VEVENT
BEGIN:VEVENT
DTSTART;TZID=America/Mazatlan:20251030T040000
DTEND;TZID=America/Mazatlan:20251030T220000
DTSTAMP:20260420T005807
CREATED:20251027T203419Z
LAST-MODIFIED:20251027T203419Z
UID:10000097-1761796800-1761861600@gringogazette.com
SUMMARY:HALLOWEEN PARTY- La Terra
DESCRIPTION:Set in the enchanting surroundings of the San José del Cabo Estuary\, this event invites guests to immerse themselves in an evening of rhythm\, art\, and connection. \nAs the music flows in a Boiler Room–style atmosphere\, attendees can explore a curated bohemian market and participate in holistic activities designed to engage the senses and elevate the spirit. \nAfter 10:00 p.m.\, the celebration continues behind closed doors\, maintaining its intimate and vibrant energy late into the night. \nMore than just a party\, this gathering embodies the creative soul of San José del Cabo\, where music\, community\, and nature come together in perfect harmony.
URL:https://gringogazette.com/event/halloween-party-la-terra/
LOCATION:Chimbica\, Av Centenario\, Centro\, San José del Cabo\, B.C.S.\, San jose del Cabo\, Baja California Sur\, 23400\, Mexico
CATEGORIES:Halloween,Music,Party,San Jose del Cabo
ATTACH;FMTTYPE=image/webp:https://gringogazette.com/wp-content/uploads/2025/10/91c5ea0a2d33a953765d8f52434b09cd1837ba99.webp
END:VEVENT
BEGIN:VEVENT
DTSTART;TZID=America/Mazatlan:20251030T180000
DTEND;TZID=America/Mazatlan:20251030T210000
DTSTAMP:20260420T005807
CREATED:20250924T043951Z
LAST-MODIFIED:20250924T043951Z
UID:10000059-1761847200-1761858000@gringogazette.com
SUMMARY:Tenampa Brass Band in concert
DESCRIPTION:With their explosive fusion of metal\, rhythm\, and charisma\, this band promises an experience that will have you dancing from start to finish.
URL:https://gringogazette.com/event/tenampa-brass-band-in-concert/
LOCATION:Plaza Koral Center\, Carretera Transpeninsular\, Kilometro 24.5\, Cerro Colorado. San Jose del Cabo\, Mexico\, 23400 San José del Cabo\, Mexico\, San jose del cabo\, Baja California Sur\, Mexico
CATEGORIES:Music,San Jose del Cabo
ATTACH;FMTTYPE=image/jpeg:https://gringogazette.com/wp-content/uploads/2025/09/535229212_1354494603345153_7889240568280272984_n.jpg
ORGANIZER;CN="Koral center":MAILTO:info@koralcenter.com
END:VEVENT
BEGIN:VEVENT
DTSTART;TZID=America/Mazatlan:20251030T210000
DTEND;TZID=America/Mazatlan:20251030T210000
DTSTAMP:20260420T005807
CREATED:20251020T074606Z
LAST-MODIFIED:20251020T074649Z
UID:10000072-1761858000-1761858000@gringogazette.com
SUMMARY:JuanPachanGa 3rd anniversary
DESCRIPTION:Celebrate with the tremendous International Orchestra La Típica on a night full of rhythm\, fun\, and good music. Don’t miss it!
URL:https://gringogazette.com/event/juanpachanga-3rd-anniversary/
LOCATION:Juan PachanGa\, NIÑOS HEROES Y ZARAGOZa/ ESQ. ZARAGOZA\, Cabo San Lucas\, México\, Los cabos\, Baja California Sur\, Mexico
CATEGORIES:Cabo San Lucas
ATTACH;FMTTYPE=image/jpeg:https://gringogazette.com/wp-content/uploads/2025/10/548280311_807620065351924_9093686899066607280_n.jpg
END:VEVENT
BEGIN:VEVENT
DTSTART;TZID=America/Mazatlan:20251030T210000
DTEND;TZID=America/Mazatlan:20251030T230000
DTSTAMP:20260420T005807
CREATED:20251024T230407Z
LAST-MODIFIED:20251024T230407Z
UID:10000094-1761858000-1761865200@gringogazette.com
SUMMARY:Emo night
DESCRIPTION:Dive into a night where nostalgia meets dark energy — a celebration of emo culture with a Halloween twist. Expect moody anthems\, dramatic vibes\, and a crowd ready to scream their hearts out under the glow of black lights. Costumes\, eyeliner\, and emotional chaos come together for an unforgettable experience that blends music\, attitude\, and raw emotion. Whether you’re reliving your teenage angst or discovering the scene for the first time\, this night promises to awaken your inner rebel. 💔🖤
URL:https://gringogazette.com/event/emo-night/
LOCATION:La Lupita Rock Cafe\, C. Francisco I. Madero 1438\, Zona Comercial\, 23000 La Paz\, B.C.S.\, La paz\, Baja California Sur\, Mexico
CATEGORIES:La Paz,Music
ATTACH;FMTTYPE=image/jpeg:https://gringogazette.com/wp-content/uploads/2025/10/571243688_834455475759330_1294019001882747220_n.jpg
ORGANIZER;CN="La Lupita Rock Cafe":MAILTO:lalupitarockcafe@gmail.com
END:VEVENT
BEGIN:VEVENT
DTSTART;TZID=America/Mazatlan:20251031T090000
DTEND;TZID=America/Mazatlan:20251031T230000
DTSTAMP:20260420T005807
CREATED:20251026T061913Z
LAST-MODIFIED:20251026T062016Z
UID:10000095-1761901200-1761951600@gringogazette.com
SUMMARY:Sancho's halloween fiesta!
DESCRIPTION:Get ready for a spooky night of fun at Sancho’s Halloween Fiesta\, where Halloween magic takes over the marina with candy stations\, eerie decorations\, and live music by Mike “Goul-Bow.” 🎸👻 Enjoy a festive mix of Trick-or-Treat fun\, themed cocktails from the Spookeasy bar\, and a lively atmosphere filled with costumes\, laughter\, and good vibes — the perfect blend of spooky and party energy for a Halloween celebration you won’t forget. 🎃💀
URL:https://gringogazette.com/event/sanchos-halloween-fiesta/
LOCATION:Marina de Cabo San Lucas\, Nick San\, Boulevard Paseo de la Marina\, Cabo San Lucas Centro\, 23450 Cabo San Lucas\, BCS\, México\, Los cabos\, Baja California Sur\, Mexico
CATEGORIES:Cabo San Lucas,Party
ATTACH;FMTTYPE=image/jpeg:https://gringogazette.com/wp-content/uploads/2025/10/558034178_1425247089109052_4438327001947388692_n.jpg
ORGANIZER;CN="Sancho's":MAILTO:info@sanchoscabo.com
END:VEVENT
BEGIN:VEVENT
DTSTART;TZID=America/Mazatlan:20251031T090000
DTEND;TZID=America/Mazatlan:20251102T110000
DTSTAMP:20260420T005807
CREATED:20250916T140526Z
LAST-MODIFIED:20250916T140526Z
UID:10000039-1761901200-1762081200@gringogazette.com
SUMMARY:Todos Santos Wellnes Fest
DESCRIPTION:Taking place from October 31 to November 2 in the town of Todos Santos\, the festival highlights the region’s unique blend of natural beauty and cultural depth. “Baja California Sur offers a unique mix of natural beauty and cultural richness that makes it the ideal destination for wellness travelers seeking more than just a vacation\,” says Jesús Ordóñez\, General Director of Visit Baja California Sur. His words explain the choice of one of the region’s most inspiring towns\, internationally recognized for its strong wellness community. \nSet against the backdrop of the Pacific coast and the colorful charm of its architecture\, the Todos Santos Wellness Fest weekend will bring together leading professionals in the field\, including Ana Paula Domínguez (CEO of the Mexican Yoga Institute)\, movement artist Annie Parr\, yoga teacher Beni Falcón\, and acclaimed yoga photographer Robert Sturman. The program features private workshops and immersive experiences at Jardín La Barca\, as well as public sessions of Kundalini Yoga\, Ashtanga\, Vinyasa Flow\, and sensory explorations at the Casa de la Cultura\, culminating with a closing musical act by a DJ blending movement and sound into a holistic experience.
URL:https://gringogazette.com/event/todos-santos-wellnes-fest/
LOCATION:Centro de la ciudad\, Centro\, 23300 Todos Santos\, B.C.S.\, Todos Santos\, Baja California Sur\, 23300
CATEGORIES:Retirement,Todos Santos,Yoga
ATTACH;FMTTYPE=image/webp:https://gringogazette.com/wp-content/uploads/2025/09/Artboard-47.webp
END:VEVENT
BEGIN:VEVENT
DTSTART;TZID=America/Mazatlan:20251031T120000
DTEND;TZID=America/Mazatlan:20251031T233000
DTSTAMP:20260420T005807
CREATED:20251028T192740Z
LAST-MODIFIED:20251028T192740Z
UID:10000099-1761912000-1761953400@gringogazette.com
SUMMARY:HALLOWEEN PARTY La terra (2)
DESCRIPTION:This October 31st\, the energy in El Tezal\, Cabo San Lucas\, reaches new heights with the REHAB Secret Villa Party\, an exclusive all-day celebration  set in a stunning private villa with a terrace overlooking the sea\, the event combines the thrill of a Halloween-themed pool party with a touch of luxury and wellness. Guests will enjoy DJ performances\, immersive music\, and holistic activities\, as well as a massage area along the villa’s scenic wellness path. \nDesigned for those seeking both vibrant energy and mindful experiences\, this secret gathering captures the essence of Cabo’s nightlife in a truly unique setting. Limited spots available  early booking is essential to be part of this unforgettable Halloween celebration under the moonlight.
URL:https://gringogazette.com/event/halloween-party-la-terra-2/
LOCATION:El Tezal\, Avenida Cotero Villa Fuego\, El Tezal\, \, Cabo San Lucas\, B.C.S.\, México.\, Cabo San lucas\, Baja California Sur\, 23454\, Mexico
CATEGORIES:Cabo San Lucas,Halloween,Party
ATTACH;FMTTYPE=image/webp:https://gringogazette.com/wp-content/uploads/2025/10/91c5ea0a2d33a953765d8f52434b09cd1837ba99.webp
END:VEVENT
BEGIN:VEVENT
DTSTART;TZID=America/Mazatlan:20251031T170000
DTEND;TZID=America/Mazatlan:20251031T170000
DTSTAMP:20260420T005807
CREATED:20250825T145538Z
LAST-MODIFIED:20250825T152359Z
UID:10000001-1761930000-1761930000@gringogazette.com
SUMMARY:EsperanzArte 2025
DESCRIPTION:Mark your calendars for Friday\, October 31\, 2025\, and join us to celebrate Dia de Muertos at our 9th Annual EsperanzArte Festival. Immerse yourself in the rich traditions of this special Mexican holiday as talented artists create vibrant altars\, showcasing a blend of contemporary art and traditional Mexican crafts and homewares. Indulge in delicious bites and beverages from Cabo’s most extraordinary culinary destinations\, making it an unforgettable cultural and culinary experience.
URL:https://gringogazette.com/event/esperanzarte-2025/
LOCATION:Esperanza Resort\, Carretera transpeninsular Km 7 Punta Ballena\, Cabo San Lucas\, Baja California Sur\, 23410\, Mexico
CATEGORIES:Arts
ATTACH;FMTTYPE=image/jpeg:https://gringogazette.com/wp-content/uploads/2025/08/esperanzarte.jpg
ORGANIZER;CN="Esperanza Resort":MAILTO:esp.concierge@aubergeresorts.com
END:VEVENT
BEGIN:VEVENT
DTSTART;TZID=America/Mazatlan:20251031T190000
DTEND;TZID=America/Mazatlan:20251031T210000
DTSTAMP:20260420T005807
CREATED:20251020T063141Z
LAST-MODIFIED:20251020T063141Z
UID:10000067-1761937200-1761944400@gringogazette.com
SUMMARY:Halloween Bike Ride
DESCRIPTION:You’re cordially invited to the Halloween Ride this Friday\, October 31st.\nThis time it will be held differently\, in the south of the city\, with a completely family-friendly atmosphere\, where we’ll be giving away candy and bringing smiles to the little ones.\nThe Ride will start at Plaza Alameda\, where we’ll give away candy to the children who are there. From there\, we’ll head to our clubhouse\, where we’ll also give away candy to the children in the neighborhood.\nDon’t forget to bring candy and your MONSTER costume!!!\nLet’s have a great time with everyone!!!
URL:https://gringogazette.com/event/halloween-bike-ride/
LOCATION:Plaza Alameda\, Av. Transpeninsular\, Calz. El Camino Real Esq\, Camino Real\, 23088 La Paz\, B.C.S.\, La paz\, Baja California Sur\, Mexico
CATEGORIES:La Paz
ATTACH;FMTTYPE=image/jpeg:https://gringogazette.com/wp-content/uploads/2025/10/556638929_1426988169432857_202147638841159373_n.jpg
END:VEVENT
BEGIN:VEVENT
DTSTART;TZID=America/Mazatlan:20251101T000000
DTEND;TZID=America/Mazatlan:20251101T000000
DTSTAMP:20260420T005807
CREATED:20251020T034241Z
LAST-MODIFIED:20251020T051452Z
UID:10000062-1761955200-1761955200@gringogazette.com
SUMMARY:Beach beerfest\, "Ale-O-Ween"
DESCRIPTION:Come enjoy an amazing day at Beer Fest! 🎉 Enjoy a wide variety of food trucks\, local breweries 🍻\, and live music 🎶 in a fun-filled atmosphere. Admission is completely FREE with your glass. Don’t miss this unique experience filled with good food\, great music\, and the best craft beer! 🍔🎸 Come and have fun with us!
URL:https://gringogazette.com/event/beach-beerfest-ale-o-ween/
LOCATION:Merkén\, Km. 8.5 Carretera al norte Chametla\, La Paz\, B.C.S.\, La paz\, Baja California Sur\, 23205\, Mexico
CATEGORIES:Beer
ATTACH;FMTTYPE=image/jpeg:https://gringogazette.com/wp-content/uploads/2025/10/foto.jpg
END:VEVENT
BEGIN:VEVENT
DTSTART;TZID=America/Mazatlan:20251101T000000
DTEND;TZID=America/Mazatlan:20251101T210000
DTSTAMP:20260420T005807
CREATED:20251020T054623Z
LAST-MODIFIED:20251020T054623Z
UID:10000066-1761955200-1762030800@gringogazette.com
SUMMARY:Dia de Muertos
DESCRIPTION:Experience one of Mexico’s most iconic traditions in the heart of Todos Santos. Enjoy a day filled with color\, culture\, and tradition\, with altar and catrine contests\, music\, art\, and a family atmosphere. Celebrate life and honor those who have passed away at this event filled with creativity and Mexican spirit.
URL:https://gringogazette.com/event/dia-de-muertos/
LOCATION:Legaspy 15 centro\, Calle Miguel L. de Legaspy 15\, Todos Santos Centro\, 23300 Todos Santos\, BCS\, México\, Todos Santos\, BC\, Select a State:\, 23300\, Mexico
CATEGORIES:Festivals,Todos Santos
ATTACH;FMTTYPE=image/jpeg:https://gringogazette.com/wp-content/uploads/2025/10/545003129_1099182742413523_2752761659657495445_n-1.jpg
ORGANIZER;CN="D%C3%ADa de Muertos Todos Santos":MAILTO:amamosnuestropuebloac@gmail.com
END:VEVENT
BEGIN:VEVENT
DTSTART;VALUE=DATE:20251101
DTEND;VALUE=DATE:20251103
DTSTAMP:20260420T005807
CREATED:20250923T045715Z
LAST-MODIFIED:20250923T045715Z
UID:10000056-1761955200-1762127999@gringogazette.com
SUMMARY:Festival of altars at sea
DESCRIPTION:Experience the Day of the Dead like never before:\nIlluminated altars on boats at the Cabo San Lucas Marina\nMexican music\, culture\, and traditions 🇲🇽\nA unique encounter between the sea and our roots \nA public event for the whole family.\nCome tour the marina\, enjoy the floating altars\, and proudly celebrate one of Mexico’s most beautiful traditions.
URL:https://gringogazette.com/event/festival-of-altars-at-sea/
LOCATION:Marina de Cabo San Lucas\, Nick San\, Boulevard Paseo de la Marina\, Cabo San Lucas Centro\, 23450 Cabo San Lucas\, BCS\, México\, Los cabos\, Baja California Sur\, Mexico
CATEGORIES:Arts,Cabo San Lucas,Festivals,Music
ATTACH;FMTTYPE=image/jpeg:https://gringogazette.com/wp-content/uploads/2025/09/169381659729c6c.jpg
END:VEVENT
BEGIN:VEVENT
DTSTART;TZID=America/Mazatlan:20251101T130000
DTEND;TZID=America/Mazatlan:20251108T233000
DTSTAMP:20260420T005807
CREATED:20251029T194446Z
LAST-MODIFIED:20251105T045955Z
UID:10000101-1762002000-1762644600@gringogazette.com
SUMMARY:Healer\, Heal Thyself: Rewired from Burnout to Balance
DESCRIPTION:Healer Heal Thyself is an exclusive 7-day retreat designed for practitioners\, healers\, and guides seeking restoration\, growth\, and balance. \nPresented by Everyday Tantra\, this immersive experience features 11 expert facilitators who will lead workshops\, rituals\, and holistic practices focused on helping participants reconnect with their purpose and inner peace. \nSet against the serene backdrop of beach-view accommodations\, the retreat offers a nurturing environment where attendees can rejuvenate from burnout\, expand their awareness\, and cultivate harmony between mind\, body\, and spirit.
URL:https://gringogazette.com/event/healer-heal-thyself-rewired-from-burnout-to-balance/
LOCATION:Cabo bello\, Tourist Corridor\, Cabo Bello\, B.C.S.\, Cabo San lucas\, Baja California Sur\, 23455\, Mexico
CATEGORIES:Cabo San Lucas,Relaxing,Retirement,Yoga
ATTACH;FMTTYPE=image/jpeg:https://gringogazette.com/wp-content/uploads/2025/10/https___cdnevbuc_com_images_1103257773_148046143168_1_original.jpeg
END:VEVENT
BEGIN:VEVENT
DTSTART;TZID=America/Mazatlan:20251101T180000
DTEND;TZID=America/Mazatlan:20251101T200000
DTSTAMP:20260420T005807
CREATED:20251020T075629Z
LAST-MODIFIED:20251020T075629Z
UID:10000073-1762020000-1762027200@gringogazette.com
SUMMARY:Horror carshow
DESCRIPTION:Come and enjoy a spectacular Halloween-themed car show at Plaza Paseo. Admire classic\, modern\, and customized models while soaking up the festive atmosphere filled with pumpkins\, costumes\, and themed decorations. There will be music\, family-friendly activities\, and many surprises that will make this afternoon a unique experience.
URL:https://gringogazette.com/event/horror-carshow/
LOCATION:Plaza Paseo\, BLVD. AGUSTIN OLACHEA S/N ESQ. DANIEL ROLDAN COL. SAN ANTONIO EL ZACATA\, La Paz\, Mexico\, La paz\, Baja California Sur\, Mexico
CATEGORIES:La Paz
ATTACH;FMTTYPE=image/jpeg:https://gringogazette.com/wp-content/uploads/2025/10/549766763_122163277784831536_6616248578255997752_n.jpg
END:VEVENT
BEGIN:VEVENT
DTSTART;TZID=America/Mazatlan:20251102T050000
DTEND;TZID=America/Mazatlan:20251102T200000
DTSTAMP:20260420T005807
CREATED:20250924T035518Z
LAST-MODIFIED:20250924T035518Z
UID:10000057-1762059600-1762113600@gringogazette.com
SUMMARY:Second Canaco athletic race
DESCRIPTION:Competition open to the general public of all ages. With cash prizes for first place in each category and distance. Men’s and Women’s categories in the 3k\, 5k\, and 10k. Run in costume. Prize for best costume! Registration now open! \n3k y 5k: $30\, dlls \n10K: $35\, dlls \nRunner’s Kit includes:  \n👉Shirt👉Medal  \n👉Number  \n👉Chip  \n👉Backpack
URL:https://gringogazette.com/event/second-canaco-athletic-race/
LOCATION:Plaza Mijares\, Alvaro Obregon 20\, Gallery District\, Centro\, 23400 San José del Cabo\, B.C.S.\, San jose del cabo\, Mexico
CATEGORIES:Cabo San Lucas,Race
ATTACH;FMTTYPE=image/jpeg:https://gringogazette.com/wp-content/uploads/2025/09/Women.jpg
ORGANIZER;CN="Canaco Servytur Los cabos":MAILTO:comunicacion@canacoloscabos.com
END:VEVENT
BEGIN:VEVENT
DTSTART;TZID=America/Mazatlan:20251102T100000
DTEND;TZID=America/Mazatlan:20251102T160000
DTSTAMP:20260420T005807
CREATED:20251031T022232Z
LAST-MODIFIED:20251031T022232Z
UID:10000104-1762077600-1762099200@gringogazette.com
SUMMARY:Brunch Dia de muertos
DESCRIPTION:Celebrate the spirit of Día de Muertos with a brunch full of flavor\, music\, and tradition. 🌼✨Between life and death\, music becomes the bridge that connects hearts in this Brunch Merkén Special\, where art and gastronomy come together to honor Mexican roots. Enjoy a magical atmosphere filled with live performances\, delicious aromas\, and the vibrant energy of one of Mexico’s most meaningful celebrations. 🎶💀A gathering to remember\, share\, and celebrate life through music\, flavors\, and memory. 🌸
URL:https://gringogazette.com/event/brunch-dia-de-muertos/
LOCATION:Merkén\, Km. 8.5 Carretera al norte Chametla\, La Paz\, B.C.S.\, La paz\, Baja California Sur\, 23205\, Mexico
END:VEVENT
BEGIN:VEVENT
DTSTART;TZID=America/Mazatlan:20251102T160000
DTEND;TZID=America/Mazatlan:20251102T210000
DTSTAMP:20260420T005807
CREATED:20251020T080627Z
LAST-MODIFIED:20251020T080627Z
UID:10000074-1762099200-1762117200@gringogazette.com
SUMMARY:25th Traditional Day of the Dead Festival
DESCRIPTION:As every year\, the esplanade of the “Prof. Jesús Castro Agúndez” Cultural Unit will be filled with color and tradition. Enjoy decorated altars\, delicious food\, skulls\, beautiful catrinas\, children’s workshops\, a poster exhibition\, and the altar-making contest. A celebration for the whole family that honors our roots and keeps the Day of the Dead culture alive.
URL:https://gringogazette.com/event/25th-traditional-day-of-the-dead-festival/
LOCATION:Explanada de la Unidad Cultural “Prof. Jesús Castro Agúndez”\, Altamirano Entre Navarro Y Legaspy\, 23000 La Paz\, Mexico\, La paz\, Baja California Sur\, Mexico
CATEGORIES:Festivals,La Paz
ATTACH;FMTTYPE=image/jpeg:https://gringogazette.com/wp-content/uploads/2025/10/549827063_1113993737575568_119062424661773229_n.jpg
END:VEVENT
BEGIN:VEVENT
DTSTART;TZID=America/Mazatlan:20251102T170000
DTEND;TZID=America/Mazatlan:20251102T220000
DTSTAMP:20260420T005807
CREATED:20251024T025658Z
LAST-MODIFIED:20251024T025658Z
UID:10000085-1762102800-1762120800@gringogazette.com
SUMMARY:Cabo’s Sea of Offerings Lights Up Downtown
DESCRIPTION:Cabo San Lucas is about to get beautifully spooky. On November 2\, 2025\, downtown’s Amelia Wilkes Plaza will transform into a colorful tribute to life\, love\, and all things tequila for the Sea of Offerings Festival—now in its second edition. \nThe Mar de Ofrendas celebration honors Día de los Muertos with folkloric dances\, mariachi\, and plenty of decorated altars. Meanwhile\, a parade of Catrinas will glide through the streets\, proving once again that in Cabo\, even death dresses to impress.
URL:https://gringogazette.com/event/cabos-sea-of-offerings-lights-up-downtown/
LOCATION:plaza amelia\, Centro\, San Lucas\, Cabo San Lucas\, B.C.S\, La Paz\, Baja California Sur\, 23450\, Mexico
CATEGORIES:Festivals,La Paz
ATTACH;FMTTYPE=image/jpeg:https://gringogazette.com/wp-content/uploads/2025/10/dayOfTheDeadEvent-1.jpg
END:VEVENT
END:VCALENDAR