BEGIN:VCALENDAR
VERSION:2.0
PRODID:-//Gringo Gazette - ECPv6.15.13.1//NONSGML v1.0//EN
CALSCALE:GREGORIAN
METHOD:PUBLISH
X-ORIGINAL-URL:https://gringogazette.com
X-WR-CALDESC:Events for Gringo Gazette
REFRESH-INTERVAL;VALUE=DURATION:PT1H
X-Robots-Tag:noindex
X-PUBLISHED-TTL:PT1H
BEGIN:VTIMEZONE
TZID:America/Mazatlan
BEGIN:STANDARD
TZOFFSETFROM:-0700
TZOFFSETTO:-0700
TZNAME:MST
DTSTART:20240101T000000
END:STANDARD
END:VTIMEZONE
BEGIN:VEVENT
DTSTART;TZID=America/Mazatlan:20251016T113000
DTEND;TZID=America/Mazatlan:20251016T153000
DTSTAMP:20260420T023432
CREATED:20250919T042510Z
LAST-MODIFIED:20250919T042510Z
UID:10000052-1760614200-1760628600@gringogazette.com
SUMMARY:GOLF Tourney in Loreto with the Latina Golfers
DESCRIPTION:Join the Latina Golfers Association for an unforgettable escape to Loreto\, Mexico\, where golf\, relaxation\, and community come together in one of the most stunning destinations in the world. Our members will gather at the spectacular Danzante Bay Golf Resort\, offering breathtaking ocean and mountain views at every hole. \nWhether you’re a seasoned golfer or brand new to the game\, this trip is for you: \nTournament Play for those eager to take on the course. \nGolf 101 Clinic for beginners who want to learn the fundamentals in a fun and supportive setting. \nYour stay at the Villa del Palmar Resort\, located just steps from the fairways\, ensures comfort and convenience throughout the getaway. \nHighlights include: \nA festive Welcome Reception to connect and celebrate the start of the trip. \nA special Farewell Awards Dinner to close out the experience with laughter\, recognition\, and lasting memories. \nThis Loreto retreat is more than a golf trip it’s a chance to recharge\, bond with fellow members\, and experience one of the most beautiful golf destinations in the world
URL:https://gringogazette.com/event/golf-tourney-in-loreto-with-the-latina-golfers/
LOCATION:Villa del Palmar at the Islands of Loreto\, Carretera Transpeninsular #Km. 84 Ensenada Blanca\, Loreto\, Baja California Sur\, 23880
CATEGORIES:Loreto,Sports
ATTACH;FMTTYPE=image/jpeg:https://gringogazette.com/wp-content/uploads/2025/09/https___cdnevbuc_com_images_919699443_8813353623_1_original.jpg
END:VEVENT
BEGIN:VEVENT
DTSTART;TZID=America/Mazatlan:20251018T130000
DTEND;TZID=America/Mazatlan:20251018T220000
DTSTAMP:20260420T023432
CREATED:20250916T140625Z
LAST-MODIFIED:20250916T140625Z
UID:10000040-1760792400-1760824800@gringogazette.com
SUMMARY:Sonora Grill y Country Los cabos
DESCRIPTION:A Celebration of Flavor and TraditionThe gathering promises a unique culinary experience where fire and meat take center stage. Renowned chefs and guest restaurants will come together to delight attendees with creations that highlight both Sonoran cuisine and proposals from various invited countries. \nWith the participation of seven nations\, the festival becomes a multicultural showcase that fuses gastronomy\, music\, and traditions from different corners of the world.
URL:https://gringogazette.com/event/sonora-grill-y-country-los-cabos/
LOCATION:Cabo San Lucas Country Club\, Carretera Transpeninsular CSL-SJC Km. 3.7 Mza\, Cabo San lucas\, Baja California Sur\, 23463\, Mexico
CATEGORIES:Cabo San Lucas,Food & wine
ATTACH;FMTTYPE=image/webp:https://gringogazette.com/wp-content/uploads/2025/09/Sonora-Ad-1000x1000-1.webp
END:VEVENT
BEGIN:VEVENT
DTSTART;TZID=America/Mazatlan:20251018T180000
DTEND;TZID=America/Mazatlan:20251018T180000
DTSTAMP:20260420T023432
CREATED:20250920T202212Z
LAST-MODIFIED:20251124T063613Z
UID:10000054-1760810400-1760810400@gringogazette.com
SUMMARY:Reggae fest - La paz
DESCRIPTION:A festival full of positive vibes in our beautiful port of illusion\, showcasing local talent and featuring internationally renowned guests.
URL:https://gringogazette.com/event/reggue-fest-la-paz/
LOCATION:Merkén\, Km. 8.5 Carretera al norte Chametla\, La Paz\, B.C.S.\, La paz\, Baja California Sur\, 23205\, Mexico
ATTACH;FMTTYPE=image/jpeg:https://gringogazette.com/wp-content/uploads/2025/09/549917484_1302956648289594_7272736594720000349_n.jpg
END:VEVENT
BEGIN:VEVENT
DTSTART;TZID=America/Mazatlan:20251018T213000
DTEND;TZID=America/Mazatlan:20251018T233000
DTSTAMP:20260420T023432
CREATED:20250905T173435Z
LAST-MODIFIED:20250909T040641Z
UID:10000009-1760823000-1760830200@gringogazette.com
SUMMARY:Franco Escamilla Show 1995
DESCRIPTION:Franco Escamilla\, one of Mexico’s most successful and beloved stand-up comedians\, brings his brand-new show “1995” to La Paz. Known as “El Amo del Sarcasmo” (The Master of Sarcasm)\, Escamilla has built an international career with his sharp humor\, relatable storytelling\, and unique mix of comedy and music. \nIn this new tour\, audiences can expect: \nFresh Material: Completely new stories and routines centered around Franco’s life experiences\, observations\, and his unmistakable comedic style. \nA Journey Back in Time: The show reflects on the year 1995\, filled with nostalgia\, pop culture references\, and witty commentary about growing up in that era. \nUniversal Humor: Jokes that resonate not only with Mexican audiences but with fans worldwide\, touching on family\, relationships\, and everyday struggles. \nLive Entertainment: A dynamic performance where Franco blends stand-up comedy with his passion for music\, keeping the audience engaged from start to finish.
URL:https://gringogazette.com/event/franco-escamilla-show-1995/
CATEGORIES:Comedy,La Paz
ATTACH;FMTTYPE=image/jpeg:https://gringogazette.com/wp-content/uploads/2025/09/14578.jpg
END:VEVENT
END:VCALENDAR