BEGIN:VCALENDAR
VERSION:2.0
PRODID:-//Gringo Gazette - ECPv6.15.13.1//NONSGML v1.0//EN
CALSCALE:GREGORIAN
METHOD:PUBLISH
X-WR-CALNAME:Gringo Gazette
X-ORIGINAL-URL:https://gringogazette.com
X-WR-CALDESC:Events for Gringo Gazette
REFRESH-INTERVAL;VALUE=DURATION:PT1H
X-Robots-Tag:noindex
X-PUBLISHED-TTL:PT1H
BEGIN:VTIMEZONE
TZID:America/Mazatlan
BEGIN:STANDARD
TZOFFSETFROM:-0700
TZOFFSETTO:-0700
TZNAME:MST
DTSTART:20240101T000000
END:STANDARD
END:VTIMEZONE
BEGIN:VEVENT
DTSTART;TZID=America/Mazatlan:20251201T080000
DTEND;TZID=America/Mazatlan:20260131T170000
DTSTAMP:20260422T230220
CREATED:20251205T040944Z
LAST-MODIFIED:20251205T040944Z
UID:10000176-1764576000-1769878800@gringogazette.com
SUMMARY:12th Baja California Sur Visual Arts Biennial Exhibition
DESCRIPTION:Experience a diverse showcase of contemporary visual art at the 12th Baja California Sur Visual Arts Biennial Exhibition. This event highlights outstanding works in both three-dimensional forms—such as sculpture\, installation\, and objects—and two-dimensional techniques\, including painting\, drawing\, and graphic art. Featuring creations from talented regional artists\, the exhibition offers a unique opportunity to explore fresh perspectives and artistic expressions. Free admission allows everyone to enjoy this cultural celebration throughout December 2025 and January 2026 at the Carlos Olachea Bouciéguez Art Gallery.
URL:https://gringogazette.com/event/12th-baja-california-sur-visual-arts-biennial-exhibition/
LOCATION:Galería de Arte Carlos Olachea Bouciéguez\, Antonio Navarro entre Altamirano y H. de Independencia\, Colonia Centro\, La Paz\, Baja California Sur.\, La Paz\, Baja California Sur\, Mexico
ATTACH;FMTTYPE=image/jpeg:https://gringogazette.com/wp-content/uploads/2025/12/594604235_1177031477938460_4065447321370569420_n.jpg
END:VEVENT
BEGIN:VEVENT
DTSTART;TZID=America/Mazatlan:20260106T080000
DTEND;TZID=America/Mazatlan:20260109T170000
DTSTAMP:20260422T230220
CREATED:20251227T233739Z
LAST-MODIFIED:20251227T233739Z
UID:10000209-1767686400-1767978000@gringogazette.com
SUMMARY:Salsa Festivals in La Paz
DESCRIPTION:La Pazion Fest is a multi-day Latin dance festival happening from February 6 to 9\, 2026\, in the beautiful coastal city of La Paz\, Baja California Sur. This immersive experience combines dance\, music\, and community in a vibrant beachside setting. \nAttendees will have access to more than 15 workshops\, social dances\, live shows\, and a special beach party\, with performances and classes led by both local and international artists. The festival also offers professional certification opportunities with renowned instructors Tito Ortos and Tamara. \nFestival packages include a four-night stay at Hotel One with daily breakfast\, as well as full access to all official events and activities. VIP pass holders enjoy added perks such as scheduled transportation between the hotel and the main venue (Salón CBV) and an official event t-shirt. \nLa Pazion Fest delivers an all-inclusive salsa and bachata experience\, blending high-quality dance training with the relaxed charm of a seaside destination.
URL:https://gringogazette.com/event/salsa-festivals-in-la-paz/
LOCATION:One La Paz\, Nicolás Bravo 590\, Esq. Ignacio Altamirano\, Col. Centro 23000 La Paz\, Baja California Sur Mexico\, La paz\, Mexico
CATEGORIES:La Paz
ATTACH;FMTTYPE=image/jpeg:https://gringogazette.com/wp-content/uploads/2025/12/salsa-dancers-illustration.jpg
ORGANIZER;CN="La Pazion Fest BCS":MAILTO:lapazionfestbcs@gmail.com
END:VEVENT
BEGIN:VEVENT
DTSTART;TZID=America/Mazatlan:20260107T090000
DTEND;TZID=America/Mazatlan:20260110T180000
DTSTAMP:20260422T230220
CREATED:20251215T230807Z
LAST-MODIFIED:20251215T230807Z
UID:10000195-1767776400-1768068000@gringogazette.com
SUMMARY:Breakthrough Academy Winter Summit 2026
DESCRIPTION:North America’s most ambitious\, growth-driven contractors are coming together at Hard Rock Los Cabos for an immersive three-day experience designed to set the stage for the next 12 months of success. Each morning is dedicated to sharpening your vision\, building a powerful 2026 Annual Strategic Plan\, and participating in expert-led sessions and industry-specific masterminds tailored to your business goals. \nThe experience is fully customizable\, allowing you to design an agenda that aligns with where your business is today—and where you want it to go. \nAnd it’s not all strategy and sessions. After two days of focused planning and learning\, BTA delivers an unforgettable lineup of experiences. Whether you choose an adrenaline-filled adventure\, time to relax and recharge\, or meaningful conversations by the pool\, the choice is yours. \nEvenings are where everything comes together. Celebrate your progress and the strength of the BTA community during Awards Night\, then unwind with beachfront dinners\, cocktails\, and engaging conversations alongside 400 like-minded contractors. \nYou’ll leave with a clear roadmap\, powerful new connections\, and the momentum needed to make 2026 your strongest year yet. If you’re serious about scaling your business\, reclaiming your time\, and operating at the next level—this is the place to be.
URL:https://gringogazette.com/event/breakthrough-academy-winter-summit-2026/
LOCATION:Hard Rock Hotel\, V2M9+C6 Fraccionamiento Diamante\, Diamante Blvd.\, Fraccionamiento Diamante\, Cabo San Lucas\, B.C.S.\, Cabo San lucas\, Baja California Sur\, 23473\, Mexico
CATEGORIES:Cabo San Lucas,Food & wine,Music,Relaxing,Retirement
ATTACH;FMTTYPE=image/png:https://gringogazette.com/wp-content/uploads/2025/12/Academy.PNG
END:VEVENT
BEGIN:VEVENT
DTSTART;VALUE=DATE:20260114
DTEND;VALUE=DATE:20260119
DTSTAMP:20260422T230220
CREATED:20250917T032613Z
LAST-MODIFIED:20250917T032631Z
UID:10000048-1768348800-1768780799@gringogazette.com
SUMMARY:Tropico de cancer festival
DESCRIPTION:The Tropic of Cancer Festival in Todos Santos is a cultural and musical event that brings together national and international artists to celebrate live music in an intimate and intimate setting. It takes place in the magical town of Todos Santos\, Baja California Sur\, and combines concerts in various venues with activities related to local culture\, gastronomy\, and the community. \nIts essence lies in creating a space where the audience can enjoy different musical genres—from rock and folk to more alternative offerings—on small stages that foster closeness with the artists\, while promoting local talent and the identity of the region.
URL:https://gringogazette.com/event/tropico-de-cancer/
LOCATION:Todos Santos\, 23°26′49″N 110°13′23″O﻿ / ﻿23.44688\, -110.22308\, Todos Santos\, BC\, 23300\, Mexico
ATTACH;FMTTYPE=image/jpeg:https://gringogazette.com/wp-content/uploads/2025/09/548926781_18381426946132830_4151050249737556998_n.jpg
END:VEVENT
BEGIN:VEVENT
DTSTART;TZID=America/Mazatlan:20260116T170000
DTEND;TZID=America/Mazatlan:20260116T190000
DTSTAMP:20260422T230220
CREATED:20260107T060337Z
LAST-MODIFIED:20260107T060337Z
UID:10000216-1768582800-1768590000@gringogazette.com
SUMMARY:The All Saints' Pact
DESCRIPTION:The Historical Archive of the State “Pablo L. Martínez” invites the public to the editorial presentation of The Pact of Todos Santos\, a book by Vicky Güereña Mills. The work explores key moments in the civil struggle against toxic mining and large-scale development projects in Baja California Sur\, highlighting community resistance and social organization. \nThe presentation will feature commentary by Víctor Adrián Trujillo Muñoz\, Leonardo Reyes Silva\, and Juan Ángel Trasviña\, offering historical and social perspectives on the book’s themes. \nThis event is open to the general public and is ideal for those interested in history\, environmental justice\, and social movements in Baja California Sur.
URL:https://gringogazette.com/event/the-all-saints-pact/
LOCATION:Sala de Atención a Usuarios del Archivo Histórico\, Ignacio Altamirano 975\, entre Encinas y Legaspi\, col. Centro\, La Paz\, Baja California Sur\, La Paz\, Baja California Sur\, 23000\, Mexico
CATEGORIES:Book Fair,La Paz
ATTACH;FMTTYPE=image/jpeg:https://gringogazette.com/wp-content/uploads/2026/01/611082179_1202682545373353_3784741840129192117_n.jpg
END:VEVENT
BEGIN:VEVENT
DTSTART;TZID=America/Mazatlan:20260123T183000
DTEND;TZID=America/Mazatlan:20260123T203000
DTSTAMP:20260422T230220
CREATED:20260123T050122Z
LAST-MODIFIED:20260123T050122Z
UID:10000226-1769193000-1769200200@gringogazette.com
SUMMARY:Bluesy Friday
DESCRIPTION:Bluesy Friday  Dr. Blues Comes BackBluesy Friday is a laid-back live music event celebrating the soulful sounds of blues in an intimate and relaxed setting. Taking place on January 23rd\, 2026 at 6:30 PM at Tiki Todd’s Sports Bar & Restaurant in El Centenario\, BCS\, the night features a live performance by Blues Azul\, delivering smooth blues rhythms and heartfelt melodies. \nThis event is perfect for music lovers looking to unwind\, enjoy great drinks\, and connect with the local blues scene. With a casual atmosphere\, affordable cover charge\, and quality live music\, Bluesy Friday promises a warm\, groovy evening where good vibes and classic blues take center stage.
URL:https://gringogazette.com/event/bluesy-friday/
LOCATION:Tikki Todds\, Gral. Agustín Olachea 216-KM 15\, Centenario\, El Centenario\, B.C.S.\, La Paz\, Baja California Sur\, 23205\, Mexico
CATEGORIES:Beer,Concert,La Paz,Music,Party
ATTACH;FMTTYPE=image/jpeg:https://gringogazette.com/wp-content/uploads/2026/01/BLUES.jpg
END:VEVENT
BEGIN:VEVENT
DTSTART;TZID=America/Mazatlan:20260123T200000
DTEND;TZID=America/Mazatlan:20260123T220000
DTSTAMP:20260422T230220
CREATED:20251223T061652Z
LAST-MODIFIED:20251223T061652Z
UID:10000206-1769198400-1769205600@gringogazette.com
SUMMARY:English Comedy Night at La Osteria
DESCRIPTION:Get ready for a hilarious night of international stand-up comedy at La Osteria in the heart of the Hotel Zone\, San José del Cabo! \nFeaturing three top-tier comedians: \nTiffany Dundas A sharp\, fearless\, and wildly entertaining comedian known for her bold\, relatable humor. Seen on major stages and comedy festivals. \nAkeem Hoyte-Charles A high-energy\, quick-witted performer with a commanding presence and razor-sharp delivery. A favorite on the international comedy circuit. \nJon Gagnon A Canadian comedy powerhouse with dark\, clever\, and laugh-out-loud material. Credits include Just For Laughs\, Netflix\, and The Comedy Network. \nPresented by Cabo Comedy  bringing world-class laughs to Los Cabos! \nDon’t miss this incredible lineup of comedians who have performed on Netflix\, Just For Laughs\, and top stages worldwide. Secure your spot early it’s going to be a night of non-stop laughter!
URL:https://gringogazette.com/event/english-comedy-night-at-la-osteria/
LOCATION:La osteria\, P.º del Estero\, Zona Hotelera\, San José del Cabo\, B.C.S.\, San jose del Cabo\, Baja California Sur\, 23406\, Mexico
CATEGORIES:Acting,Comedy,San Jose del Cabo
ATTACH;FMTTYPE=image/png:https://gringogazette.com/wp-content/uploads/2025/12/Comedy.PNG
END:VEVENT
BEGIN:VEVENT
DTSTART;TZID=America/Mazatlan:20260123T200000
DTEND;TZID=America/Mazatlan:20260123T220000
DTSTAMP:20260422T230220
CREATED:20260120T051046Z
LAST-MODIFIED:20260120T061116Z
UID:10000220-1769198400-1769205600@gringogazette.com
SUMMARY:Concert by the state school of music choir
DESCRIPTION:Concert by the State School of Music Choir This event is a special live concert featuring the State School of Music Choir\, bringing together talented vocalists for an evening of artistic excellence and musical expression. The concert showcases a carefully selected repertoire that highlights choral harmony\, technique\, and emotion\, reflecting the choir’s academic training and creative spirit. Designed for music lovers and the general public\, the event celebrates culture\, education\, and the power of collective voices in a professional concert setting during the 2026 season.
URL:https://gringogazette.com/event/concert-by-the-state-school-of-music-choir/
LOCATION:Teatro de la Paz\, Antonio Navarro e/ Altamirano y H\, de Independencia Centro\, Zona Central\, 23000 La Paz\, B.C.S.\, La Paz\, Baja California Sur\, 23000\, Mexico
CATEGORIES:Concert,La Paz,Music
ATTACH;FMTTYPE=image/jpeg:https://gringogazette.com/wp-content/uploads/2026/01/Teatro-1.jpg
END:VEVENT
BEGIN:VEVENT
DTSTART;TZID=America/Mazatlan:20260124T203000
DTEND;TZID=America/Mazatlan:20260124T223000
DTSTAMP:20260422T230220
CREATED:20260120T051731Z
LAST-MODIFIED:20260120T061244Z
UID:10000221-1769286600-1769293800@gringogazette.com
SUMMARY:The black birds of farewell
DESCRIPTION:The Black Birds of Farewell is a theatrical event that invites audiences into a powerful and emotional stage experience. Through symbolic storytelling\, evocative performances\, and a striking visual atmosphere\, the play explores themes of loss\, memory\, separation\, and transformation. The production blends dramatic narrative with poetic elements\, creating an immersive journey that reflects on the moments of farewell that define the human experience. Designed for theater enthusiasts and general audiences alike\, this event offers a thought-provoking and emotionally resonant performance. \n 
URL:https://gringogazette.com/event/the-black-birds-of-farewell/
LOCATION:Teatro de la Paz\, Antonio Navarro e/ Altamirano y H\, de Independencia Centro\, Zona Central\, 23000 La Paz\, B.C.S.\, La Paz\, Baja California Sur\, 23000\, Mexico
CATEGORIES:Acting,Arts,La Paz,Theater
ATTACH;FMTTYPE=image/jpeg:https://gringogazette.com/wp-content/uploads/2026/01/Teatro-2.jpg
END:VEVENT
BEGIN:VEVENT
DTSTART;TZID=America/Mazatlan:20260128T190000
DTEND;TZID=America/Mazatlan:20260128T210000
DTSTAMP:20260422T230220
CREATED:20260120T053332Z
LAST-MODIFIED:20260120T061350Z
UID:10000222-1769626800-1769634000@gringogazette.com
SUMMARY:Wind Symphony Orchestra
DESCRIPTION:The Wind Symphony Orchestra event presents a dynamic and powerful live concert featuring a full ensemble of wind and percussion instruments. This performance highlights the richness\, precision\, and expressive range of symphonic wind music\, offering a carefully curated program that may include classical works\, contemporary compositions\, and modern symphonic arrangements. \nDesigned for music lovers of all ages\, the concert delivers an immersive auditory experience where bold brass\, lyrical woodwinds\, and rhythmic percussion come together in perfect harmony. The Wind Symphony Orchestra event celebrates musical excellence\, artistic collaboration\, and the vibrant energy of live orchestral performance in a concert hall setting.
URL:https://gringogazette.com/event/wind-symphony-orchestra/
LOCATION:Teatro de la Paz\, Antonio Navarro e/ Altamirano y H\, de Independencia Centro\, Zona Central\, 23000 La Paz\, B.C.S.\, La Paz\, Baja California Sur\, 23000\, Mexico
CATEGORIES:Arts,La Paz,Music,Relaxing,Theater
ATTACH;FMTTYPE=image/jpeg:https://gringogazette.com/wp-content/uploads/2026/01/Teatro-3.jpg
END:VEVENT
BEGIN:VEVENT
DTSTART;TZID=America/Mazatlan:20260129T000000
DTEND;TZID=America/Mazatlan:20260201T113000
DTSTAMP:20260422T230220
CREATED:20251214T054348Z
LAST-MODIFIED:20251214T054348Z
UID:10000189-1769644800-1769945400@gringogazette.com
SUMMARY:Transformational Retreat in Todos Santos\, Mexico
DESCRIPTION:Escape to Todos Santos\, Mexico for a 4-day\, 3-night transformational wellness retreat designed to reconnect you with your true self\, nature\, and community. \nThis immersive experience blends mindful movement\, meditation\, breathwork\, and authentic relating practices to support personal growth and deep inner healing. Guests will enjoy nourishing meals made with fresh\, local ingredients\, guided journaling\, energy healing sessions\, and powerful ceremonial experiences such as cacao ceremony and an optional traditional temazcal. \nSet in a serene sanctuary\, this retreat offers the perfect balance of adventure\, mindfulness\, and soulful connection—creating space to release\, realign\, and return home renewed. \n$2\,375-single person \n-or- \n$4\,300- for couple or two friends that book together ($450 savings)
URL:https://gringogazette.com/event/transformational-retreat-in-todos-santos-mexico/
LOCATION:Tribu Todos Santos\, Cam. Viejo\, Las Tunas\, 23300 Todos Santos\, B.C.S.\, Todos Santos\, BC\, Select a State:\, 23300\, Mexico
ATTACH;FMTTYPE=image/jpeg:https://gringogazette.com/wp-content/uploads/2025/12/https___cdnevbuc_com_images_1017454533_2335936932273_1_original.jpg
END:VEVENT
BEGIN:VEVENT
DTSTART;TZID=America/Mazatlan:20260129T200000
DTEND;TZID=America/Mazatlan:20260129T220000
DTSTAMP:20260422T230220
CREATED:20260120T053927Z
LAST-MODIFIED:20260120T061459Z
UID:10000223-1769716800-1769724000@gringogazette.com
SUMMARY:Magical Mexico
DESCRIPTION:Magical Mexico is a vibrant theatrical event that celebrates the richness\, color\, and spirit of Mexican culture through music\, dance\, and storytelling. This stage production takes audiences on a journey across Mexico’s traditions\, folklore\, and regional identities\, blending visual spectacle with expressive performances and immersive soundscapes. \nDesigned for audiences of all ages\, the show highlights cultural heritage\, imagination\, and artistic expression\, creating an uplifting and engaging experience. Magical Mexico invites spectators to connect with the country’s history and creativity in a festive\, emotionally rich theatrical celebration.
URL:https://gringogazette.com/event/magical-mexico/
LOCATION:Teatro de la Paz\, Antonio Navarro e/ Altamirano y H\, de Independencia Centro\, Zona Central\, 23000 La Paz\, B.C.S.\, La Paz\, Baja California Sur\, 23000\, Mexico
CATEGORIES:Acting,Arts,La Paz,Theater
ATTACH;FMTTYPE=image/jpeg:https://gringogazette.com/wp-content/uploads/2026/01/Teatro-4.jpg
END:VEVENT
BEGIN:VEVENT
DTSTART;VALUE=DATE:20260130
DTEND;VALUE=DATE:20260202
DTSTAMP:20260422T230220
CREATED:20260107T062136Z
LAST-MODIFIED:20260107T062136Z
UID:10000217-1769731200-1769990399@gringogazette.com
SUMMARY:Open Art Studio Tour 2026
DESCRIPTION:The 15th edition of the Open Art Studio Tour 2026 invites the public to experience art where it’s created. Over three days January 30\, 31\, and February 1\, 2026 artists will open their studios to welcome visitors for an up-close look at their creative processes. \nThis self-guided tour offers a unique opportunity to discover original artwork\, meet local artists\, and connect with the creative community. The event celebrates artistic expression while supporting arts education and cultural exchange. \nWhether you’re an art collector\, enthusiast\, or simply curious\, the Open Art Studio Tour is a chance to explore\, engage\, and be inspired.
URL:https://gringogazette.com/event/open-art-studio-tour-2026/
LOCATION:Jazamango\, Los Naranjos s/n\, Fraccionamiento La Huerta\, Todos Santos\, B.C.S.\, Todos Santos\, Baja California Sur\, 23300\, Mexico
CATEGORIES:Arts,Relaxing,Todos Santos
ATTACH;FMTTYPE=image/jpeg:https://gringogazette.com/wp-content/uploads/2026/01/open.jpg
END:VEVENT
BEGIN:VEVENT
DTSTART;VALUE=DATE:20260130
DTEND;VALUE=DATE:20260131
DTSTAMP:20260422T230220
CREATED:20251211T001836Z
LAST-MODIFIED:20251211T001836Z
UID:10000184-1769731200-1769817599@gringogazette.com
SUMMARY:Blue Whale Festival 2026
DESCRIPTION:One of the most anticipated events of the year is approaching: the 2026 Blue Whale Festival A celebration dedicated to the natural wealth of our municipality and the unique experience that Loreto offers during this season\, with cultural\, artistic\, and family activities for the entire\ncommunity and visitors. \nThis annual event honors the arrival of the majestic blue whales to the warm waters of the Gulf of California. The festival features cultural activities\, educational programs\, art\, music\, and community events that highlight the importance of marine conservation and the natural beauty of Loreto’s seas. \nJoin locals and visitors alike for a day full of excitement\, learning\, and appreciation of marine life—an unforgettable experience for families\, nature lovers\, and ocean enthusiasts.
URL:https://gringogazette.com/event/blue-whale-festival-2026/
LOCATION:Parque Nacional Bahía de Loreto\, 25°51′51″N 111°07′18″O﻿ / ﻿25.86416667\, -111.1216667\, Loreto\, Baja California Sur\, 23880\, Mexico
CATEGORIES:Festivals,Loreto,Relaxing
ATTACH;FMTTYPE=image/jpeg:https://gringogazette.com/wp-content/uploads/2025/12/590266219_873186325223300_4426310778884821962_n.jpg
END:VEVENT
BEGIN:VEVENT
DTSTART;VALUE=DATE:20260130
DTEND;VALUE=DATE:20260204
DTSTAMP:20260422T230220
CREATED:20260126T215522Z
LAST-MODIFIED:20260126T215522Z
UID:10000233-1769731200-1770163199@gringogazette.com
SUMMARY:Traditional San Blas Festival 2026
DESCRIPTION:Honoring the Patron Saint San Blas  A Living Piece of Baja Heritage \nNestled in the rugged\, cactus-dotted mountains south of La Paz lies the historic rural community of San Blas\, a centuries-old gathering place for ranch families whose roots trace back to the 18th century missions and the old Camino Real trail. Every year\, the Fiestas Tradicionales de San Blas (recognized as part of Mexico’s Intangible Cultural Heritage) bring together locals\, families from nearby ranchos like Los Divisaderos\, and visitors for five days of deep-rooted devotion\, joyful music\, horseback tradition\, and unbreakable community spirit. \nThis isn’t just a party  it’s a vibrant celebration of Baja California Sur’s rural soul: faith\, vaquero culture\, live regional music\, and the simple joy of coming together under the desert stars. \nCome celebrate faith\, family\, and tradition in one of Baja’s most cherished hidden gems.
URL:https://gringogazette.com/event/traditional-san-blas-festival-2026/
LOCATION:San blas\, San Blas 23248 B.C.S\, La Paz\, Baja California Sur\, 23248\, Mexico
CATEGORIES:Arts,Dance,La Paz,Music,Party
ATTACH;FMTTYPE=image/jpeg:https://gringogazette.com/wp-content/uploads/2026/01/san-blas.jpg
END:VEVENT
BEGIN:VEVENT
DTSTART;TZID=America/Mazatlan:20260130T070000
DTEND;TZID=America/Mazatlan:20260130T100000
DTSTAMP:20260422T230220
CREATED:20260130T063531Z
LAST-MODIFIED:20260130T063531Z
UID:10000243-1769756400-1769767200@gringogazette.com
SUMMARY:Grey Whale Summer 2026
DESCRIPTION:Gray Whale Festival – Shore Fishing Tournament | Puerto Chale 2026 \nPuerto Chale welcomes anglers and families to the 2nd Shore Fishing Tournament\, held as part of the Gray Whale Festival 2026. This community-focused event celebrates marine life\, local culture\, and outdoor recreation in one of Baja California Sur’s most scenic coastal destinations. \nThe tournament features two categories: \n\n\nChildren’s Category (ages 6–12) – free registration \n\n\nOpen Category (ages 13 and up) – registration fee applies \n\n\nWith a guaranteed prize pool of $30\,000 MXN\, participants will compete for cash prizes and fishing gear\, making it an exciting and rewarding experience for both amateur and experienced anglers. \nThis event is part of the annual Gray Whale season in Puerto Chale\, offering visitors a unique opportunity to enjoy sport fishing while celebrating nature\, family participation\, and sustainable tourism.
URL:https://gringogazette.com/event/grey-whale-summer-2026/
LOCATION:Playa Puerto Chale\, Puerto Chale\, B.C.S.\, La Paz\, Baja California Sur\, 23134\, Mexico
CATEGORIES:Fishing,La Paz,Tournament
ATTACH;FMTTYPE=image/jpeg:https://gringogazette.com/wp-content/uploads/2026/01/Puerto-Chale.jpg
END:VEVENT
BEGIN:VEVENT
DTSTART;TZID=America/Mazatlan:20260130T150000
DTEND;TZID=America/Mazatlan:20260202T233000
DTSTAMP:20260422T230220
CREATED:20251223T063349Z
LAST-MODIFIED:20251223T063349Z
UID:10000208-1769785200-1770075000@gringogazette.com
SUMMARY:New Year\, New You Cabo 2026
DESCRIPTION:Meet DocSwiner on the sands of Mexico’s paradisal peninsula for 4 days/3 nights of respite and retreat at the Copola Villas at Quivira Los Cabos. Sponsored by Black Girl Vitamins\, Seasons 2 Consign\, Chatham Natural\, Serenity Hydration & Wellness and Swiner Publishing Company! \nEscape to hacienda-style residences and luxury condominiums designed to seduce your senses. Each offers luxury living expertly melded with contemporary Mexican decor\, upscale finishing touches and stunning ocean views. \nFrom the moment we meet during Friday’s welcome reception to our closing session\, gatherings will follow Safer Meetin protocol\, aligned with CDC travel guidelines. Anticipate info-rich workshops\, community building\, and plenty of time for play.
URL:https://gringogazette.com/event/new-year-new-you-cabo-2026/
LOCATION:Copala At Quivira\, Predio Paraíso Escondido s/n\, Cabo San Lucas\, B.C.S.\, Cabo San lucas\, Baja California Sur\, 23450\, Mexico
CATEGORIES:Cabo San Lucas,Food & wine,Relaxing,Retirement
ATTACH;FMTTYPE=image/png:https://gringogazette.com/wp-content/uploads/2025/12/new.PNG
END:VEVENT
BEGIN:VEVENT
DTSTART;TZID=America/Mazatlan:20260131T180000
DTEND;TZID=America/Mazatlan:20260131T200000
DTSTAMP:20260422T230220
CREATED:20260120T055304Z
LAST-MODIFIED:20260120T061655Z
UID:10000224-1769882400-1769889600@gringogazette.com
SUMMARY:The Corpse of Mr Garcia
DESCRIPTION:The Corpse of Mr. Garcia is a compelling theatrical event that blends dark humor\, mystery\, and social commentary into a captivating stage production. Through sharp dialogue and engaging performances\, the play explores themes of identity\, morality\, and the unexpected consequences of human actions\, all unfolding around a mysterious death. \nDesigned to intrigue and entertain\, the production invites audiences into a thought-provoking narrative filled with irony and dramatic tension. This event offers theatergoers a unique experience that balances wit and depth\, making The Corpse of Mr. Garcia a memorable and engaging night at the theater.
URL:https://gringogazette.com/event/the-corpse-of-mr-garcia-2/
LOCATION:Teatro de la Paz\, Antonio Navarro e/ Altamirano y H\, de Independencia Centro\, Zona Central\, 23000 La Paz\, B.C.S.\, La Paz\, Baja California Sur\, 23000\, Mexico
CATEGORIES:Acting,Arts,La Paz,Theater
ATTACH;FMTTYPE=image/jpeg:https://gringogazette.com/wp-content/uploads/2026/01/Teatro-5.jpg
END:VEVENT
END:VCALENDAR