BEGIN:VCALENDAR
VERSION:2.0
PRODID:-//Gringo Gazette - ECPv6.15.13.1//NONSGML v1.0//EN
CALSCALE:GREGORIAN
METHOD:PUBLISH
X-WR-CALNAME:Gringo Gazette
X-ORIGINAL-URL:https://gringogazette.com
X-WR-CALDESC:Events for Gringo Gazette
REFRESH-INTERVAL;VALUE=DURATION:PT1H
X-Robots-Tag:noindex
X-PUBLISHED-TTL:PT1H
BEGIN:VTIMEZONE
TZID:America/Mazatlan
BEGIN:STANDARD
TZOFFSETFROM:-0700
TZOFFSETTO:-0700
TZNAME:MST
DTSTART:20240101T000000
END:STANDARD
END:VTIMEZONE
BEGIN:VEVENT
DTSTART;TZID=America/Mazatlan:20251009T200000
DTEND;TZID=America/Mazatlan:20251009T230000
DTSTAMP:20260421T001703
CREATED:20250915T175740Z
LAST-MODIFIED:20250915T182353Z
UID:10000036-1760040000-1760050800@gringogazette.com
SUMMARY:English Comedy Night
DESCRIPTION:Get ready Red Rockers: the best pre-party in town is about to get wild! Cabo Comedy brings you the hilarious Headliner Patrick Mahila. Voted Vancouver’s funniest comedian\, Patrick has been seen on Netflix\, The Comedy Network and holds the Guinness World Record for most impressions under a minute. \n8pm at Agua Salada (right beside Sancho’s on the marina). This show is for anyone over 18. Message +1-604-600-0798 for questions or cash tickets. Grab your tickets early as this show is sure to sell out. Prepare for a night of outrageous non-stop laughter!
URL:https://gringogazette.com/event/english-comedy-night-2/
LOCATION:Agua Salada\, Blvd. Paseo de la Marina 1\, Centro\, 23450 Cabo San Lucas\, B.C.S.\, Los cabos\, Mexico
CATEGORIES:Cabo San Lucas,Festivals
ATTACH;FMTTYPE=image/jpeg:https://gringogazette.com/wp-content/uploads/2025/09/standupComedy.jpeg
END:VEVENT
BEGIN:VEVENT
DTSTART;VALUE=DATE:20251008
DTEND;VALUE=DATE:20251013
DTSTAMP:20260421T001703
CREATED:20250905T175754Z
LAST-MODIFIED:20250909T041649Z
UID:10000010-1759881600-1760313599@gringogazette.com
SUMMARY:Los Cabos Billfish Tournament 2025
DESCRIPTION:The Los Cabos Billfish Tournament is the official kickoff to offshore fishing season in Cabo San Lucas\, drawing top-tier sportfishing teams from around the world every October. Renowned for its high-energy competition\, participants vie for honors across multiple categories—ranging from landing the heaviest marlin to racking up the most billfish releases—and also competing in tuna\, wahoo\, and dorado divisions. With fast-paced action on the water and lively camaraderie dockside\, it’s as much a social spectacle as it is a competition. The tournament concludes with a glamorous awards gala at the beachfront Playa Grande Resort. \n  \nDates: \nOctober 8–12\, 2025 \nOct 8: Check-in and captains’ meeting at Playa Grande Resort \nOct 9–11: Fishing days (lines in at 7:00 am\, lines out at 4:30 pm) \nOct 12: Awards dinner and closing gala \n  \nLocation: \nIGY Marina\, Cabo San Lucas\, with events hosted at Playa Grande Resort \n  \nEntry Fees: \nBillfish Base Entry: $5\,000 USD per team \nGamefish (Tuna/Wahoo/Dorado) Entry: $2\,500 USD per team \nOptional Jackpots: Up to $49\,000 USD for teams going “all-in” \n  \nFormat: \nBoats check out at sunrise and compete for both largest catches and release points. Marlin must weigh at least 300 lbs. Gamefish must be 20+ lbs to qualify. All billfish releases must be video-documented. \n  \nAwards Categories Include: \nHeaviest marlin (black or blue) \nMost billfish release points \nHeaviest tuna\, wahoo\, and dorado \nDaily jackpots for marlin and gamefish \n  \nOrganizer: \nProduced by Bonnier\, the team behind the Offshore World Championship and Bermuda Triple Crown\, ensuring world-class standards in rules\, safety\, and competition.
URL:https://gringogazette.com/event/los-cabos-billfish-tournament-2025/
LOCATION:IGY Marina Cabo\, Centro\, Cabo San Lucas\, Baja California Sur\, 23450\, Mexico
CATEGORIES:Cabo San Lucas,Fishing,Tournament
ATTACH;FMTTYPE=image/jpeg:https://gringogazette.com/wp-content/uploads/2025/09/losCabosBillfish.jpg
END:VEVENT
BEGIN:VEVENT
DTSTART;VALUE=DATE:20251007
DTEND;VALUE=DATE:20251012
DTSTAMP:20260421T001703
CREATED:20250916T074036Z
LAST-MODIFIED:20250916T074036Z
UID:10000047-1759795200-1760227199@gringogazette.com
SUMMARY:State theater exhibition
DESCRIPTION:The 2025 Baja California Sur State Theater Showcase is a cultural event that brings together local companies and artists to present diverse theatrical works\, promoting the region’s creativity and performing talent. Over several days\, attendees can enjoy different genres and styles of theater in an atmosphere of artistic exchange and cultural enrichment\, consolidating Baja California Sur as a leading theater destination at the state level.
URL:https://gringogazette.com/event/state-theater-exhibition/
LOCATION:Instituto Sudcaliforniano de Cultura\, Calle Ignacio Altamirano 2640\, Zona Central\, 23000 La Paz\, B.C.S.\, La paz\, Baja California Sur\, Mexico
CATEGORIES:Arts,La Paz
ATTACH;FMTTYPE=image/jpeg:https://gringogazette.com/wp-content/uploads/2025/09/3w1AvKtI3mH6E3XHmUqaaw98cGe0syaH1KRZgand.jpeg
END:VEVENT
BEGIN:VEVENT
DTSTART;TZID=America/Mazatlan:20251005T080000
DTEND;TZID=America/Mazatlan:20251012T170000
DTSTAMP:20260421T001703
CREATED:20250916T070755Z
LAST-MODIFIED:20250916T070755Z
UID:10000045-1759651200-1760288400@gringogazette.com
SUMMARY:Triatlon el caimancito
DESCRIPTION:The El Caimancito Triathlon is a sports competition held at El Caimancito Beach\, La Paz\, and is part of the Baja California Sur State Triathlon Series. The event brings together triathletes of all ages and levels in swimming\, cycling\, and running\, including children’s categories that encourage the participation of younger participants. Beyond the competition\, the triathlon seeks to promote physical activity\, healthy sports\, and family togetherness in a privileged natural setting\, becoming a must-attend event for triathlon and outdoor enthusiasts.
URL:https://gringogazette.com/event/triatlon-el-caimancito/
LOCATION:Playa El Caimancito\, La paz\, 23089\, Mexico
CATEGORIES:La Paz,Race
ATTACH;FMTTYPE=image/jpeg:https://gringogazette.com/wp-content/uploads/2025/09/triatlon.jpg
END:VEVENT
BEGIN:VEVENT
DTSTART;TZID=America/Mazatlan:20250927T210000
DTEND;TZID=America/Mazatlan:20250927T233000
DTSTAMP:20260421T001703
CREATED:20250926T035308Z
LAST-MODIFIED:20250926T035308Z
UID:10000060-1759006800-1759015800@gringogazette.com
SUMMARY:PANDORA & FLANS INESPERADO TOUR LA PAZ
DESCRIPTION:Ilse shared that during her previous visits to La Paz she has enjoyed local products\, mentioning that the city has some of the best ice cream she has ever tasted. She encouraged the audience to take the opportunity to explore the city before the concert. \nFernanda Meade highlighted that these types of shows represent an opportunity to strengthen the bond between the artists and their fans\, while also rekindling memories of the years when both groups’ greatest hits were first released. \nThe event is part of a series of performances that Pandora and Flans have presented in different cities across the country\, receiving great enthusiasm from fans. The tour has been celebrated as a tribute to Mexican pop music of the 1980s.
URL:https://gringogazette.com/event/pandora-flans-inesperado-tour-la-paz/
LOCATION:Explanada del Centro de Convenciones ICC\, México 11 516\, 23060 La Paz\, B.C.S.\, La Paz\, Baja California Sur\, 23060\, Mexico
CATEGORIES:La Paz,Music
ATTACH;FMTTYPE=image/jpeg:https://gringogazette.com/wp-content/uploads/2025/09/download-1.jpg
END:VEVENT
BEGIN:VEVENT
DTSTART;TZID=America/Mazatlan:20250926T180000
DTEND;TZID=America/Mazatlan:20250926T230000
DTSTAMP:20260421T001703
CREATED:20250919T042541Z
LAST-MODIFIED:20250919T042541Z
UID:10000051-1758909600-1758927600@gringogazette.com
SUMMARY:Drink 5 Mixology Competition
DESCRIPTION:Get ready for an evening of creativity\, flavor\, and skill with the Drink5 Mixology Competition! This event brings together talented bartenders and mixologists to showcase their artistry in crafting innovative cocktails\, unique flavor combinations\, and showmanship behind the bar. \nWhat should you Expect: \n\n\nA panel of skilled mixologists competing in rounds to create exceptional drinks using a variety of spirits and ingredients. \n\n\nJudging based on criteria such as taste\, presentation\, originality\, and technique. \n\n\nA lively atmosphere perfect for cocktail enthusiasts\, foodies\, and anyone looking for a fun night out. \n\n\nOpportunities to sample delicious beverages\, meet the creators\, and discover new trends in mixology. \n\n\nWho Should Attend: \n\n\nCocktail lovers who want to try something new and explore creative drink ideas. \n\n\nBartenders and mixologists seeking inspiration and networking. \n\n\nAnyone looking for a social evening with great drinks\, energy\, and entertainment.
URL:https://gringogazette.com/event/drink-5-mixology-competition/
LOCATION:Torote Restaurant\, Altos del Tezal\, Parcela 02 El Tezal\,\, Cabo San lucas\, Baja California Sur\, 23454
CATEGORIES:Beer,Cabo San Lucas
ATTACH;FMTTYPE=image/jpeg:https://gringogazette.com/wp-content/uploads/2025/09/549895465_17855922276520051_1310004641711692410_n.jpg
END:VEVENT
BEGIN:VEVENT
DTSTART;TZID=America/Mazatlan:20250925T080000
DTEND;TZID=America/Mazatlan:20250928T170000
DTSTAMP:20260421T001703
CREATED:20250916T072322Z
LAST-MODIFIED:20250916T072322Z
UID:10000046-1758787200-1759078800@gringogazette.com
SUMMARY:7th edition of BajaSeries
DESCRIPTION:This event will bring together four teams from the Mexican Pacific League: Tomateros de Culiacán\, Cañeros de Los Mochis\, Águilas de Mexicali\, and the reigning champions\, Charros de Jalisco. The tournament will serve as part of their preparation for the upcoming winter season\, consolidating La Paz as a host of high-level sporting events in the region. \n(The price varies depending on the game and the seats you choose.)
URL:https://gringogazette.com/event/7th-edition-of-bajaseries/
LOCATION:Estadio Arturo C. Nahl\, Cl. 5 de Mayo 1055\, Zona Central\, 23000 La Paz\, B.C.S.\, La paz\, Baja California Sur\, Mexico
CATEGORIES:La Paz,Sports
ATTACH;FMTTYPE=image/jpeg:https://gringogazette.com/wp-content/uploads/2025/09/542084892_781443857972256_441650842519675683_n.jpg
END:VEVENT
BEGIN:VEVENT
DTSTART;VALUE=DATE:20250925
DTEND;VALUE=DATE:20250928
DTSTAMP:20260421T001703
CREATED:20250910T065551Z
LAST-MODIFIED:20250910T154611Z
UID:10000017-1758758400-1759017599@gringogazette.com
SUMMARY:International Bird Festival 2025
DESCRIPTION:International Bird Festival – A celebration dedicated to the biodiversity of Los Cabos\, featuring birdwatching tours of the San José del Cabo estuary\, inclusive workshops\, conservation talks\, and activities for the whole family\, promoting ecotourism and environmental stewardship.
URL:https://gringogazette.com/event/international-bird-festival/
LOCATION:Hotel Krystal Grand Los Cabos y Cerrito del Timbre\, Carr. Transpeninsular Km. 29\, La Jolla\, 23400 San José del Cabo\, B.C.S.\, Los cabos\, Baja California Sur\, Mexico
CATEGORIES:Cabo San Lucas,Festivals
ATTACH;FMTTYPE=image/jpeg:https://gringogazette.com/wp-content/uploads/2025/09/PRIMER-FESTIVAL-INTERNACIONAL-AVES-2-scaled-1-e1757519260438.jpg
END:VEVENT
BEGIN:VEVENT
DTSTART;TZID=America/Mazatlan:20250924T180000
DTEND;TZID=America/Mazatlan:20250925T233000
DTSTAMP:20260421T001703
CREATED:20250916T064851Z
LAST-MODIFIED:20250916T064851Z
UID:10000044-1758736800-1758843000@gringogazette.com
SUMMARY:Latin American Cultural Festival
DESCRIPTION:The Latin American Cultural Festival in Loreto is a celebration that combines music\, dance\, cuisine\, and crafts\, bringing together representatives from different regions to share the richness of their traditions. It is a free\, family-friendly event that celebrates the city’s anniversary\, becoming a meeting place where Latin American identity is experienced in a festive and colorful atmosphere.
URL:https://gringogazette.com/event/latin-american-cultural-festival/
LOCATION:Plaza Juárez\, Loreto\, Baja California Sur\, Mexico
CATEGORIES:Festivals,Loreto
ATTACH;FMTTYPE=image/jpeg:https://gringogazette.com/wp-content/uploads/2025/09/68a87c47ab35b.jpg
END:VEVENT
BEGIN:VEVENT
DTSTART;TZID=America/Mazatlan:20250919T200000
DTEND;TZID=America/Mazatlan:20250919T200000
DTSTAMP:20260421T001703
CREATED:20250912T034735Z
LAST-MODIFIED:20250912T034951Z
UID:10000023-1758312000-1758312000@gringogazette.com
SUMMARY:Buena Vista All Star in La Paz
DESCRIPTION:The Buena Vista All Stars show in La Paz promises an evening filled with Caribbean flavor and nostalgia\, featuring performances of Cuban classics that have shaped generations. This ensemble\, heir to the iconic Buena Vista Social Club\, brings together accomplished musicians who convey the essence of Havana through rhythms such as son\, bolero\, and guaracha. With their unmistakable style\, the group turns each performance into a cultural celebration that invites the audience to dance\, sing\, and enjoy a vibrant experience along La Paz’s waterfront.
URL:https://gringogazette.com/event/buena-vista-all-star-in-la-paz/
LOCATION:Kiosco del Malecón\, Paseo Álvaro Obregón\, Zona Central\, 23000 La Paz\, B.C.S.\, La paz\, Baja California Sur\, Mexico
CATEGORIES:La Paz,Music
ATTACH;FMTTYPE=image/jpeg:https://gringogazette.com/wp-content/uploads/2025/09/concierto.jpg
END:VEVENT
BEGIN:VEVENT
DTSTART;TZID=America/Mazatlan:20250919T170000
DTEND;TZID=America/Mazatlan:20250919T170000
DTSTAMP:20260421T001703
CREATED:20250912T051032Z
LAST-MODIFIED:20250912T051222Z
UID:10000024-1758301200-1758301200@gringogazette.com
SUMMARY:Sudcaliforniano Festival
DESCRIPTION:The South Californian festival celebrates a part of Mexican culture. At this festival\, you can find products and crafts for sale\, books for sale\, folkloric ballet performances\, mariachi bands\, lottery games\, etc.
URL:https://gringogazette.com/event/sudcaliforniano-festival/
LOCATION:unidad cultural prof jesús castro agúndez\, Antonio Navarro e/ Altamirano y H\, de Independencia Centro\, Zona Central\, 23000 La Paz\, B.C.S.\, La paz\, Baja California Sur\, Mexico
CATEGORIES:Festivals,La Paz
ATTACH;FMTTYPE=image/jpeg:https://gringogazette.com/wp-content/uploads/2025/09/festival-scaled.jpeg
END:VEVENT
BEGIN:VEVENT
DTSTART;TZID=America/Mazatlan:20250919T100000
DTEND;TZID=America/Mazatlan:20250919T233000
DTSTAMP:20260421T001703
CREATED:20250919T044339Z
LAST-MODIFIED:20250919T044339Z
UID:10000049-1758276000-1758324600@gringogazette.com
SUMMARY:Reggae Fest La Paz
DESCRIPTION:Reggae Fest in La Paz is a vibrant music event that brings together both local and international reggae\, ska\, rocksteady\, and dancehall artists. It’s more than just a concert — it’s a celebration of culture\, rhythm\, and community in the scenic city of La Paz\, Baja California Sur. \nThe festival atmosphere is laid-back yet energetic. Concerts are often held in iconic public spaces like the malecón or cultural houses\, creating a strong connection to the city’s coastal beauty. Attendees experience not only live music but also DJ sets\, Sound System sessions\, and sometimes the inclusion of roots\, dub\, and vinyl culture.
URL:https://gringogazette.com/event/reggae-fest-la-paz/
LOCATION:Callejon Artesanos\, Callejon Artesanos #40 Zona centro La PazB.C.S\, La Paz\, Baja California Sur\, 23000
CATEGORIES:La Paz,Music
ATTACH;FMTTYPE=image/jpeg:https://gringogazette.com/wp-content/uploads/2025/09/547915845_1299631195288806_1642809042380997324_n.jpg
END:VEVENT
BEGIN:VEVENT
DTSTART;TZID=America/Mazatlan:20250913T203000
DTEND;TZID=America/Mazatlan:20250913T203000
DTSTAMP:20260421T001703
CREATED:20250910T221524Z
LAST-MODIFIED:20250910T221524Z
UID:10000020-1757795400-1757795400@gringogazette.com
SUMMARY:La gozancia cubana
DESCRIPTION:A special night to enjoy live music\, Cuban salsa\, and let yourself be carried away by the rhythm.
URL:https://gringogazette.com/event/la-gozancia-cubana/
LOCATION:Casa Fandango\, Esq. Antonio\, Lerdo de Tejada\, A. Mijares\, Zona Central\, La Paz\, B.C.S.\, La Paz\, Baja California Sur\, 23000\, Mexico
CATEGORIES:Beer,La Paz,Music
ATTACH;FMTTYPE=image/jpeg:https://gringogazette.com/wp-content/uploads/2025/09/LA-GOZANCIA-CUBANA.jpg
END:VEVENT
END:VCALENDAR