BEGIN:VCALENDAR
VERSION:2.0
PRODID:-//Gringo Gazette - ECPv6.15.13.1//NONSGML v1.0//EN
CALSCALE:GREGORIAN
METHOD:PUBLISH
X-WR-CALNAME:Gringo Gazette
X-ORIGINAL-URL:https://gringogazette.com
X-WR-CALDESC:Events for Gringo Gazette
REFRESH-INTERVAL;VALUE=DURATION:PT1H
X-Robots-Tag:noindex
X-PUBLISHED-TTL:PT1H
BEGIN:VTIMEZONE
TZID:America/Mazatlan
BEGIN:STANDARD
TZOFFSETFROM:-0700
TZOFFSETTO:-0700
TZNAME:MST
DTSTART:20250101T000000
END:STANDARD
END:VTIMEZONE
BEGIN:VEVENT
DTSTART;TZID=America/Mazatlan:20260411T100000
DTEND;TZID=America/Mazatlan:20260411T120000
DTSTAMP:20260422T154239
CREATED:20260406T192322Z
LAST-MODIFIED:20260406T192322Z
UID:10000739-1775901600-1775908800@gringogazette.com
SUMMARY:Cyanotype Workshop
DESCRIPTION:Cyanotype Workshop  Create with Light An Early Photographic Technique Using Sunlight \nJoin us for a beautiful and hands-on Cyanotype Workshop presented by Art & Culture in collaboration with La Cor Cuit\, taking place on Saturday\, April 11\, 2026\, at Cranía • Shala\, La Playita\, San José del Cabo. \nCyanotype is one of the oldest photographic printing processes\, dating back to the 19th century. Using light-sensitive chemicals and natural sunlight\, participants will create stunning deep-blue prints on paper or fabric. The result is a unique\, artistic image with rich Prussian blue tones and delicate white details  a magical process where sunlight literally becomes the image. \nThe workshop combines art\, science\, and nature in a relaxed\, creative outdoor setting right by the beach making it a perfect morning activity in Los Cabos. \nWhether you want to create a unique keepsake\, experiment with a new artistic technique\, or simply enjoy a mindful\, creative morning\, this cyanotype workshop offers a memorable and beautiful experience.
URL:https://gringogazette.com/event/cyanotype-workshop/
LOCATION:CRANIA Air Disco\, Global Makerspace & Artist Residency\, Marina Puerto\, Poblado La Playa\, San José del Cabo\, B.C.S.\, San jose del Cabo\, Baja California Sur\, 23403\, Mexico
CATEGORIES:Arts,Baja California Sur,Culture,Relaxing,San Jose del Cabo,Workshop
ATTACH;FMTTYPE=image/jpeg:https://gringogazette.com/wp-content/uploads/2026/04/CYANOTYPE-WORKSHOP.jpg
END:VEVENT
BEGIN:VEVENT
DTSTART;TZID=America/Mazatlan:20260407T160000
DTEND;TZID=America/Mazatlan:20260410T173000
DTSTAMP:20260422T154239
CREATED:20260403T041733Z
LAST-MODIFIED:20260403T041733Z
UID:10000666-1775577600-1775842200@gringogazette.com
SUMMARY:Sea of ​​shapes - Art Workshop 2026
DESCRIPTION:“Mar de Formas”  Art and Nature Workshop is a creative program organized by the Museo de Arte de Baja California Sur\, focused on exploring the relationship between art and the natural world. \nLed by artist Ximena González\, this workshop invites participants to experiment with artistic techniques inspired by organic forms\, textures\, and elements of nature. It is designed for youth and adults aged 16 and up\, offering a space for creativity\, observation\, and artistic expression. \nThe workshop will take place from Tuesday\, April 7 to Friday\, April 10\, from 4:00 PM to 5:30 PM. Registration is currently open\, but spaces are limited\, so early sign-up is encouraged. \nFor more information and registration\, participants can contact the museum during office hours (Tuesday to Friday\, 10:00 AM to 3:00 PM) via phone. \nOverall\, Mar de Formas provides a thoughtful and inspiring artistic experience that connects creativity with nature in a relaxed and educational setting. \nWorkshop registration is by phone only: 612-129-4176
URL:https://gringogazette.com/event/sea-of-shapes-art-workshop-2026/
LOCATION:Museo de Arte de BCS\, Cl. 5 de Mayo SN-S"BANCO VITAL"\, Zona Central\, La Paz\, B.C.S.\, La Paz\, Baja California Sur\, Cl. 5 de Mayo SN-S"BANCO VITAL"\, Zona Central\, 23000 La Paz\, B.C.S.\, Mexico
CATEGORIES:Arts,La Paz,Museum,Workshop
ATTACH;FMTTYPE=image/jpeg:https://gringogazette.com/wp-content/uploads/2026/04/Mar-de-formas.jpg
END:VEVENT
BEGIN:VEVENT
DTSTART;TZID=America/Mazatlan:20260404T180000
DTEND;TZID=America/Mazatlan:20260404T193000
DTSTAMP:20260422T154239
CREATED:20260402T070201Z
LAST-MODIFIED:20260402T070201Z
UID:10000665-1775325600-1775331000@gringogazette.com
SUMMARY:Blue Dreams Workshop
DESCRIPTION:“Sábados de Xpresarte”  Blue Dreams Workshop is a creative art event organized by the Instituto de la Cultura y las Artes de Los Cabos in collaboration with Jardín del Arte. \nThis session will take place on Saturday\, April 4 at 6:00 PM at Plaza Antonio Mijares in San José del Cabo. The featured activity is the “Blue Dreams” drawing workshop\, led by artist Frida Avalos\, focusing on artistic expression through drawing techniques. \nThe workshop is specially designed for children\, offering a fun and inspiring environment where kids can explore their creativity and imagination. \nBest of all\, the event is completely free\, making it an accessible cultural experience for families and the community.
URL:https://gringogazette.com/event/blue-dreams-workshop/
LOCATION:Plaza Antonio Mijares\, Blvd. Antonio Mijares\, Centro\, San José del Cabo\, B.C.S.\, San jose del cabo\, Baja California Sur\, 23400\, Mexico
CATEGORIES:Arts,Culture,Drawing,Relaxing,San Jose del Cabo,Workshop
ATTACH;FMTTYPE=image/png:https://gringogazette.com/wp-content/uploads/2026/04/Taller-de-blue-dreams.PNG
END:VEVENT
BEGIN:VEVENT
DTSTART;TZID=America/Mazatlan:20260328T110000
DTEND;TZID=America/Mazatlan:20260328T123000
DTSTAMP:20260422T154239
CREATED:20260323T193646Z
LAST-MODIFIED:20260323T193646Z
UID:10000641-1774695600-1774701000@gringogazette.com
SUMMARY:Art Workshop Little Brushes of Baja California Sur
DESCRIPTION:“Art and Nature Workshop” is a creative activity organized as part of the Pincelitos Sudcalifornianos program at the Museo de Arte de Baja California Sur. \nThis workshop invites participants especially children and families to explore the relationship between art and the natural environment. Using materials inspired by nature\, such as leaves\, textures\, and organic colors\, attendees will create their own artistic pieces while learning about creativity\, observation\, and environmental appreciation. \nHosted with the support of the Instituto Sudcaliforniano de Cultura\, the event promotes artistic expression and cultural engagement in a fun\, hands-on setting. \nWorkshop registration only via telephone: 612-129-4176
URL:https://gringogazette.com/event/art-workshop-little-brushes-of-baja-california-sur/
LOCATION:Museo de Arte de BCS\, Cl. 5 de Mayo SN-S"BANCO VITAL"\, Zona Central\, La Paz\, B.C.S.\, La Paz\, Baja California Sur\, Cl. 5 de Mayo SN-S"BANCO VITAL"\, Zona Central\, 23000 La Paz\, B.C.S.\, Mexico
CATEGORIES:Arts,La Paz,Museum,Relaxing,Workshop
ATTACH;FMTTYPE=image/jpeg:https://gringogazette.com/wp-content/uploads/2026/03/taller-arte-y-naturaleza.jpg
END:VEVENT
BEGIN:VEVENT
DTSTART;TZID=America/Mazatlan:20260327T170000
DTEND;TZID=America/Mazatlan:20260327T220000
DTSTAMP:20260422T154239
CREATED:20260327T034902Z
LAST-MODIFIED:20260327T034902Z
UID:10000648-1774630800-1774648800@gringogazette.com
SUMMARY:World Theater Day Part 2
DESCRIPTION:As part of the World Theatre Day celebrations\, organized by the Instituto de la Cultura y las Artes de Los Cabos\, a full day of theatrical activities will take place on Friday\, March 27 at Plaza Antonio Mijares. \nThe program begins at 5:00 PM with a puppet theater workshop\, led by the group Por Letras en Escena BCS under the direction of Elisa Lieras Puls. This interactive activity invites attendees to explore storytelling through puppetry. \nAt 7:00 PM\, the stage will feature the play “Hazú”\, performed by the Municipal Theater Workshop of Los Cabos and directed by Francisco Barragán. The evening concludes at 8:00 PM with a musical theater performance of “Don Quixote”\, presented by the Gran Ohana group from COBACH Plantel 02\, directed by Julio César Trigueros. \nThis day offers a rich combination of workshops and live performances\, celebrating theater in its many forms. Admission is free\, making it an accessible cultural experience for the entire community.
URL:https://gringogazette.com/event/world-theater-day-part-2/
LOCATION:Plaza Antonio Mijares\, Blvd. Antonio Mijares\, Centro\, San José del Cabo\, B.C.S.\, San jose del cabo\, Baja California Sur\, 23400\, Mexico
CATEGORIES:Acting,Arts,Culture,San Jose del Cabo,Theater,Workshop
ATTACH;FMTTYPE=image/png:https://gringogazette.com/wp-content/uploads/2026/03/dia-mundial-del-teatro.PNG
END:VEVENT
BEGIN:VEVENT
DTSTART;TZID=America/Mazatlan:20260313T160000
DTEND;TZID=America/Mazatlan:20260313T200000
DTSTAMP:20260422T154239
CREATED:20260306T024806Z
LAST-MODIFIED:20260306T024806Z
UID:10000607-1773417600-1773432000@gringogazette.com
SUMMARY:Homemade Lithograph - workshop
DESCRIPTION:The Introductory Workshop on Homemade Lithography is a free creative learning experience held in La Paz at the Casa de Cultura del Estado de Baja California Sur. \nLed by instructor Karla Antuna\, this hands-on workshop introduces participants to the basics of lithography\, a traditional printmaking technique. Attendees will learn how to create their own prints using accessible materials and simple tools\, exploring the artistic process from design to final impression. \nThe workshop will take place on March 6\, 13\, and 20\, 2026\, from 4:00 PM to 8:00 PM. Space is limited\, so participants are encouraged to reserve their spot in advance and request the materials list by contacting 33 1431 0320. \nThis event is ideal for beginners\, art enthusiasts\, and anyone interested in learning a classic printmaking technique in a collaborative and cultural environment.
URL:https://gringogazette.com/event/homemade-lithograph-workshop/
LOCATION:Casa de Cultura Baja California Sur\, calle Francisco I. Madero #825 entre Manuel Torre Iglesias Juan María de Salvatierra y\, Esterito\, La Paz\, B.C.S\, La Paz\, Baja California Sur\, 23020\, Mexico
CATEGORIES:Arts,Culture,La Paz,Relaxing,Workshop
ATTACH;FMTTYPE=image/jpeg:https://gringogazette.com/wp-content/uploads/2026/03/litografia-casera.jpg
END:VEVENT
END:VCALENDAR