BEGIN:VCALENDAR
VERSION:2.0
PRODID:-//Gringo Gazette - ECPv6.15.13.1//NONSGML v1.0//EN
CALSCALE:GREGORIAN
METHOD:PUBLISH
X-ORIGINAL-URL:https://gringogazette.com
X-WR-CALDESC:Events for Gringo Gazette
REFRESH-INTERVAL;VALUE=DURATION:PT1H
X-Robots-Tag:noindex
X-PUBLISHED-TTL:PT1H
BEGIN:VTIMEZONE
TZID:America/Mazatlan
BEGIN:STANDARD
TZOFFSETFROM:-0700
TZOFFSETTO:-0700
TZNAME:MST
DTSTART:20240101T000000
END:STANDARD
END:VTIMEZONE
BEGIN:VEVENT
DTSTART;TZID=America/Mazatlan:20251206T160000
DTEND;TZID=America/Mazatlan:20251206T200000
DTSTAMP:20260419T190405
CREATED:20251124T212949Z
LAST-MODIFIED:20251124T212949Z
UID:10000151-1765036800-1765051200@gringogazette.com
SUMMARY:Gastro Tour
DESCRIPTION:Awaken your taste buds with a tour of the best restaurants in the iconic center of Todos Santos\,\nwhere you can enjoy exquisite culinary delights paired with top-quality Mexican wines. \nIncludes a small wine tasting glass\, a participation bracelet with access to the event afterward\,\na tour map\, tastings from all participating vineyards\, and culinary samplings.\nAn optional tour guide is available for an optimal experience.
URL:https://gringogazette.com/event/gastro-tour/
LOCATION:THE CO-OP BAJA\, 19 calle Zaragoza y esquina\, C. Rangel\, El Centro\, Todos Santos\, B.C.S.\, Todos Santos\, Baja California Sur\, 23300\, Mexico
CATEGORIES:Festivals,Food & wine,Music,Party,Todos Santos
ATTACH;FMTTYPE=image/webp:https://gringogazette.com/wp-content/uploads/2025/11/event-box-gastrotour-sur.webp
END:VEVENT
BEGIN:VEVENT
DTSTART;TZID=America/Mazatlan:20251205T120000
DTEND;TZID=America/Mazatlan:20251205T170000
DTSTAMP:20260419T190405
CREATED:20251121T213546Z
LAST-MODIFIED:20251121T213546Z
UID:10000149-1764936000-1764954000@gringogazette.com
SUMMARY:Blind Tasting
DESCRIPTION:Winemaker Paul Magot will lead a blind tasting of up to 12 wines from Las Tinajas\, along with wines\nfrom select Gastrovino winemakers\, for this intimate exploration of what makes each wine so unique.\nGuests will be invited to purchase selected bottles of wine directly from the winemakers during this\nevent and can stay after the tasting to explore the vineyard and enjoy a wonderful afternoon together.\nSpace is very limited.
URL:https://gringogazette.com/event/blind-tasting/
LOCATION:Tinajas Vineyard\, Carr. Todos Santos a La Paz\, KM 50. Todos Santos\, Todo Santos\, B.C.S.\, Todos Santos\, Baja California Sur\, 23300\, Mexico
CATEGORIES:Festivals,Food & wine,Todos Santos
ATTACH;FMTTYPE=image/webp:https://gringogazette.com/wp-content/uploads/2025/11/las-tinajas-feature.webp
END:VEVENT
BEGIN:VEVENT
DTSTART;VALUE=DATE:20251205
DTEND;VALUE=DATE:20251208
DTSTAMP:20260419T190405
CREATED:20250909T035529Z
LAST-MODIFIED:20250909T052144Z
UID:10000016-1764892800-1765151999@gringogazette.com
SUMMARY:Gastrovino Baja Food and Wine Festival
DESCRIPTION:The Gastrovino Baja Food and Wine Festival is an annual celebration that brings together the best of Baja California Sur’s gastronomy and wines. During this event\, attendees have the opportunity to taste a wide variety of dishes prepared by local and national chefs\, accompanied by wines selected from the region’s finest wineries. In addition to tastings and pairings\, the festival offers cultural experiences\, live music\, and activities that highlight the peninsula’s culinary richness.
URL:https://gringogazette.com/event/gastrovino-baja-food-and-wine-festival/
LOCATION:Plaza pública\, Todos Santos\, BC
CATEGORIES:Festivals,Food & wine,Todos Santos
ATTACH;FMTTYPE=image/jpeg:https://gringogazette.com/wp-content/uploads/2025/09/Wine-todos-santos.jpg
ORGANIZER;CN="Perla Garnica":MAILTO:hola@gastrovino.mx
END:VEVENT
BEGIN:VEVENT
DTSTART;TZID=America/Mazatlan:20251203T173000
DTEND;TZID=America/Mazatlan:20251203T173000
DTSTAMP:20260419T190405
CREATED:20251119T043157Z
LAST-MODIFIED:20251119T043157Z
UID:10000137-1764783000-1764783000@gringogazette.com
SUMMARY:Bazar wine tasting
DESCRIPTION:An elegant and inviting evening designed to bring people together in support of a meaningful cause. The atmosphere blends sophistication with warmth\, featuring refined flavors\, curated experiences\, and a sense of community. Surrounded by artisanal touches and a charming bazaar-style setting\, guests can enjoy a relaxed yet upscale ambiance while connecting\, discovering unique offerings\, and contributing to a purpose that inspires generosity and unity.
URL:https://gringogazette.com/event/bazar-wine-tasting/
LOCATION:Besame Mucho Bazar\, Av. Legaspy 15\, Centro\, 23880 Todos Santos\, B.C.S.\, Todos Santos\, BC\, Select a State:\, 23300\, Mexico
CATEGORIES:Food & wine,Todos Santos
ATTACH;FMTTYPE=image/jpeg:https://gringogazette.com/wp-content/uploads/2025/11/e169ad02-9bff-4da2-86cb-06368e292e42.jpg
END:VEVENT
BEGIN:VEVENT
DTSTART;TZID=America/Mazatlan:20251128T170000
DTEND;TZID=America/Mazatlan:20251130T220000
DTSTAMP:20260419T190405
CREATED:20251112T055005Z
LAST-MODIFIED:20251112T055005Z
UID:10000122-1764349200-1764540000@gringogazette.com
SUMMARY:Jazz Festival
DESCRIPTION:The atmosphere of Todos Santos will come alive with rhythm and soul as the town hosts its annual celebration of jazz. The festival invites music lovers to immerse themselves in a world of smooth melodies\, vibrant performances\, and the unmistakable charm of live jazz by the sea. Surrounded by tropical scenery and creative energy\, this event promises an unforgettable experience that captures the true essence of artistic expression and community spirit.
URL:https://gringogazette.com/event/jazz-festival/
LOCATION:Oystera\, Ignacio Zaragoza y Santos E\, Calle Benito Juárez\, Degollado\, Centro\, 23300 Todos Santos\, B.C.S.\, Todos Santos\, BC\, Select a State:\, 23300\, Mexico
CATEGORIES:Todos Santos
ATTACH;FMTTYPE=image/png:https://gringogazette.com/wp-content/uploads/2025/11/Screenshot-2025-11-11-213907.png
END:VEVENT
BEGIN:VEVENT
DTSTART;TZID=America/Mazatlan:20251128T080000
DTEND;TZID=America/Mazatlan:20251128T140000
DTSTAMP:20260419T190405
CREATED:20251128T185139Z
LAST-MODIFIED:20251128T185139Z
UID:10000163-1764316800-1764338400@gringogazette.com
SUMMARY:Mercado del Triangulo
DESCRIPTION:A vibrant community market offering a wide selection of fresh local vegetables\, baked goods\, organic meats\, plants\, fermented foods\, dairy products\, and handcrafted items. Visitors can enjoy live music\, wellness activities like yoga\, and a welcoming atmosphere that brings together artisans\, farmers\, and creators. It’s a lively space to discover unique products\, support local vendors\, and connect with the community.
URL:https://gringogazette.com/event/mercado-del-triangulo/
LOCATION:Mercado El triangulo\, Calle Las Playitas\, Las Tunas\, Todos Santos\, BCS.\, Todos Santos\, Baja California Sur\, 23300\, Mexico
CATEGORIES:Todos Santos
ATTACH;FMTTYPE=image/png:https://gringogazette.com/wp-content/uploads/2025/11/Screenshot-2025-11-28-104521.png
END:VEVENT
BEGIN:VEVENT
DTSTART;TZID=America/Mazatlan:20251127T170000
DTEND;TZID=America/Mazatlan:20251127T220000
DTSTAMP:20260419T190405
CREATED:20251114T172930Z
LAST-MODIFIED:20251114T172930Z
UID:10000130-1764262800-1764280800@gringogazette.com
SUMMARY:Thanksgiving dinner
DESCRIPTION:A cozy\, warm\, and festive gathering inspired by the spirit of gratitude and togetherness. Surrounded by autumn colors\, rustic textures\, and a welcoming outdoor setting\, the atmosphere invites guests to enjoy comforting food\, good company\, and live music under the open sky. The overall vibe blends homestyle charm with a relaxed\, joyful mood—perfect for sharing a seasonal meal\, unwinding\, and embracing the traditions and flavors that make this time of year feel special.
URL:https://gringogazette.com/event/thanksgiving-dinner/
LOCATION:hotel san cristobal\, N° Km 54+ 23300 800\, México 19\, 23300 Todos Santos\, B.C.S.\, Todos Santos\, BC\, Select a State:\, 23300\, Mexico
CATEGORIES:Todos Santos
ATTACH;FMTTYPE=image/jpeg:https://gringogazette.com/wp-content/uploads/2025/11/Screenshot-2025-11-14-091314.jpg
END:VEVENT
BEGIN:VEVENT
DTSTART;TZID=America/Mazatlan:20251101T000000
DTEND;TZID=America/Mazatlan:20251101T210000
DTSTAMP:20260419T190405
CREATED:20251020T054623Z
LAST-MODIFIED:20251020T054623Z
UID:10000066-1761955200-1762030800@gringogazette.com
SUMMARY:Dia de Muertos
DESCRIPTION:Experience one of Mexico’s most iconic traditions in the heart of Todos Santos. Enjoy a day filled with color\, culture\, and tradition\, with altar and catrine contests\, music\, art\, and a family atmosphere. Celebrate life and honor those who have passed away at this event filled with creativity and Mexican spirit.
URL:https://gringogazette.com/event/dia-de-muertos/
LOCATION:Legaspy 15 centro\, Calle Miguel L. de Legaspy 15\, Todos Santos Centro\, 23300 Todos Santos\, BCS\, México\, Todos Santos\, BC\, Select a State:\, 23300\, Mexico
CATEGORIES:Festivals,Todos Santos
ATTACH;FMTTYPE=image/jpeg:https://gringogazette.com/wp-content/uploads/2025/10/545003129_1099182742413523_2752761659657495445_n-1.jpg
ORGANIZER;CN="D%C3%ADa de Muertos Todos Santos":MAILTO:amamosnuestropuebloac@gmail.com
END:VEVENT
BEGIN:VEVENT
DTSTART;TZID=America/Mazatlan:20251031T090000
DTEND;TZID=America/Mazatlan:20251102T110000
DTSTAMP:20260419T190405
CREATED:20250916T140526Z
LAST-MODIFIED:20250916T140526Z
UID:10000039-1761901200-1762081200@gringogazette.com
SUMMARY:Todos Santos Wellnes Fest
DESCRIPTION:Taking place from October 31 to November 2 in the town of Todos Santos\, the festival highlights the region’s unique blend of natural beauty and cultural depth. “Baja California Sur offers a unique mix of natural beauty and cultural richness that makes it the ideal destination for wellness travelers seeking more than just a vacation\,” says Jesús Ordóñez\, General Director of Visit Baja California Sur. His words explain the choice of one of the region’s most inspiring towns\, internationally recognized for its strong wellness community. \nSet against the backdrop of the Pacific coast and the colorful charm of its architecture\, the Todos Santos Wellness Fest weekend will bring together leading professionals in the field\, including Ana Paula Domínguez (CEO of the Mexican Yoga Institute)\, movement artist Annie Parr\, yoga teacher Beni Falcón\, and acclaimed yoga photographer Robert Sturman. The program features private workshops and immersive experiences at Jardín La Barca\, as well as public sessions of Kundalini Yoga\, Ashtanga\, Vinyasa Flow\, and sensory explorations at the Casa de la Cultura\, culminating with a closing musical act by a DJ blending movement and sound into a holistic experience.
URL:https://gringogazette.com/event/todos-santos-wellnes-fest/
LOCATION:Centro de la ciudad\, Centro\, 23300 Todos Santos\, B.C.S.\, Todos Santos\, Baja California Sur\, 23300
CATEGORIES:Retirement,Todos Santos,Yoga
ATTACH;FMTTYPE=image/webp:https://gringogazette.com/wp-content/uploads/2025/09/Artboard-47.webp
END:VEVENT
BEGIN:VEVENT
DTSTART;TZID=America/Mazatlan:20251026T120000
DTEND;TZID=America/Mazatlan:20251101T160000
DTSTAMP:20260419T190405
CREATED:20250916T140534Z
LAST-MODIFIED:20250916T140534Z
UID:10000043-1761480000-1762012800@gringogazette.com
SUMMARY:Playa\, Pen\, & Pose Women's Wellness Retreat
DESCRIPTION:Welcome to Playa\, Pen\, & Pose Women’s Wellness Retreat. Oct 26-Nov 1\, 2025. \nJoin Chrissy Roll Wellness Coach\, LLC and Chara Yoga & Wellness Collaborative at Villa Bugambilias in beautiful Todos Santos for a rejuvenating 7-day experience like no other. This transformative retreat is all about embracing self-care\, ycreativity\, and mindfulness where the desert landscapes meet the Pacific Ocean. \nGet ready to playa – indulge in relaxing beach activities\, connect with like-minded women\, enjoy intentional rest periods\, and recharge your soul in this stunning coastal paradise. \nUnleash your inner writer during our pen sessions\, where you can journal\, reflect\, and explore your thoughts through creative expression in a supportive environment. \nStrike a pose during our pose yoga and movement therapy classes\, designed to help you find balance\, strength\, and inner peace through mindful movement.
URL:https://gringogazette.com/event/playa-pen-pose-womens-wellness-retreat/
LOCATION:Villa Bugambilias\, C.horizonte San ignacio Todos Santos\, Todos Santos\, Baja California Sur\, 22974
CATEGORIES:Relaxing,Todos Santos,Yoga
ATTACH;FMTTYPE=image/jpeg:https://gringogazette.com/wp-content/uploads/2025/09/https___cdnevbuc_com_images_1107151623_2872992875061_1_original.jpg
END:VEVENT
BEGIN:VEVENT
DTSTART;TZID=America/Mazatlan:20251025T140000
DTEND;TZID=America/Mazatlan:20251025T233000
DTSTAMP:20260419T190405
CREATED:20250912T131628Z
LAST-MODIFIED:20250912T131628Z
UID:10000019-1761400800-1761435000@gringogazette.com
SUMMARY:Baja Beer Fest
DESCRIPTION:The Baja Beer Fest at Mas Olas Park is the perfect celebration for beer lovers\, music fans\, and anyone looking for a fun outdoor experience in Los Cabos. On October 25\, starting at 2:00 PM\, guests will enjoy a full day of live music\, great food\, and a wide selection of craft beers from some of Baja’s most recognized breweries. \nThis year’s edition will feature local and regional brewers\, including Yenekamú Brewing Co.\, El Choyero Escorpión\, TSB Cerveza\, Comadreja\, Punta Lobos\, D’Orula\, and Cervecería Transpeninsular. Alongside refreshing craft beer\, the festival offers a relaxed desert-coast setting\, surprise live performances\, and plenty of activities to create an unforgettable atmosphere. \nWhether you’re a craft beer enthusiast or simply looking for a lively afternoon with friends\, the Baja Beer Fest promises a unique mix of flavor\, music\, and Baja California Sur culture
URL:https://gringogazette.com/event/baja-beer-fest/
LOCATION:Mas Olas Resort\, l Pescadero\, B.C.S.\, Todos Santos\, Baja California Sur\, 23310\, Mexico
CATEGORIES:Beer,Festivals,Todos Santos
ATTACH;FMTTYPE=image/jpeg:https://gringogazette.com/wp-content/uploads/2025/09/images.jpeg
END:VEVENT
END:VCALENDAR