BEGIN:VCALENDAR
VERSION:2.0
PRODID:-//Gringo Gazette - ECPv6.15.13.1//NONSGML v1.0//EN
CALSCALE:GREGORIAN
METHOD:PUBLISH
X-ORIGINAL-URL:https://gringogazette.com
X-WR-CALDESC:Events for Gringo Gazette
REFRESH-INTERVAL;VALUE=DURATION:PT1H
X-Robots-Tag:noindex
X-PUBLISHED-TTL:PT1H
BEGIN:VTIMEZONE
TZID:America/Mazatlan
BEGIN:STANDARD
TZOFFSETFROM:-0700
TZOFFSETTO:-0700
TZNAME:MST
DTSTART:20250101T000000
END:STANDARD
END:VTIMEZONE
BEGIN:VEVENT
DTSTART;TZID=America/Mazatlan:20260317T120000
DTEND;TZID=America/Mazatlan:20260317T220000
DTSTAMP:20260424T180622
CREATED:20260304T220335Z
LAST-MODIFIED:20260304T220335Z
UID:10000605-1773748800-1773784800@gringogazette.com
SUMMARY:Traditional Irish Celtic
DESCRIPTION:Celebrate St. Patrick’s Day at Todos Santos Brewing with a festive day full of music\, food\, and Irish spirit. \nStarting at 12:00 PM\, guests can enjoy a special holiday menu featuring traditional favorites such as corned beef\, lamb stew\, and bangers & mash\, paired perfectly with craft beer. \nBeginning at 6:00 PM\, the celebration continues with live traditional Irish-Celtic music performed by Baja Desert Dogs (David Raitt & Barry Cloyd)\, bringing authentic folk sounds and lively energy to the evening. \nThis St. Patrick’s Day gathering promises great food\, refreshing drinks\, and spirited live entertainment in a fun and welcoming atmosphere.
URL:https://gringogazette.com/event/traditional-irish-celtic/
LOCATION:Todos santos brewing\, C. Álvaro Obregón 12\, Centro\, 23300 Todos Santos\, B.C.S.\, Todos Santos\, BC\, Select a State:\, 23300\, Mexico
CATEGORIES:Food & wine,Music,Party,St Patrick's Day,Todos Santos
ATTACH;FMTTYPE=image/jpeg:https://gringogazette.com/wp-content/uploads/2026/03/Tracional-irish-celtic.jpg
END:VEVENT
BEGIN:VEVENT
DTSTART;TZID=America/Mazatlan:20260320T200000
DTEND;TZID=America/Mazatlan:20260320T230000
DTSTAMP:20260424T180622
CREATED:20260314T071000Z
LAST-MODIFIED:20260314T071000Z
UID:10000627-1774036800-1774047600@gringogazette.com
SUMMARY:No Room x Yao – Live DJ Set
DESCRIPTION:The No Room x Yao is a nightlife music event featuring a special hybrid DJ set by Kennedy Maria. Hosted at Yao\, the event offers an evening of electronic and experimental sounds in a stylish and intimate atmosphere. Guests can enjoy a late-night music experience that blends modern beats with a curated venue setting\, creating a vibrant social environment for music lovers and nightlife enthusiasts. 🎧🎶
URL:https://gringogazette.com/event/no-room-x-yao-live-dj-set/
LOCATION:YAO\, Calle Paseo Avaro Obregon 62\, Pueblo Nuevo\, Todos Santos\, BC\, Baja California Sur\, 23300\, Mexico
CATEGORIES:Todos Santos
ATTACH;FMTTYPE=image/png:https://gringogazette.com/wp-content/uploads/2026/03/Screenshot-2026-03-13-235317.png
END:VEVENT
BEGIN:VEVENT
DTSTART;TZID=America/Mazatlan:20260325T180000
DTEND;TZID=America/Mazatlan:20260325T213000
DTSTAMP:20260424T180622
CREATED:20260318T192858Z
LAST-MODIFIED:20260318T192858Z
UID:10000635-1774461600-1774474200@gringogazette.com
SUMMARY:Just Like a Woman with Colleen Rennison
DESCRIPTION:Songs and stories of women in music who moved us\, changed us\, challenged us. One night only.
URL:https://gringogazette.com/event/just-like-a-woman-with-colleen-rennison/
LOCATION:Teatro Luna Azul\, Camino del Cielo Todos Santos\, BCS 23300\, Todos Santos\, BC\, Select a State:\, 23300\, Mexico
CATEGORIES:Todos Santos
ATTACH;FMTTYPE=image/webp:https://gringogazette.com/wp-content/uploads/2026/03/image-14.webp
END:VEVENT
END:VCALENDAR