BEGIN:VCALENDAR
VERSION:2.0
PRODID:-//Gringo Gazette - ECPv6.15.13.1//NONSGML v1.0//EN
CALSCALE:GREGORIAN
METHOD:PUBLISH
X-ORIGINAL-URL:https://gringogazette.com
X-WR-CALDESC:Events for Gringo Gazette
REFRESH-INTERVAL;VALUE=DURATION:PT1H
X-Robots-Tag:noindex
X-PUBLISHED-TTL:PT1H
BEGIN:VTIMEZONE
TZID:America/Mazatlan
BEGIN:STANDARD
TZOFFSETFROM:-0700
TZOFFSETTO:-0700
TZNAME:MST
DTSTART:20250101T000000
END:STANDARD
END:VTIMEZONE
BEGIN:VEVENT
DTSTART;TZID=America/Mazatlan:20260417T100000
DTEND;TZID=America/Mazatlan:20260417T120000
DTSTAMP:20260419T203015
CREATED:20260417T024928Z
LAST-MODIFIED:20260417T024928Z
UID:10000773-1776420000-1776427200@gringogazette.com
SUMMARY:Creative Routes Los Cabos 2026
DESCRIPTION:The cultural program “Rutas Creativas: Entre Versos y Prosas” is an artistic and educational event organized by Instituto de la Cultura y las Artes de Los Cabos in collaboration with the performing arts group Arrobadanza Arte Escénico A.C.. The program will take place on April 16th and 17th in Cabo San Lucas and La Ribera\, respectively\, as part of a broader initiative to promote artistic expression and cultural engagement within educational spaces. \nThis event is designed as an interactive experience that blends elements of literature and performing arts\, particularly focusing on poetry and prose as vehicles for creative exploration. Through live performances\, movement\, and possibly theatrical interpretation\, participants are introduced to artistic concepts in a dynamic and accessible way. The program is tailored especially for students\, as it is hosted within school settings\, encouraging young audiences to connect with language\, storytelling\, and artistic expression beyond traditional classroom methods. \nThe sessions are scheduled in the morning at local educational institutions\, creating an environment where art becomes part of the everyday learning experience. By integrating performance with literary themes\, the event seeks to stimulate imagination\, critical thinking\, and emotional awareness among attendees. \nOffered as a free activity\, Rutas Creativas reflects a commitment to making culture and the arts accessible to the community. It serves not only as entertainment but also as an educational tool\, fostering appreciation for the arts while inspiring participants to explore their own creativity and voice through words and performance.
URL:https://gringogazette.com/event/creative-routes-los-cabos-2026/
LOCATION:Secundaria Delegacion Rivera\, Delegación de La Ribera\, Los Cabos\, B.C.S\, Los Cabos\, Baja California Sur\, 23450\, Mexico
CATEGORIES:Acting,Arts,Baja California Sur,Family,Los Cabos,Relaxing,Theater
ATTACH;FMTTYPE=image/png:https://gringogazette.com/wp-content/uploads/2026/04/Rutas-creativas.PNG
END:VEVENT
BEGIN:VEVENT
DTSTART;TZID=America/Mazatlan:20260418T120000
DTEND;TZID=America/Mazatlan:20260418T180000
DTSTAMP:20260419T203015
CREATED:20260402T065553Z
LAST-MODIFIED:20260402T065553Z
UID:10000664-1776513600-1776535200@gringogazette.com
SUMMARY:Freak Show The Circus of Human Emotions
DESCRIPTION:“Freak Show” is a theatrical production by Martín Giner\, presented as part of El Circo de las Emociones Humanas (The Circus of Human Emotions). This entertaining play blends humor\, physical comedy\, and expressive performances to explore human emotions in a fun and exaggerated way. \nThe show features performers Janna\, Pam\, and Issac\, delivering a lively and comedic experience designed to make audiences laugh out loud. It is suitable for the whole family\, recommended for ages 5 and up. \nPerformances will take place at Casa Ivum Teatro de la Ciudad on Saturdays at 12:00 PM and 6:00 PM\, with scheduled dates on April 11\, 18\, and 25\, and May 2. \nTickets are available at the theater box office. With its playful style and circus-inspired theme\, Freak Show offers a unique and engaging live theater experience for audiences of all ages.
URL:https://gringogazette.com/event/freak-show-the-circus-of-human-emotions-2/
LOCATION:Teatro de la Paz\, Antonio Navarro e/ Altamirano y H\, de Independencia Centro\, Zona Central\, 23000 La Paz\, B.C.S.\, La Paz\, Baja California Sur\, 23000\, Mexico
CATEGORIES:Acting,Comedy,La Paz,Relaxing,Theater
ATTACH;FMTTYPE=image/jpeg:https://gringogazette.com/wp-content/uploads/2026/04/Freak-Show.jpg
END:VEVENT
BEGIN:VEVENT
DTSTART;TZID=America/Mazatlan:20260424T180000
DTEND;TZID=America/Mazatlan:20260424T200000
DTSTAMP:20260419T203015
CREATED:20260418T002109Z
LAST-MODIFIED:20260418T002109Z
UID:10000776-1777053600-1777060800@gringogazette.com
SUMMARY:Sonoran Islands Concert
DESCRIPTION:Islas Sonoras An Evening of Flute & Piano Masterpieces \nThe Instituto Sudcaliforniano de Cultura and the Teatro Juárez present the second concert of the Islas Sonoras series\, a beautiful chamber music evening featuring works for flute and piano by three renowned composers: Franz Doppler\, Carl Reinecke\, and Ian Clarke. \nThis concert offers a wonderful opportunity to enjoy high-level classical chamber music in the elegant setting of Teatro Juárez. Whether you are a classical music enthusiast\, a student\, or simply someone who appreciates beautiful live performances\, “Islas Sonoras” promises an evening of exquisite music that transports the audience through different eras and emotions. \nThe program is ideal for those who enjoy the lyrical and virtuosic side of the flute repertoire\, as well as listeners discovering these works for the first time. \nFree admission No tickets required\, but arrive early to secure a good seat
URL:https://gringogazette.com/event/sonoran-islands-concert/
LOCATION:Teatro Juarez\, Belisario Domínguez 448\, Z1ona Central\,La Paz\, B.C.S.\, La Paz\, Baja California Sur\, 23000
CATEGORIES:Baja California Sur,Concert,La Paz,Music,Relaxing,Theater
ATTACH;FMTTYPE=image/jpeg:https://gringogazette.com/wp-content/uploads/2026/04/islas-sonoras.jpg
END:VEVENT
BEGIN:VEVENT
DTSTART;TZID=America/Mazatlan:20260424T190000
DTEND;TZID=America/Mazatlan:20260424T210000
DTSTAMP:20260419T203015
CREATED:20260411T044756Z
LAST-MODIFIED:20260411T044756Z
UID:10000760-1777057200-1777064400@gringogazette.com
SUMMARY:Dancing Together International Dance Day 2026
DESCRIPTION:“Bailando Juntos” (Dancing Together) is a dynamic dance showcase that brings together multiple dance studios and performers for an energetic and entertaining evening. \nThe event will take place on Friday\, April 24 at 7:00 PM at the Teatro de la Ciudad in La Paz\, Baja California Sur. It features performances from various dance groups and schools\, highlighting different styles and talents in a collaborative show. \nTickets are priced at $7 dollars and are available at the theater’s institutional box office. \n“Bailando Juntos” celebrates movement\, creativity\, and community\, offering audiences a vibrant night filled with rhythm\, expression\, and artistic collaboration.
URL:https://gringogazette.com/event/dancing-together-international-dance-day-2026/
LOCATION:Teatro de la Paz\, Antonio Navarro e/ Altamirano y H\, de Independencia Centro\, Zona Central\, 23000 La Paz\, B.C.S.\, La Paz\, Baja California Sur\, 23000\, Mexico
CATEGORIES:Baja California Sur,Dance,La Paz,Music,Relaxing,Theater
ATTACH;FMTTYPE=image/jpeg:https://gringogazette.com/wp-content/uploads/2026/04/Bailando-Juntos.jpg
END:VEVENT
BEGIN:VEVENT
DTSTART;TZID=America/Mazatlan:20260430T190000
DTEND;TZID=America/Mazatlan:20260430T203000
DTSTAMP:20260419T203015
CREATED:20260413T184050Z
LAST-MODIFIED:20260413T184050Z
UID:10000763-1777575600-1777581000@gringogazette.com
SUMMARY:Voices in Flight and the Spirit of the Cricket - Concert
DESCRIPTION:“Voces al Vuelo y el Espíritu del Grillo Cantor” is a family-friendly concert designed to entertain audiences of all ages with music\, storytelling\, and lively performances inspired by the spirit of a singing cricket. \nThe event will take place on April 30 at 7:00 PM at the Teatro de la Ciudad in La Paz\, Baja California Sur. Admission is free\, making it an accessible cultural experience for the whole community. \nThis concert promises a fun and engaging atmosphere\, combining music and imagination to create a magical experience for children and families alike. It is organized with the support of cultural institutions dedicated to promoting the arts in the region.
URL:https://gringogazette.com/event/voices-in-flight-and-the-spirit-of-the-cricket-concert/
LOCATION:Teatro de la Paz\, Antonio Navarro e/ Altamirano y H\, de Independencia Centro\, Zona Central\, 23000 La Paz\, B.C.S.\, La Paz\, Baja California Sur\, 23000\, Mexico
CATEGORIES:Baja California Sur,Concert,Family,Music,Theater
ATTACH;FMTTYPE=image/jpeg:https://gringogazette.com/wp-content/uploads/2026/04/Voces-al-vuelo.jpg
END:VEVENT
BEGIN:VEVENT
DTSTART;TZID=America/Mazatlan:20260509T180000
DTEND;TZID=America/Mazatlan:20260509T200000
DTSTAMP:20260419T203015
CREATED:20260418T003446Z
LAST-MODIFIED:20260418T003446Z
UID:10000777-1778349600-1778356800@gringogazette.com
SUMMARY:The Corpse of Mr. Garcia Season Two - Play
DESCRIPTION:El Cadáver del Señor García” A Hilarious Black Comedy by Enrique Jardiel Poncela \nThe Escuela Estatal de Arte Teatral proudly presents the second season of the acclaimed theatrical production “El Cadáver del Señor García”\, a sharp and wildly entertaining black comedy by the legendary Spanish playwright Enrique Jardiel Poncela. \nAdapted and directed by Diego Carlón\, this fresh new staging brings the absurd\, witty\, and darkly humorous world of Jardiel Poncela to life with energy\, precision\, and a distinctly contemporary touch. \nThis production is part of the school’s commitment to professional training and bringing quality theater to the people of La Paz. With sharp dialogue\, physical comedy\, and impeccable timing\, “El Cadáver del Señor García” promises an evening of nonstop laughter and theatrical delight. \nWhether you’re a longtime theater lover or simply looking for a fun and clever night out\, this second season is not to be missed.
URL:https://gringogazette.com/event/the-corpse-of-mr-garcia-season-two-play/
LOCATION:Teatro de la Paz\, Antonio Navarro e/ Altamirano y H\, de Independencia Centro\, Zona Central\, 23000 La Paz\, B.C.S.\, La Paz\, Baja California Sur\, 23000\, Mexico
CATEGORIES:Acting,Baja California Sur,La Paz,Relaxing,Theater
ATTACH;FMTTYPE=image/jpeg:https://gringogazette.com/wp-content/uploads/2026/04/El-cadaver-del-Senor-garcia.jpg
END:VEVENT
BEGIN:VEVENT
DTSTART;TZID=America/Mazatlan:20260606T160000
DTEND;TZID=America/Mazatlan:20260606T180000
DTSTAMP:20260419T203015
CREATED:20260327T230603Z
LAST-MODIFIED:20260327T230623Z
UID:10000652-1780761600-1780768800@gringogazette.com
SUMMARY:Mario Galaxy - Theater Play
DESCRIPTION:A Magical Family Musical Show in Los Cabos \nGet ready for an out-of-this-world adventure as the beloved video game classic Super Mario Galaxy comes to life on stage in a spectacular live theatrical performance! \nOn Saturday\, June 6\, 2026\, at 4:00 PM\, the Hotel Tesoro in Los Cabos will transform into a cosmic playground filled with music\, dance\, colorful costumes\, special effects\, and all the charm of the Mario universe. \nThis is a rare opportunity to see one of the most beloved Nintendo franchises brought to the stage in a vibrant\, live show that combines theater\, music\, and the pure fun of the Mario universe. \nWhether your kids are discovering Mario for the first time or you grew up jumping on Goombas and collecting stars\, Mario Galaxy Live promises to be a memorable afternoon full of laughter\, singing\, and pure childhood magic.
URL:https://gringogazette.com/event/mario-galaxy/
LOCATION:Hotel Tesoro Los Cabos\, Blvd. Paseo de la Marina Lote 9 y 10\, Centro\, Marina\, 23450 Cabo San Lucas\, B.C.S\, Los cabos\, Mexico
CATEGORIES:Acting,Dance,Los Cabos,Music,Theater
ATTACH;FMTTYPE=image/jpeg:https://gringogazette.com/wp-content/uploads/2026/03/Mario-galaxy.jpg
END:VEVENT
END:VCALENDAR