BEGIN:VCALENDAR
VERSION:2.0
PRODID:-//Gringo Gazette - ECPv6.15.13.1//NONSGML v1.0//EN
CALSCALE:GREGORIAN
METHOD:PUBLISH
X-ORIGINAL-URL:https://gringogazette.com
X-WR-CALDESC:Events for Gringo Gazette
REFRESH-INTERVAL;VALUE=DURATION:PT1H
X-Robots-Tag:noindex
X-PUBLISHED-TTL:PT1H
BEGIN:VTIMEZONE
TZID:America/Mazatlan
BEGIN:STANDARD
TZOFFSETFROM:-0700
TZOFFSETTO:-0700
TZNAME:MST
DTSTART:20250101T000000
END:STANDARD
END:VTIMEZONE
BEGIN:VEVENT
DTSTART;TZID=America/Mazatlan:20260410T120000
DTEND;TZID=America/Mazatlan:20260410T140000
DTSTAMP:20260425T105915
CREATED:20260407T190424Z
LAST-MODIFIED:20260407T190424Z
UID:10000751-1775822400-1775829600@gringogazette.com
SUMMARY:From The Ranch to The Panga: A look at the popular culture of Baja California Sur
DESCRIPTION:Charla Temática: “Del Rancho a la Panga  Una Mirada a la Cultura Popular Sudcaliforniana” A Thematic Talk by Rolando Placier \nThe Gobierno del Estado de Baja California Sur\, through the Secretaría de Cultura and the Instituto Nacional de Antropología e Historia (INAH)\, invites the community to an enriching and insightful talk \nThis engaging presentation offers a deep and affectionate journey through the rich and diverse popular culture of Baja California Sur. From the traditional ranch life (rancho) in the mountains and deserts  with its vaquero traditions\, corridos\, leatherwork\, and oral storytelling  to the vibrant coastal and fishing culture (panga) of the Sea of Cortez\, with its seafood traditions\, maritime folklore\, boat-building knowledge\, and unique coastal identity. \nFree and open to the public. \nThis event is a Live stream on Facebook from the Regional Museum of Anthropology and History of Baja California Sur  \n Connect with the rich culture of Baja California Sur from wherever you are.
URL:https://gringogazette.com/event/from-the-ranch-to-the-panga-a-look-at-the-popular-culture-of-baja-california-sur/
LOCATION:Facebook\, Baja California Sur\, Mexico
CATEGORIES:Baja California Sur,Cabo San Lucas,Culture,La Paz,Loreto,Los Cabos,Mulege,San Antonio,San Jose del Cabo,Todos Santos
ATTACH;FMTTYPE=image/jpeg:https://gringogazette.com/wp-content/uploads/2026/04/del-rancho-a-la-panga.jpg
END:VEVENT
BEGIN:VEVENT
DTSTART;VALUE=DATE:20260517
DTEND;VALUE=DATE:20260518
DTSTAMP:20260425T105915
CREATED:20260425T023535Z
LAST-MODIFIED:20260425T023535Z
UID:10000793-1778976000-1779062399@gringogazette.com
SUMMARY:Mini Game Work Jam 2026
DESCRIPTION:The Mini Game Work Jam 2026: Game Jam for Conservation is an innovative and purpose-driven event that invites developers\, designers\, artists\, and creative thinkers to collaborate on the creation of video games focused on the preservation of underwater cultural heritage. With its central theme of “Conservation of Subaquatic Heritage\,” this initiative seeks to raise awareness about the importance of protecting submerged historical sites\, marine ecosystems\, and cultural artifacts hidden beneath the sea. \nParticipants in this game jam will work within a limited timeframe to conceptualize and develop mini-games that combine entertainment with education\, encouraging players to learn about conservation through interactive storytelling and gameplay. The event promotes interdisciplinary collaboration\, allowing individuals from different backgrounds such as programming\, visual arts\, sound design\, and history to come together and contribute their unique skills. \nThe open call for participation is available until May 17\, giving interested teams and individuals time to register and prepare their ideas. Through this creative challenge\, organizers aim to foster innovation while highlighting the role of digital media in cultural preservation and environmental awareness. \nSupported by cultural institutions and organizations dedicated to heritage protection\, this event represents a unique opportunity to merge technology\, creativity\, and social impact. Ultimately\, the Mini Game Work Jam 2026 offers participants not only a platform to showcase their talent\, but also a chance to contribute to a meaningful global conversation about safeguarding underwater heritage for future generations.
URL:https://gringogazette.com/event/mini-game-work-jam-2026/
CATEGORIES:Baja California Sur,Cabo San Lucas,Comondu,El Pescadero,El Triunfo,Family,Games,La Paz,Loreto,Los barriles,Los Cabos,Mulege,Online,San Antonio,San Jose del Cabo,San juan de los planes,Todos Santos
ATTACH;FMTTYPE=image/jpeg:https://gringogazette.com/wp-content/uploads/2026/04/Mini-Game-Work-Jam.jpg
END:VEVENT
END:VCALENDAR