BEGIN:VCALENDAR
VERSION:2.0
PRODID:-//Gringo Gazette - ECPv6.15.13.1//NONSGML v1.0//EN
CALSCALE:GREGORIAN
METHOD:PUBLISH
X-ORIGINAL-URL:https://gringogazette.com
X-WR-CALDESC:Events for Gringo Gazette
REFRESH-INTERVAL;VALUE=DURATION:PT1H
X-Robots-Tag:noindex
X-PUBLISHED-TTL:PT1H
BEGIN:VTIMEZONE
TZID:America/Mazatlan
BEGIN:STANDARD
TZOFFSETFROM:-0700
TZOFFSETTO:-0700
TZNAME:MST
DTSTART:20250101T000000
END:STANDARD
END:VTIMEZONE
BEGIN:VEVENT
DTSTART;VALUE=DATE:20260216
DTEND;VALUE=DATE:20260217
DTSTAMP:20260419T201423
CREATED:20260123T055636Z
LAST-MODIFIED:20260123T055636Z
UID:10000229-1771200000-1771286399@gringogazette.com
SUMMARY:Capybaras Tour at the La Paz Carnival 2026
DESCRIPTION:Get ready for an unforgettable night of regional Mexican music\, high-energy banda\, laughter\, and pure fiesta vibes as two legendary voices unite on stage! \nCapibaras Tour brings together the iconic Chuy Lizárraga (with his powerhouse banda sound and timeless hits) and El Coyote (the master of ranchera emotion and crowd-pleasing charisma) for a special production packed with: Classic banda anthems and corridos Hilarious banter and comedy moments Non-stop dancing and sing-alongs The perfect blend of tradition\, joy\, and modern regional flair \nThis is the highlight everyone’s talking about during Carnaval La Paz 2026 (February 12–17)! The malecón will be electric as fans belt out favorites like never before.
URL:https://gringogazette.com/event/capybaras-tour-at-the-la-paz-carnival-2026/
LOCATION:Kiosco del Malecón\, Paseo Álvaro Obregón\, Zona Central\, 23000 La Paz\, B.C.S.\, La paz\, Baja California Sur\, Mexico
CATEGORIES:Beer,Concert,Dance,Festivals,La Paz,Music,Party
ATTACH;FMTTYPE=image/jpeg:https://gringogazette.com/wp-content/uploads/2026/01/Carnaval.jpg
END:VEVENT
BEGIN:VEVENT
DTSTART;VALUE=DATE:20260217
DTEND;VALUE=DATE:20260218
DTSTAMP:20260419T201423
CREATED:20260126T212733Z
LAST-MODIFIED:20260126T212733Z
UID:10000231-1771286400-1771372799@gringogazette.com
SUMMARY:Eden Muñoz at La Paz Carnival 2026
DESCRIPTION:As part of the vibrant La Paz 2026 Carnival: “Reinas del Cambio”\, the celebration reaches one of its most anticipated moments with a live performance by Edén Muñoz. Taking over the Main Stage at the Malecón Kiosk\, Edén Muñoz brings his signature blend of regional Mexican music\, heartfelt lyrics\, and powerful stage presence to the heart of the carnival. \nKnown for his emotional songwriting and strong connection with the audience\, Edén Muñoz delivers a concert filled with passion\, energy\, and unforgettable hits that resonate across generations. Set against the colorful backdrop of carnival lights\, ocean views\, and festive crowds\, his performance transforms the night into an immersive musical experience. \nThis show is more than a concert it’s a celebration of contemporary Mexican music\, culture\, and emotion\, making Edén Muñoz’s night a standout highlight of the La Paz Carnival 2026 and a must-see event for fans and visitors alike.
URL:https://gringogazette.com/event/eden-munoz-at-la-paz-carnival-2026/
LOCATION:Kiosco del Malecón\, Paseo Álvaro Obregón\, Zona Central\, 23000 La Paz\, B.C.S.\, La paz\, Baja California Sur\, Mexico
CATEGORIES:Concert,La Paz,Music,Party
ATTACH;FMTTYPE=image/jpeg:https://gringogazette.com/wp-content/uploads/2026/01/Carnaval.jpg
END:VEVENT
END:VCALENDAR