BEGIN:VCALENDAR
VERSION:2.0
PRODID:-//Gringo Gazette - ECPv6.15.13.1//NONSGML v1.0//EN
CALSCALE:GREGORIAN
METHOD:PUBLISH
X-WR-CALNAME:Gringo Gazette
X-ORIGINAL-URL:https://gringogazette.com
X-WR-CALDESC:Events for Gringo Gazette
REFRESH-INTERVAL;VALUE=DURATION:PT1H
X-Robots-Tag:noindex
X-PUBLISHED-TTL:PT1H
BEGIN:VTIMEZONE
TZID:America/Mazatlan
BEGIN:STANDARD
TZOFFSETFROM:-0700
TZOFFSETTO:-0700
TZNAME:MST
DTSTART:20240101T000000
END:STANDARD
END:VTIMEZONE
BEGIN:VEVENT
DTSTART;TZID=America/Mazatlan:20251220T220000
DTEND;TZID=America/Mazatlan:20251221T030000
DTSTAMP:20260420T004038
CREATED:20251030T193530Z
LAST-MODIFIED:20251030T193530Z
UID:10000103-1766268000-1766286000@gringogazette.com
SUMMARY:Experience Kasango live
DESCRIPTION:Immerse yourself in an unforgettable night by the ocean\, under the stars\, as KASANGO delivers an incredible Afro House performance. Feel the rhythm\, the energy\, and the magic of Sunset Monalisa in a night made for true music lovers. \nDon’t miss KASANGO live in Cabo for the very first time!
URL:https://gringogazette.com/event/experience-kasango-live/
LOCATION:Sunset Monalisa\, Carretera Transpeninsular km. 5.5\, Neighborhood Misiones del Cabo Cabo San Lucas\, BCS 23455\, Los cabos\, Mexico
CATEGORIES:Cabo San Lucas,Festivals,Music,Party
ATTACH;FMTTYPE=image/jpeg:https://gringogazette.com/wp-content/uploads/2025/10/download.jpeg
END:VEVENT
END:VCALENDAR