BEGIN:VCALENDAR
VERSION:2.0
PRODID:-//Gringo Gazette - ECPv6.15.13.1//NONSGML v1.0//EN
CALSCALE:GREGORIAN
METHOD:PUBLISH
X-ORIGINAL-URL:https://gringogazette.com
X-WR-CALDESC:Events for Gringo Gazette
REFRESH-INTERVAL;VALUE=DURATION:PT1H
X-Robots-Tag:noindex
X-PUBLISHED-TTL:PT1H
BEGIN:VTIMEZONE
TZID:America/Mazatlan
BEGIN:STANDARD
TZOFFSETFROM:-0700
TZOFFSETTO:-0700
TZNAME:MST
DTSTART:20250101T000000
END:STANDARD
END:VTIMEZONE
BEGIN:VEVENT
DTSTART;TZID=America/Mazatlan:20260417T210000
DTEND;TZID=America/Mazatlan:20260417T230000
DTSTAMP:20260422T210839
CREATED:20260331T220939Z
LAST-MODIFIED:20260331T220939Z
UID:10000661-1776459600-1776466800@gringogazette.com
SUMMARY:Together Jorge Medina & Josi Cuen
DESCRIPTION:Juntos  Jorge Medina & Josi Cuen La Máquina del Tiempo Tour 2026 Live in Los Cabos \nTwo of the most beloved voices in Mexican regional music unite for one unforgettable night! \nOn Friday\, April 17\, 2026\, the iconic Explanada Madcons in Cabo San Lucas will host “Juntos”\, a special concert featuring Jorge Medina and Josi Cuen as part of their highly anticipated La Máquina del Tiempo Tour 2026. \nThis powerful duo brings together two distinct yet perfectly complementary styles: Jorge Medina’s heartfelt\, romantic ballads and Josi Cuen’s energetic\, danceable regional hits. Together\, they deliver a high-energy show filled with nostalgia\, emotion\, and pure party atmosphere \nThis is a rare opportunity to see two great artists sharing the same stage in an intimate yet spectacular setting. If you enjoy artists like Alejandro Fernández\, Christian Nodal\, or the classic regional sound with a modern touch\, “Juntos” with Jorge Medina and Josi Cuen is a must-see event.
URL:https://gringogazette.com/event/together-jorge-medina-josi-cuen/
LOCATION:Explanada Madcons\, Lomas Altas\, Colonia El Progreso\, 23472 Cabo San Lucas\, B.C.S.\, Los cabos\, Mexico
CATEGORIES:Concert,Dance,Los Cabos,Music,Party
ATTACH;FMTTYPE=image/webp:https://gringogazette.com/wp-content/uploads/2026/03/Juntos-Jorge-medina.webp
END:VEVENT
END:VCALENDAR