BEGIN:VCALENDAR
VERSION:2.0
PRODID:-//Gringo Gazette - ECPv6.15.13.1//NONSGML v1.0//EN
CALSCALE:GREGORIAN
METHOD:PUBLISH
X-ORIGINAL-URL:https://gringogazette.com
X-WR-CALDESC:Events for Gringo Gazette
REFRESH-INTERVAL;VALUE=DURATION:PT1H
X-Robots-Tag:noindex
X-PUBLISHED-TTL:PT1H
BEGIN:VTIMEZONE
TZID:America/Mazatlan
BEGIN:STANDARD
TZOFFSETFROM:-0700
TZOFFSETTO:-0700
TZNAME:MST
DTSTART:20250101T000000
END:STANDARD
END:VTIMEZONE
BEGIN:VEVENT
DTSTART;TZID=America/Mazatlan:20260409T200000
DTEND;TZID=America/Mazatlan:20260409T220000
DTSTAMP:20260420T015412
CREATED:20260226T012709Z
LAST-MODIFIED:20260226T012709Z
UID:10000592-1775764800-1775772000@gringogazette.com
SUMMARY:MissaVerso-Live Concert
DESCRIPTION:The Missaverso  Evolución Tour is an electrifying live music event bringing together dynamic performances and special guest artists for an unforgettable night of entertainment. \nThe concert will take place on April 9 at 8:00 PM at the Teatro de la Ciudad de La Paz. \nAs part of the Evolución Tour\, Missaverso will be joined by special guests BastianCortesxy\, Mr. Phillip\, and The Velvet 49\, delivering a high-energy show that blends contemporary sounds\, stage presence\, and creative expression. The event promises a vibrant atmosphere filled with music\, connection\, and powerful live performances. \nTickets are available for purchase through Boletomóvil and at Friki House Anime Store. Music fans can expect an exciting evening celebrating artistic evolution and emerging talent on stage.
URL:https://gringogazette.com/event/missaverso-live-concert/
LOCATION:Teatro de la Paz\, Antonio Navarro e/ Altamirano y H\, de Independencia Centro\, Zona Central\, 23000 La Paz\, B.C.S.\, La Paz\, Baja California Sur\, 23000\, Mexico
CATEGORIES:Concert,La Paz,Music,Party
ATTACH;FMTTYPE=image/jpeg:https://gringogazette.com/wp-content/uploads/2026/02/MissaVerso.jpg
END:VEVENT
END:VCALENDAR