BEGIN:VCALENDAR
VERSION:2.0
PRODID:-//Gringo Gazette - ECPv6.15.13.1//NONSGML v1.0//EN
CALSCALE:GREGORIAN
METHOD:PUBLISH
X-WR-CALNAME:Gringo Gazette
X-ORIGINAL-URL:https://gringogazette.com
X-WR-CALDESC:Events for Gringo Gazette
REFRESH-INTERVAL;VALUE=DURATION:PT1H
X-Robots-Tag:noindex
X-PUBLISHED-TTL:PT1H
BEGIN:VTIMEZONE
TZID:America/Mazatlan
BEGIN:STANDARD
TZOFFSETFROM:-0700
TZOFFSETTO:-0700
TZNAME:MST
DTSTART:20250101T000000
END:STANDARD
END:VTIMEZONE
BEGIN:VEVENT
DTSTART;TZID=America/Mazatlan:20260318T180000
DTEND;TZID=America/Mazatlan:20260318T213000
DTSTAMP:20260423T040031
CREATED:20260313T030224Z
LAST-MODIFIED:20260313T030224Z
UID:10000624-1773856800-1773869400@gringogazette.com
SUMMARY:Traditional Festivals Part 1
DESCRIPTION:As part of the Fiestas Tradicionales de San José del Cabo 2026\, a special cultural program will take place on Wednesday\, March 18 at Plaza Antonio Mijares in San José del Cabo. \nThe evening will begin at 6:00 PM with a performance by singer Paloma Martínez. At 7:00 PM\, the theater group Pies Hinchados will present the play No Oigo Nada\, Soy de Palo. The program will conclude at 9:10 PM with a live performance by The Baja Ensemble\, offering a dynamic musical experience for the audience. \nOrganized by the Instituto de la Cultura y las Artes de Los Cabos\, this cultural evening celebrates local artistic talent and provides residents and visitors with a vibrant mix of music and theater in the heart of the city.
URL:https://gringogazette.com/event/traditional-festivals-part-1/
LOCATION:Plaza Antonio Mijares\, Blvd. Antonio Mijares\, Centro\, San José del Cabo\, B.C.S.\, San jose del cabo\, Baja California Sur\, 23400\, Mexico
CATEGORIES:Acting,Festivals,Music,Party,San Jose del Cabo,Theater
ATTACH;FMTTYPE=image/png:https://gringogazette.com/wp-content/uploads/2026/03/Programa-cultural.PNG
END:VEVENT
END:VCALENDAR