BEGIN:VCALENDAR
VERSION:2.0
PRODID:-//Gringo Gazette - ECPv6.15.13.1//NONSGML v1.0//EN
CALSCALE:GREGORIAN
METHOD:PUBLISH
X-WR-CALNAME:Gringo Gazette
X-ORIGINAL-URL:https://gringogazette.com
X-WR-CALDESC:Events for Gringo Gazette
REFRESH-INTERVAL;VALUE=DURATION:PT1H
X-Robots-Tag:noindex
X-PUBLISHED-TTL:PT1H
BEGIN:VTIMEZONE
TZID:America/Mazatlan
BEGIN:STANDARD
TZOFFSETFROM:-0700
TZOFFSETTO:-0700
TZNAME:MST
DTSTART:20250101T000000
END:STANDARD
END:VTIMEZONE
BEGIN:VEVENT
DTSTART;TZID=America/Mazatlan:20260425T110000
DTEND;TZID=America/Mazatlan:20260425T130000
DTSTAMP:20260424T155359
CREATED:20260424T001857Z
LAST-MODIFIED:20260424T001857Z
UID:10000789-1777114800-1777122000@gringogazette.com
SUMMARY:Wings and Roots in BCS - Online Orientation Talk
DESCRIPTION:Online Orientation Workshop “Alas y Raíces BCS 2026” \nThis informational webinar serves as a basic guide for project proposals. It is specifically aimed at cultural promoters\, artists\, teachers\, and anyone interested in developing cultural projects for children and adolescents in Baja California Sur. \nThe goal is to increase the chances of a project being selected by providing insider tips and technical guidance. \nThis initiative is a collaboration between the Government of Mexico (Secretariat of Culture) and the State Government of Baja California Sur through the Sudcaliforniano Institute of Culture. It highlights 30 years of the “Alas y Raíces” program’s dedication to youth development through the arts
URL:https://gringogazette.com/event/wings-and-roots-in-bcs-online-orientation-talk/
CATEGORIES:Baja California Sur,Online,Research,Talk,Workshop
ATTACH;FMTTYPE=image/jpeg:https://gringogazette.com/wp-content/uploads/2026/04/Alas-raices.jpg
END:VEVENT
END:VCALENDAR