BEGIN:VCALENDAR
VERSION:2.0
PRODID:-//Gringo Gazette - ECPv6.15.13.1//NONSGML v1.0//EN
CALSCALE:GREGORIAN
METHOD:PUBLISH
X-ORIGINAL-URL:https://gringogazette.com
X-WR-CALDESC:Events for Gringo Gazette
REFRESH-INTERVAL;VALUE=DURATION:PT1H
X-Robots-Tag:noindex
X-PUBLISHED-TTL:PT1H
BEGIN:VTIMEZONE
TZID:America/Mazatlan
BEGIN:STANDARD
TZOFFSETFROM:-0700
TZOFFSETTO:-0700
TZNAME:MST
DTSTART:20250101T000000
END:STANDARD
END:VTIMEZONE
BEGIN:VEVENT
DTSTART;TZID=America/Mazatlan:20260424T190000
DTEND;TZID=America/Mazatlan:20260424T210000
DTSTAMP:20260424T134252
CREATED:20260421T210512Z
LAST-MODIFIED:20260421T210512Z
UID:10000785-1777057200-1777064400@gringogazette.com
SUMMARY:Vocal Concert "It's Like a Movie"
DESCRIPTION:¡Está como de Película!” (It’s Like a Movie!)\, is a vocal concert that promises an entertaining and cinematic musical experience. The performance will be presented by the “Voces al Vuelo” group\, made up of students trained by soprano instructor Liliana Del Conde\, showcasing their vocal talent through a selection of songs inspired by film\, theater\, and popular music. \nScheduled for April 24th at 7:00 PM\, the concert invites attendees to enjoy an evening filled with emotion\, artistry\, and storytelling through music. The theme suggests a program that may include iconic movie soundtracks or theatrical-style performances\, creating a dynamic atmosphere that blends live singing with the magic of cinema. \nTaking place at a cultural venue located on 16 de Septiembre Street\, corner of Belisario Domínguez (#120) in La Paz\, this event is part of a broader effort to promote artistic development and cultural engagement within the community. Organized with the support of local cultural institutions\, the concert highlights the work and progress of emerging vocalists under professional guidance. \nOverall\, this concert offers a great opportunity for audiences to experience live vocal performances in an intimate setting\, while supporting local talent and enjoying a night of music that feels truly “like a movie.”
URL:https://gringogazette.com/event/vocal-concert-its-like-a-movie/
LOCATION:Centro cultural de la Paz\, Calle16 de Septiembre\, #120\, zona centro\, La Paz\, Baja California Sur\, 23000\, Mexico
CATEGORIES:Baja California Sur,Concert,Culture,Family,La Paz,Music,Relaxing
ATTACH;FMTTYPE=image/jpeg:https://gringogazette.com/wp-content/uploads/2026/04/Esta-como-de-pelicula.jpg
END:VEVENT
BEGIN:VEVENT
DTSTART;TZID=America/Mazatlan:20260426T060000
DTEND;TZID=America/Mazatlan:20260426T170000
DTSTAMP:20260424T134252
CREATED:20260327T225810Z
LAST-MODIFIED:20260327T225810Z
UID:10000651-1777183200-1777222800@gringogazette.com
SUMMARY:Ferre-Mar Challenge 2026 -Tournament
DESCRIPTION:Get ready for an exciting and meaningful day on the water at the Reto Ferre-Mar\, a competitive sportfishing tournament organized by Ferre-Mar Marine & Tackle in collaboration with the communities of El Sargento\, La Ventana\, and Agua Amarga. \nDate: Sunday\, April 26\, 2026 Main Fishing Day: Sunday\, April 26 (with registration and rules briefing the day before) Location: Playa Central (launch area)\, near La Ventana / El Sargento\, Baja California Sur Target Species: Primarily Jurel (Jack Crevalle / Yellowtail)\, with additional jackpots for Dorado \n1st Place: $5\,518 dollars \n2nd Place: $3\,311 dollars \n3rd Place: $2\,207 dollars \nThis is a perfect tournament for both serious competitive teams and groups of friends or families who want to enjoy a full day of fishing while supporting a meaningful local cause.
URL:https://gringogazette.com/event/ferre-mar-challenge-2026-tournament/
LOCATION:Hotel Stella Maris\, Corredor Mar de Cortez\, El Sgto.\, B.C.S.\, La Paz\, Baja California Sur\, 23232\, Mexico
CATEGORIES:Fishing,La Paz,Sports,Tournament
ATTACH;FMTTYPE=image/jpeg:https://gringogazette.com/wp-content/uploads/2026/03/Reto-ferrer-mar.jpg
END:VEVENT
BEGIN:VEVENT
DTSTART;TZID=America/Mazatlan:20260426T070000
DTEND;TZID=America/Mazatlan:20260426T110000
DTSTAMP:20260424T134252
CREATED:20260417T025657Z
LAST-MODIFIED:20260417T025657Z
UID:10000774-1777186800-1777201200@gringogazette.com
SUMMARY:Family Fishing Day 2026
DESCRIPTION:The Family Fishing Day 2026 is a community-oriented outdoor event set to take place in San Juan de la Costa\, designed to bring together families\, fishing enthusiasts\, and local residents for a day of recreation and friendly competition. The main fishing activities will be held on April 26th at the local beach\, beginning early in the morning and continuing through late morning hours. \nPrior to the event\, registration is scheduled for April 25th at the local subdelegation offices\, where participants can sign up and receive information about the rules and structure of the competition. The event is open to a wide range of participants\, with categories for both adults and children\, encouraging inclusive participation. Children between certain ages can join free of charge\, while adults pay a modest registration fee\, making the event accessible to families as a whole. \nThe competition features a prize system that rewards top performers in both the adult and children’s categories\, with cash prizes distributed among the highest-ranking participants. Additionally\, smaller prizes are offered to several participants\, especially in the children’s division\, promoting a fun and motivating environment rather than purely competitive pressure. \nBeyond the contest itself\, the event emphasizes family bonding\, outdoor enjoyment\, and appreciation of the coastal environment. It provides an opportunity for participants to spend time together by the sea\, learn or practice fishing skills\, and engage in a relaxed\, community-driven atmosphere. Overall\, the Family Fishing Day serves as both a recreational gathering and a celebration of local traditions\, fostering a sense of connection between people\, nature\, and community life.
URL:https://gringogazette.com/event/family-fishing-day-2026/
LOCATION:Playa de San juan de la costa\, San Juan de la Costa\, Baja California Sur\, México\, La Paz\, Baja California Sur\, 23000\, Mexico
CATEGORIES:Baja California Sur,Beach,Competition,Family,Fishing,La Paz,Relaxing,Sports
ATTACH;FMTTYPE=image/jpeg:https://gringogazette.com/wp-content/uploads/2026/04/Dia-de-pesca-en-familia.jpg
END:VEVENT
BEGIN:VEVENT
DTSTART;TZID=America/Mazatlan:20260426T090000
DTEND;TZID=America/Mazatlan:20260426T170000
DTSTAMP:20260424T134252
CREATED:20260423T035814Z
LAST-MODIFIED:20260423T035814Z
UID:10000787-1777194000-1777222800@gringogazette.com
SUMMARY:El Triunfo Artistic Festival 2026
DESCRIPTION:The El Triunfo Artisan Festival is a vibrant cultural event that celebrates traditional craftsmanship\, local creativity\, and the rich heritage of the region. Taking place in El Triunfo\, this festival invites visitors to experience a full day immersed in art\, history\, and community spirit in one of the most charming historic towns of Baja California Sur. \nScheduled for Sunday\, April 26\, from 9:00 AM to 5:00 PM\, the event brings together a wide variety of artisans who showcase and sell handmade goods\, including pottery\, textiles\, jewelry\, and other unique crafts. Attendees can explore colorful stands filled with locally produced items\, offering a great opportunity to support regional artists and discover authentic\, one-of-a-kind pieces. \nBeyond the artisan market\, the festival also highlights the cultural identity of El Triunfo through its historic setting\, often featuring live music\, traditional food\, and family-friendly activities. Visitors can enjoy the atmosphere of the town\, known for its iconic architecture and mining history\, while engaging with the local community and learning more about their traditions. \nOrganized with the support of cultural institutions such as the Instituto Sudcaliforniano de Cultura\, the festival promotes the preservation and appreciation of regional arts and crafts. Overall\, the El Triunfo Artisan Festival offers a welcoming and enriching experience for tourists\, families\, and anyone interested in culture\, creativity\, and local heritage.
URL:https://gringogazette.com/event/el-triunfo-artistic-festival-2026/
LOCATION:Pueblo Historico El triunfo\, La Paz \, El Triunfo\, B.C.S.\, La Paz\, Baja California Sur\, 23210\, Mexico
CATEGORIES:Baja California Sur,Culture,Dance,El Triunfo,Festivals,La Paz,Music,Party,Tradition
ATTACH;FMTTYPE=image/jpeg:https://gringogazette.com/wp-content/uploads/2026/04/Festival-Artesanal-El-triunfo.jpg
END:VEVENT
BEGIN:VEVENT
DTSTART;TZID=America/Mazatlan:20260429T160000
DTEND;TZID=America/Mazatlan:20260430T173000
DTSTAMP:20260424T134252
CREATED:20260421T205822Z
LAST-MODIFIED:20260421T205822Z
UID:10000784-1777478400-1777570200@gringogazette.com
SUMMARY:Sea of ​​shapes Art Workshop
DESCRIPTION:“Mar de Formas” (Sea of Shapes)\, is an engaging artistic workshop focused on live model drawing\, designed for people and adults aged 16 and above. Hosted at the Museo de Arte de Baja California Sur\, the activity is led by instructor Ximena González\, who will guide participants through the process of observing and sketching a live model\, helping them develop their artistic skills\, perception\, and creative expression. \nThe workshop will take place over two sessions on Wednesday the 29th and Thursday the 30th\, from 4:00 PM to 5:30 PM\, offering a structured yet inspiring environment for both beginners and those with some drawing experience. Participants will have the opportunity to practice fundamental techniques such as proportion\, shading\, and line work\, while also exploring their own personal style in a supportive setting. \nRegistration: Is currently open\, but spaces are limited\, so early sign-up is encouraged. This event is ideal for anyone interested in visual arts\, whether as a hobby or a more serious pursuit. It not only promotes artistic development but also fosters a deeper appreciation for human form and creative observation. \nFor more information or to register\, the museum provides assistance from Tuesday to Friday\, 10:00 AM to 3:00 PM\, via phone. Overall\, “Mar de Formas” offers a valuable cultural and educational experience for those looking to immerse themselves in the world of drawing and artistic exploration.
URL:https://gringogazette.com/event/sea-of-shapes-art-workshop/
LOCATION:Museo de Arte de BCS\, Cl. 5 de Mayo SN-S"BANCO VITAL"\, Zona Central\, La Paz\, B.C.S.\, La Paz\, Baja California Sur\, Cl. 5 de Mayo SN-S"BANCO VITAL"\, Zona Central\, 23000 La Paz\, B.C.S.\, Mexico
CATEGORIES:Arts,Baja California Sur,La Paz,Museum,Relaxing,Workshop
ATTACH;FMTTYPE=image/jpeg:https://gringogazette.com/wp-content/uploads/2026/04/Mar-de-formas-2.jpg
END:VEVENT
BEGIN:VEVENT
DTSTART;TZID=America/Mazatlan:20260503T120000
DTEND;TZID=America/Mazatlan:20260503T140000
DTSTAMP:20260424T134252
CREATED:20260421T204057Z
LAST-MODIFIED:20260421T204057Z
UID:10000783-1777809600-1777816800@gringogazette.com
SUMMARY:Miners\,Cowboys and Puppets Museum Tour
DESCRIPTION:The “Cowboys\, Miners and Puppets!” museum experience is a creative and family-friendly cultural event taking place on Sunday\, May 3rd in El Triunfo. Organized in collaboration with Ándale La Paz A.C.\, Museo Ruta de Plata\, and Museo del Vaquero de las Californias\, this event offers a unique theatrical journey through local history and heritage. \nDesigned to celebrate World Theatre Day\, the event transforms a traditional museum visit into an immersive storytelling experience. Visitors will follow a guided route through the museums\, where live performances\, characters\, and puppetry bring to life the stories of miners and cowboys two iconic figures that shaped the identity of the region. The inclusion of puppets adds a playful and engaging dimension\, making the experience especially enjoyable for children while still captivating for adults. \nThe activity is structured into two sessions\, at 12:00 PM and 2:00 PM\, allowing guests to choose a convenient time to participate. Throughout the tour\, attendees will not only explore exhibits but also interact with performers\, enhancing the educational aspect with entertainment and creativity. \nOverall\, this event blends history\, theatre\, and community engagement into a dynamic cultural experience. It is an excellent opportunity for families and visitors to discover the rich past of El Triunfo in an innovative and memorable way\, combining learning with fun in a lively museum setting.
URL:https://gringogazette.com/event/minerscowboys-and-puppets-museum-tour/
LOCATION:Museo Ruta de Plata\, Calle Ayuntamiento (Progreso y\, Gral. M. Márquez de León\, Centro\, El Triunfo\, B.C.S.\, La Paz\, Baja California Sur\, 23210\, Mexico
CATEGORIES:Baja California Sur,Family,La Paz,Museum,Relaxing,Tour
ATTACH;FMTTYPE=image/jpeg:https://gringogazette.com/wp-content/uploads/2026/04/Mineros-vaqueros-y-titeres.jpg
END:VEVENT
BEGIN:VEVENT
DTSTART;TZID=America/Mazatlan:20260506T160000
DTEND;TZID=America/Mazatlan:20260506T180000
DTSTAMP:20260424T134252
CREATED:20260424T002737Z
LAST-MODIFIED:20260424T002737Z
UID:10000790-1778083200-1778090400@gringogazette.com
SUMMARY:The Music of Baja California Sur Unites Us - Play
DESCRIPTION:“The Music of BCS Unites Us!” \nUnder the poetic subtitle “From the port of illusion to the world\,” this event is described as a spectacular performance that gathers the entire musical essence of Sudcalifornia. It is designed to be a vibrant display of regional identity\, featuring folk music and traditional dance. \nThe performance brings together a variety of traditional and contemporary musical expressions that reflect the identity and spirit of Southern California’s peninsula. Attendees can expect live music featuring regional styles\, accompanied by folkloric dance performances with colorful costumes that highlight local traditions. The imagery suggests a fusion of mariachi-style musicians\, dancers in traditional dress\, and storytelling through music and movement\, creating a festive and inclusive atmosphere. \nOverall\, it’s not just a concert\, but a cultural celebration that highlights the essence\, beauty\, and artistic diversity of Baja California Sur
URL:https://gringogazette.com/event/the-music-of-baja-california-sur-unites-us-play/
LOCATION:Teatro de la Paz\, Antonio Navarro e/ Altamirano y H\, de Independencia Centro\, Zona Central\, 23000 La Paz\, B.C.S.\, La Paz\, Baja California Sur\, 23000\, Mexico
CATEGORIES:Acting,Baja California Sur,Dance,La Paz,Music,Theater
ATTACH;FMTTYPE=image/jpeg:https://gringogazette.com/wp-content/uploads/2026/04/Musica-de-Bcs-union.jpg
END:VEVENT
BEGIN:VEVENT
DTSTART;TZID=America/Mazatlan:20260508T190000
DTEND;TZID=America/Mazatlan:20260508T210000
DTSTAMP:20260424T134252
CREATED:20260424T003346Z
LAST-MODIFIED:20260424T003346Z
UID:10000791-1778266800-1778274000@gringogazette.com
SUMMARY:The Dance Show\, Nientiendo - Play
DESCRIPTION:“Espectáculo de Danza Nientiendo”\, is a lively and imaginative dance performance organized by the Association of Dance Teachers of Baja California Sur. It is designed as a vibrant cultural showcase that brings together different dance styles\, creative storytelling\, and community talent in a single dynamic production. \n“Nientiendo” hints at a theme centered around humor\, confusion\, or playful interpretation\, possibly exploring stories or emotions through expressive choreography and creative staging. The colorful and energetic visual design of the poster suggests a high-energy atmosphere\, with dynamic lighting\, costumes\, and music enhancing the overall experience. \nThe event will take place at the Teatro de la Ciudad in La Paz on Friday\, May 8\, 2026\, at 7:00 PM. It is presented with the support of cultural institutions and dance academies\, highlighting the collaborative effort of the local artistic community. The performance aims to celebrate dance as a universal language\, promote artistic expression\, and strengthen cultural identity within the region. \nOverall\, this is more than just a dance recital it is a festive\, creative spectacle that invites the audience to enjoy an evening of movement\, music\, and imagination.
URL:https://gringogazette.com/event/the-dance-show-nientiendo-play/
LOCATION:Teatro de la Paz\, Antonio Navarro e/ Altamirano y H\, de Independencia Centro\, Zona Central\, 23000 La Paz\, B.C.S.\, La Paz\, Baja California Sur\, 23000\, Mexico
CATEGORIES:Acting,Baja California Sur,Dance,Family,La Paz,Music,Relaxing,Theater
ATTACH;FMTTYPE=image/jpeg:https://gringogazette.com/wp-content/uploads/2026/04/La-danza-nientiendo.jpg
END:VEVENT
BEGIN:VEVENT
DTSTART;TZID=America/Mazatlan:20260509T180000
DTEND;TZID=America/Mazatlan:20260509T200000
DTSTAMP:20260424T134252
CREATED:20260418T003446Z
LAST-MODIFIED:20260418T003446Z
UID:10000777-1778349600-1778356800@gringogazette.com
SUMMARY:The Corpse of Mr. Garcia Season Two - Play
DESCRIPTION:El Cadáver del Señor García” A Hilarious Black Comedy by Enrique Jardiel Poncela \nThe Escuela Estatal de Arte Teatral proudly presents the second season of the acclaimed theatrical production “El Cadáver del Señor García”\, a sharp and wildly entertaining black comedy by the legendary Spanish playwright Enrique Jardiel Poncela. \nAdapted and directed by Diego Carlón\, this fresh new staging brings the absurd\, witty\, and darkly humorous world of Jardiel Poncela to life with energy\, precision\, and a distinctly contemporary touch. \nThis production is part of the school’s commitment to professional training and bringing quality theater to the people of La Paz. With sharp dialogue\, physical comedy\, and impeccable timing\, “El Cadáver del Señor García” promises an evening of nonstop laughter and theatrical delight. \nWhether you’re a longtime theater lover or simply looking for a fun and clever night out\, this second season is not to be missed.
URL:https://gringogazette.com/event/the-corpse-of-mr-garcia-season-two-play/
LOCATION:Teatro de la Paz\, Antonio Navarro e/ Altamirano y H\, de Independencia Centro\, Zona Central\, 23000 La Paz\, B.C.S.\, La Paz\, Baja California Sur\, 23000\, Mexico
CATEGORIES:Acting,Baja California Sur,La Paz,Relaxing,Theater
ATTACH;FMTTYPE=image/jpeg:https://gringogazette.com/wp-content/uploads/2026/04/El-cadaver-del-Senor-garcia.jpg
END:VEVENT
BEGIN:VEVENT
DTSTART;TZID=America/Mazatlan:20260528T000000
DTEND;TZID=America/Mazatlan:20260530T000000
DTSTAMP:20260424T134252
CREATED:20260424T044535Z
LAST-MODIFIED:20260424T044535Z
UID:10000792-1779926400-1780099200@gringogazette.com
SUMMARY:2nd Choral Festival – Teatro Juárez\, La Paz
DESCRIPTION:Experience the beauty of vocal music at the 2nd Choral Festival in La Paz\, bringing together over 150 singers for a special three-day celebration of choral performance and musical education. Hosted at Teatro Juárez\, this event highlights the power of collective voices through concerts\, workshops\, and artistic collaboration. \nThe festival will feature a guest choir from the Secretariat of Culture of the State of Mexico\, as well as a masterclass led by Maestro Jorge Córdoba. Attendees can also enjoy choral rehearsals\, educational talks\, and a special closing concert.
URL:https://gringogazette.com/event/2nd-choral-festival-teatro-juarez-la-paz/
LOCATION:Teatro Juarez\, Belisario Domínguez 448\, Z1ona Central\,La Paz\, B.C.S.\, La Paz\, Baja California Sur\, 23000
CATEGORIES:La Paz
ATTACH;FMTTYPE=image/png:https://gringogazette.com/wp-content/uploads/2026/04/Screenshot-2026-04-23-213702.png
ORGANIZER;CN="Teatro Juarez La Paz":MAILTO:teatrojuarez1910@gmail.com
END:VEVENT
BEGIN:VEVENT
DTSTART;TZID=America/Mazatlan:20260626T210000
DTEND;TZID=America/Mazatlan:20260626T230000
DTSTAMP:20260424T134252
CREATED:20260206T223408Z
LAST-MODIFIED:20260206T223408Z
UID:10000552-1782507600-1782514800@gringogazette.com
SUMMARY:Elias Medina 2026
DESCRIPTION:Experience an unforgettable night with Elías Medina\, one of the most iconic voices in Mexican regional music\, as he takes the stage live in concert. Known for his powerful vocals and emotional performances\, Elías Medina delivers a show filled with passion\, nostalgia\, and the timeless hits that have made him a legend. \nThe concert will take place on Friday\, June 26 at Arena La Paz in La Paz\, Baja California Sur. This special evening celebrates the essence of classic Mexican music\, offering fans a chance to sing along and relive unforgettable moments through his most beloved songs. \nA must-see event for fans of Mexican music and live concerts\, promising an evening full of emotion\, energy\, and musical excellence.
URL:https://gringogazette.com/event/elias-medina-2026/
LOCATION:Arena La Paz\, Zona Central\, La Paz\, B.C.S.\, La Paz\, Baja California\, 23000\, Mexico
CATEGORIES:Concert,La Paz,Music,Party
ATTACH;FMTTYPE=image/jpeg:https://gringogazette.com/wp-content/uploads/2026/02/Elias-2.jpg
END:VEVENT
BEGIN:VEVENT
DTSTART;VALUE=DATE:20260718
DTEND;VALUE=DATE:20260719
DTSTAMP:20260424T134252
CREATED:20260203T055925Z
LAST-MODIFIED:20260203T055925Z
UID:10000265-1784332800-1784419199@gringogazette.com
SUMMARY:Dorado Shoot Out
DESCRIPTION:Get ready for the biggest\, most electrifying dorado fishing showdown in Baja California Sur! The Dorado Shoot Out returns on Saturday\, July 18\, 2026\, transforming the laid-back fishing village of Los Barriles (East Cape\, BCS) into a high-octane battleground on the Sea of Cortez. With an average of 140+ boats competing each year\, this legendary one-day tournament is widely regarded as the largest dorado-specific event in Baja and for 2026\, it’s promising over $500\,000 USD in cash prizes and awards! \nThis isn’t just a tournament  it’s a summer tradition blending world-class fishing (consistent dorado runs in July)\, stunning scenery (palm-lined beaches\, distant mountains\, and endless blue horizon)\, and the unbeatable East Cape spirit. Sponsored by top brands like Bubba\, Furuno\, Pine\, Eat Me Lures\, St. Croix\, Diamante\, Costa\, and more\, with support from the Government of Baja California Sur and local partners. \nWhether you’re gunning for the podium\, chasing a jackpot\, or just craving an adrenaline-fueled day on the water with your crew\, the Dorado Shoot Out is the can’t-miss event of the Baja summer!
URL:https://gringogazette.com/event/dorado-shoot-out/
LOCATION:Los Barriles\, Los Barriles Baja sur Mexico\, Los Barriles\, Mexico
CATEGORIES:Fishing,La Paz,Sports,Tournament
ATTACH;FMTTYPE=image/jpeg:https://gringogazette.com/wp-content/uploads/2026/02/Dorado.jpg
END:VEVENT
BEGIN:VEVENT
DTSTART;VALUE=DATE:20260725
DTEND;VALUE=DATE:20260726
DTSTAMP:20260424T134252
CREATED:20260131T060958Z
LAST-MODIFIED:20260131T060958Z
UID:10000245-1784937600-1785023999@gringogazette.com
SUMMARY:Ladies Shoot Out 2026
DESCRIPTION:Get ready for an empowering\, high-energy day on the water at the Ladies Shoot Out 2026 — a celebrated all-ladies (or women-led) fishing tournament that brings together passionate anglers\, friends\, and fierce competitors from across the U.S. and Mexico for one unforgettable showdown in the pristine waters of the Sea of Cortez! \nTournament Date: Saturday\, July 25\, 2026 \nBase & Check-In: Hotel Palmas de Cortez\, Los Barriles\, East Cape\, Baja California Sur — a stunning beachfront resort with easy access to world-class fishing grounds\, palm-lined shores\, and that laid-back Baja vibe. Hosted by Van Wormer Resorts (including Hotel Palmas de Cortez and Hotel Playa del Sol)\, this event is a highlight of the East Cape fishing calendar\, known for its supportive community spirit\, big laughs\, and serious offshore competition.
URL:https://gringogazette.com/event/ladies-shoot-out-2026/
LOCATION:Hotel Palmas De Cortez\, Calle 20 de Noviembre #2 y\, C. 20 Noviembre\, Los Barriles\, B.C.S.\, La Paz\, Baja California Sur\, 23330\, Mexico
CATEGORIES:Fishing,La Paz,Sports,Tournament
ATTACH;FMTTYPE=image/jpeg:https://gringogazette.com/wp-content/uploads/2026/01/Ladies.jpg
END:VEVENT
BEGIN:VEVENT
DTSTART;VALUE=DATE:20260919
DTEND;VALUE=DATE:20260920
DTSTAMP:20260424T134252
CREATED:20260203T063301Z
LAST-MODIFIED:20260203T063301Z
UID:10000269-1789776000-1789862399@gringogazette.com
SUMMARY:Tuna Wahoo 2026
DESCRIPTION:Mark your calendar for Saturday\, September 19\, 2026  the Tuna & Wahoo Shoot Out returns to Los Barriles\, delivering one of the most adrenaline-charged fishing days of the Baja fall season! This fast-paced\, one-day tournament targets the high-speed thrill of yellowfin tuna and wahoo in the rich offshore waters of the Sea of Cortez\, where these pelagic predators are known to hit hard\, run fast\, and fight like champions. \nThis is a welcoming\, family-oriented tournament with a strong sense of camaraderie. Whether you’re a seasoned offshore crew chasing the podium or a group of friends out for fun and big fish stories\, the Tuna & Wahoo Shoot Out delivers world-class fishing\, generous prizes\, and the classic Baja hospitality that keeps anglers coming back year after year.
URL:https://gringogazette.com/event/tuna-wahoo-2026/
LOCATION:Hotel playa del sol\, Calle 20 de Noviembre Unica\, Los Barriles\, B.C.S.\, La Paz\, Baja California Sur\, 23330\, Mexico
CATEGORIES:Fishing,La Paz,Race,Sports,Tournament
ATTACH;FMTTYPE=image/jpeg:https://gringogazette.com/wp-content/uploads/2026/02/Tuna.jpg
END:VEVENT
END:VCALENDAR