BEGIN:VCALENDAR
VERSION:2.0
PRODID:-//Gringo Gazette - ECPv6.15.13.1//NONSGML v1.0//EN
CALSCALE:GREGORIAN
METHOD:PUBLISH
X-WR-CALNAME:Gringo Gazette
X-ORIGINAL-URL:https://gringogazette.com
X-WR-CALDESC:Events for Gringo Gazette
REFRESH-INTERVAL;VALUE=DURATION:PT1H
X-Robots-Tag:noindex
X-PUBLISHED-TTL:PT1H
BEGIN:VTIMEZONE
TZID:America/Mazatlan
BEGIN:STANDARD
TZOFFSETFROM:-0700
TZOFFSETTO:-0700
TZNAME:MST
DTSTART:20250101T000000
END:STANDARD
END:VTIMEZONE
BEGIN:VEVENT
DTSTART;TZID=America/Mazatlan:20260413T090000
DTEND;TZID=America/Mazatlan:20260413T113000
DTSTAMP:20260425T051243
CREATED:20260407T184836Z
LAST-MODIFIED:20260407T184836Z
UID:10000749-1776070800-1776079800@gringogazette.com
SUMMARY:72nd Anniversary of the Death of General Francisco J. Múgica: Life and Work
DESCRIPTION:“Vida y Obra” Life and Legacy Commemoration \nThe Government of Baja California Sur\, through the Instituto de la Cultura y las Artes de Los Cabos\, the Instituto Sudcaliforniano de Cultura\, and the Archivo Histórico del Estado “Pablo L. Martínez”\, together with local authorities\, invite the community to a solemn and inspiring commemoration of the 72nd Anniversary of the passing of General Francisco J. Múgica. \nThis event honors the extraordinary legacy of one of the most important revolutionary figures in Mexican history  a man known for his unwavering commitment to social justice\, land reform\, education\, and the rights of the people. General Múgica’s passage through Baja California Sur left an indelible mark on the region’s social and political development. \nThe commemoration combines historical reflection\, visual storytelling\, and intellectual dialogue in the very place where his influence was strongly felt. \nFree and open to the public
URL:https://gringogazette.com/event/72nd-anniversary-of-the-death-of-general-francisco-j-mugica-life-and-work/
LOCATION:Plaza publica de Santiago\, Zona central de Santiago\, Baja California Sur\, Los Cabos\, Los Cabos\, Baja California Sur\, 23560\, Mexico
CATEGORIES:Baja California Sur,Culture,History,Los Cabos
ATTACH;FMTTYPE=image/png:https://gringogazette.com/wp-content/uploads/2026/04/Vida-y-Obra.PNG
END:VEVENT
BEGIN:VEVENT
DTSTART;TZID=America/Mazatlan:20260415T180000
DTEND;TZID=America/Mazatlan:20260415T190000
DTSTAMP:20260425T051243
CREATED:20260409T034547Z
LAST-MODIFIED:20260409T034547Z
UID:10000752-1776276000-1776279600@gringogazette.com
SUMMARY:Poetic Anthology I Am Woman 2026
DESCRIPTION:“Noche de Museo” (Museum Night) is a cultural event organized by the Government of Baja California Sur and the Museo de Arte de Baja California Sur. This edition features the collective “Sudcalifornianas en la literatura”\, highlighting the voices and contributions of women in literature from the region. \nThe main activity of the evening is a poetry recital from the “Soy Mujer 2026 Poetic Anthology”\, where selected works will be presented in a live reading format. The recital will be led by Victoria Libertad\, Lourdes Anguiano\, María Benítez\, and Griselda Rochín. \nThe event will take place on April 15 from 6:00 PM to 7:00 PM at the Museo de Arte de Baja California Sur\, located in La Paz. Attendees can expect an intimate and reflective cultural experience focused on poetry\, artistic expression\, and the celebration of women’s voices in literature.
URL:https://gringogazette.com/event/poetic-anthology-i-am-woman-2026/
LOCATION:Museo de Arte de BCS\, Cl. 5 de Mayo SN-S"BANCO VITAL"\, Zona Central\, La Paz\, B.C.S.\, La Paz\, Baja California Sur\, Cl. 5 de Mayo SN-S"BANCO VITAL"\, Zona Central\, 23000 La Paz\, B.C.S.\, Mexico
CATEGORIES:Baja California Sur,Culture,History,La Paz,Poetry,Relaxing
ATTACH;FMTTYPE=image/jpeg:https://gringogazette.com/wp-content/uploads/2026/04/Antologia-poetica.jpg
END:VEVENT
END:VCALENDAR