BEGIN:VCALENDAR
VERSION:2.0
PRODID:-//Gringo Gazette - ECPv6.15.13.1//NONSGML v1.0//EN
CALSCALE:GREGORIAN
METHOD:PUBLISH
X-WR-CALNAME:Gringo Gazette
X-ORIGINAL-URL:https://gringogazette.com
X-WR-CALDESC:Events for Gringo Gazette
REFRESH-INTERVAL;VALUE=DURATION:PT1H
X-Robots-Tag:noindex
X-PUBLISHED-TTL:PT1H
BEGIN:VTIMEZONE
TZID:America/Mazatlan
BEGIN:STANDARD
TZOFFSETFROM:-0700
TZOFFSETTO:-0700
TZNAME:MST
DTSTART:20250101T000000
END:STANDARD
END:VTIMEZONE
BEGIN:VEVENT
DTSTART;TZID=America/Mazatlan:20260424T190000
DTEND;TZID=America/Mazatlan:20260424T203000
DTSTAMP:20260425T132903
CREATED:20260423T040528Z
LAST-MODIFIED:20260423T040528Z
UID:10000788-1777057200-1777062600@gringogazette.com
SUMMARY:Anatomical Drawing - (Live model)
DESCRIPTION:Led by artist Karla de Jesús\, a graduate of Instituto Nacional de Bellas Artes y Literatura\, the workshop focuses on anatomy\, proportion\, and expressive techniques while working from a live model. Participants will have the opportunity to practice sketching in real time\, improving their observation skills\, line work\, and overall artistic confidence. The session is suitable for both intermediate and more experienced artists looking to refine their technique. \nThe event will take place on Friday\, April 24\, from 7:00 PM to 8:30 PM at the “Cerrito del Timbre” Art Gallery in Cabo San Lucas. Due to the nature of the class\, space is limited\, and prior reservation is required. The workshop has a fee of $21 dollars\, which includes materials\, making it a convenient option for participants. \nOpen exclusively to adults (18+)\, this session provides a focused\, respectful\, and creative atmosphere where attendees can explore figure drawing while engaging with the local art community. Overall\, it’s an excellent opportunity to develop artistic skills\, learn from a trained instructor\, and experience a classic practice in the visual arts.
URL:https://gringogazette.com/event/anatomical-drawing-live-model/
LOCATION:Galeria de Arte Cerrito del timbre\, Centro\, Ildefonso Green\, Cabo San Lucas\, B.C.S.\, Cabo San lucas\, Baja California Sur\, 23470\, Mexico
CATEGORIES:Arts,Baja California Sur,Cabo San Lucas,Drawing,Gallery,Workshop
ATTACH;FMTTYPE=image/png:https://gringogazette.com/wp-content/uploads/2026/04/Dibujo-Anatomico.PNG
END:VEVENT
BEGIN:VEVENT
DTSTART;TZID=America/Mazatlan:20260420T190000
DTEND;TZID=America/Mazatlan:20260420T210000
DTSTAMP:20260425T132903
CREATED:20260417T023952Z
LAST-MODIFIED:20260417T023952Z
UID:10000772-1776711600-1776718800@gringogazette.com
SUMMARY:The Sea of the Seven Circles
DESCRIPTION:The art exhibition “El Mar de los Siete Círculos: Simbolismo Inmersivo” by Roberto P. Reyes is a cultural event organized in Cabo San Lucas. The opening will take place on April 20th at 7:00 p.m. at the Casa de la Cultura Profa. Nieves Trasviña de Ceseña\, specifically within the “Cerrito del Timbre” art gallery. \nThis exhibition presents an immersive artistic experience that explores symbolism through visual compositions inspired by the sea and abstract forms. Visitors can expect a collection of works that blend color\, texture\, and fluid shapes to evoke emotional and conceptual interpretations\, inviting the audience to engage not only visually but also intellectually with the pieces. The concept of “seven circles” suggests layers of meaning\, potentially reflecting cycles\, depth\, and interconnected elements within nature and human perception. \nThe event is open to the public with free admission\, making it accessible to a wide audience\, including art enthusiasts\, students\, and members of the local community. The opening night is likely to serve as a gathering space for cultural exchange\, where attendees can interact with the artwork\, meet other visitors\, and gain insight into the artist’s vision and creative process. \nOverall\, the exhibition aims to promote contemporary artistic expression in the region while offering a reflective and immersive environment that encourages visitors to interpret the relationship between symbolism\, nature\, and personal experience.
URL:https://gringogazette.com/event/the-sea-of-the-seven-circles/
LOCATION:Galeria de Arte Cerrito del timbre\, Centro\, Ildefonso Green\, Cabo San Lucas\, B.C.S.\, Cabo San lucas\, Baja California Sur\, 23470\, Mexico
CATEGORIES:Arts,Baja California Sur,Cabo San Lucas,Culture,Family,Gallery
ATTACH;FMTTYPE=image/png:https://gringogazette.com/wp-content/uploads/2026/04/el-mar-de-los-siete-circulos.PNG
END:VEVENT
BEGIN:VEVENT
DTSTART;TZID=America/Mazatlan:20260411T150000
DTEND;TZID=America/Mazatlan:20260411T190000
DTSTAMP:20260425T132903
CREATED:20260404T012837Z
LAST-MODIFIED:20260404T012837Z
UID:10000735-1775919600-1775934000@gringogazette.com
SUMMARY:Art To Heart Exhibition 2026
DESCRIPTION:Art to Heart Exhibition Opening Night Reception Where Art and Purpose Come Together \nYou are warmly invited to the opening night of “Art to Heart”\, a beautiful and meaningful art exhibition by freelance artist Odette Lavoie\, longtime friend and supporter of La Playa Centro Comunitario in Los Cabos. \nThis special exhibition features a vibrant collection of Odette’s original paintings  colorful\, expressive works inspired by nature\, flora\, and the human spirit. Every piece on display carries a deeper purpose: all proceeds from sales will be donated to Vida Sana\, a local wellness program that supports the health and well-being of vulnerable children and families in the community. \nThe exhibition will remain on display at Hotel Ganzo’s Galería until April 30\, 2026\, so even if you cannot attend the opening night\, you can still visit and support the cause throughout the month. \n“Art to Heart” is more than an art show  it is a beautiful fusion of creativity and compassion\, where every brushstroke helps improve the lives of children in need.
URL:https://gringogazette.com/event/art-to-heart-exhibition-2026/
LOCATION:Hotel Ganzo\, Boulevard Tiburon s/n La Playa\, San José del Cabo\, B.C.S.\, San jose del Cabo\, Baja California Sur\, 23403\, Mexico
CATEGORIES:Arts,Exhibition,Gallery,Hotel,Research,San Jose del Cabo
ATTACH;FMTTYPE=image/png:https://gringogazette.com/wp-content/uploads/2026/04/Art-to-heart-Exhibition.PNG
END:VEVENT
BEGIN:VEVENT
DTSTART;TZID=America/Mazatlan:20260410T200000
DTEND;TZID=America/Mazatlan:20260410T213000
DTSTAMP:20260425T132903
CREATED:20260402T065030Z
LAST-MODIFIED:20260402T065030Z
UID:10000663-1775851200-1775856600@gringogazette.com
SUMMARY:Dioramas
DESCRIPTION:“Dioramas” is a photographic exhibition by artist Patricia Lagarde\, showcasing a series of evocative and visually striking images that explore staged scenes\, intimacy\, and narrative through photography. \nThe exhibition will open on Friday\, April 10\, 2026\, at 8:00 PM at the Galería de Arte Carlos Olachea Boucsiéguez\, located within the Unidad Cultural Jesús Castro Agúndez in La Paz\, Baja California Sur. \nThis exhibition invites visitors to immerse themselves in carefully constructed visual “dioramas\,” where each photograph presents a moment suspended between reality and fiction. The work reflects a strong artistic vision\, combining composition\, atmosphere\, and storytelling. \nOrganized with the support of cultural institutions from Baja California Sur\, the event offers a refined cultural experience for art enthusiasts and the general public.
URL:https://gringogazette.com/event/dioramas/
LOCATION:Galería de Arte Carlos Olachea Bouciéguez\, Antonio Navarro entre Altamirano y H. de Independencia\, Colonia Centro\, La Paz\, Baja California Sur.\, La Paz\, Baja California Sur\, Mexico
CATEGORIES:Arts,Culture,Exhibition,Gallery,La Paz,Relaxing
ATTACH;FMTTYPE=image/jpeg:https://gringogazette.com/wp-content/uploads/2026/04/Dioramas.jpg
END:VEVENT
BEGIN:VEVENT
DTSTART;TZID=America/Mazatlan:20260407T190000
DTEND;TZID=America/Mazatlan:20260407T203000
DTSTAMP:20260425T132903
CREATED:20260403T042530Z
LAST-MODIFIED:20260403T042530Z
UID:10000667-1775588400-1775593800@gringogazette.com
SUMMARY:Art Exhibition - Agua Mala
DESCRIPTION:“Aguamala” is an art exhibition by María Campllonch\, presented by the Instituto de la Cultura y las Artes de Los Cabos in collaboration with the Casa de la Cultura “Profa. Nieves Trasviña de Ceseña.” \nThe exhibition explores poetic and conceptual themes\, reflected in its subtitle: “A heartbeat without a heart\, a body without territory.” Through this work\, the artist invites viewers to reflect on identity\, existence\, and fluidity\, inspired by the imagery of jellyfish (aguamala). \nThe opening will take place on Tuesday\, April 7 at 7:00 PM at the Galería de Arte “Cerrito del Timbre” in Cabo San Lucas. \nAdmission is free\, making it an accessible cultural event for the community and art enthusiasts.
URL:https://gringogazette.com/event/art-exhibition-agua-mala/
LOCATION:Galeria de Arte Cerrito del timbre\, Centro\, Ildefonso Green\, Cabo San Lucas\, B.C.S.\, Cabo San lucas\, Baja California Sur\, 23470\, Mexico
CATEGORIES:Arts,Cabo San Lucas,Culture,Exhibition,Gallery
ATTACH;FMTTYPE=image/png:https://gringogazette.com/wp-content/uploads/2026/04/Aguamala.PNG
END:VEVENT
BEGIN:VEVENT
DTSTART;TZID=America/Mazatlan:20260325T180000
DTEND;TZID=America/Mazatlan:20260325T200000
DTSTAMP:20260425T132903
CREATED:20260324T191258Z
LAST-MODIFIED:20260324T191258Z
UID:10000643-1774461600-1774468800@gringogazette.com
SUMMARY:Living the writings of my mind - Book presentation
DESCRIPTION:A special book presentation for “Viviendo los escritos de mi mente” by Gabriela Torres will take place on Wednesday\, March 25 at 6:00 PM in Cabo San Lucas\, at the Art Gallery “Cerrito del Timbre.” \nOrganized by the Instituto de la Cultura y las Artes de Los Cabos in collaboration with Casa de la Cultura\, this free event invites the public to discover the author’s work\, which explores personal thoughts\, emotions\, and reflections through writing. \nAttendees will have the opportunity to engage with the author\, learn about the inspiration behind the book\, and enjoy a cultural evening focused on literature and artistic expression in an intimate and welcoming setting.
URL:https://gringogazette.com/event/living-the-writings-of-my-mind-book-presentation/
LOCATION:Galeria de Arte Cerrito del timbre\, Centro\, Ildefonso Green\, Cabo San Lucas\, B.C.S.\, Cabo San lucas\, Baja California Sur\, 23470\, Mexico
CATEGORIES:Arts,Book Presentation,Cabo San Lucas,Gallery,Relaxing
ATTACH;FMTTYPE=image/png:https://gringogazette.com/wp-content/uploads/2026/03/viviendo-los-escritos-de-mi-mente.PNG
END:VEVENT
BEGIN:VEVENT
DTSTART;TZID=America/Mazatlan:20260311T180000
DTEND;TZID=America/Mazatlan:20260311T200000
DTSTAMP:20260425T132903
CREATED:20260310T220920Z
LAST-MODIFIED:20260310T220920Z
UID:10000620-1773252000-1773259200@gringogazette.com
SUMMARY:Soy Mujer - Book presentation
DESCRIPTION:The Instituto de la Cultura y las Artes de Los Cabos\, in collaboration with the Casa de la Cultura “Profr. Nieves Trasviña de Ceseña” and the H. XV Ayuntamiento de Los Cabos\, warmly invites the community to the official presentation of “Soy Mujer”\, a powerful and moving poetic anthology created by the Colectivo Sudcalifornianas en la Literatura. \n“Soy Mujer” gathers the voices of 33 women writers from across Baja California Sur  poets\, storytellers\, dreamers\, mothers\, daughters\, grandmothers\, and everyday heroines who use words to claim their space\, heal wounds\, celebrate identity\, and honor the feminine experience in all its complexity and beauty. \nThe anthology weaves themes of empowerment\, resilience\, love\, ancestral memory\, nature\, struggle\, joy\, and the unique sudcaliforniana perspective  shaped by desert landscapes\, sea breezes\, mission heritage\, ranch life\, and the vibrant multicultural spirit of the peninsula \nNo registration needed  just arrive early to find a good seat. Bring a friend\, bring your heart\, and come ready to be moved by poetry that speaks directly to the soul.
URL:https://gringogazette.com/event/soy-mujer-book-presentation/
LOCATION:Galeria de Arte Cerrito del timbre\, Centro\, Ildefonso Green\, Cabo San Lucas\, B.C.S.\, Cabo San lucas\, Baja California Sur\, 23470\, Mexico
CATEGORIES:Book Fair,Cabo San Lucas,Gallery,Relaxing
ATTACH;FMTTYPE=image/png:https://gringogazette.com/wp-content/uploads/2026/03/soy-mujer.PNG
END:VEVENT
END:VCALENDAR