BEGIN:VCALENDAR
VERSION:2.0
PRODID:-//Gringo Gazette - ECPv6.15.13.1//NONSGML v1.0//EN
CALSCALE:GREGORIAN
METHOD:PUBLISH
X-WR-CALNAME:Gringo Gazette
X-ORIGINAL-URL:https://gringogazette.com
X-WR-CALDESC:Events for Gringo Gazette
REFRESH-INTERVAL;VALUE=DURATION:PT1H
X-Robots-Tag:noindex
X-PUBLISHED-TTL:PT1H
BEGIN:VTIMEZONE
TZID:America/Mazatlan
BEGIN:STANDARD
TZOFFSETFROM:-0700
TZOFFSETTO:-0700
TZNAME:MST
DTSTART:20250101T000000
END:STANDARD
END:VTIMEZONE
BEGIN:VEVENT
DTSTART;TZID=America/Mazatlan:20260228T200000
DTEND;TZID=America/Mazatlan:20260228T220000
DTSTAMP:20260422T184650
CREATED:20260224T064344Z
LAST-MODIFIED:20260225T223130Z
UID:10000587-1772308800-1772316000@gringogazette.com
SUMMARY:The Nature of Symbols – Fashion Show
DESCRIPTION:The “Sí a la Naturaleza de los Símbolos\, No” Fashion Show is a special artistic event celebrating creativity\, symbolism\, and the arrival of the Spring Equinox. Presented by La Magia\, the show blends fashion\, music\, and performance art into an immersive cultural experience. \nTaking place on February 28\, 2026 at 8:00 PM at EN/AT:YAO\, the evening will feature a runway presentation inspired by symbolic and natural elements\, highlighting unique designs and artistic expression. \nThe event will also include live DJ sets by DJ Kennedy\, DJ DeCuz\, and DJ Danny Desierto\, along with artistic performances that complement the fashion showcase. \nCover charge is $3 Dollars (or more). Guests are invited to enjoy a night where fashion\, music\, and art come together in celebration of creativity and the spirit of the Spring Equinox.
URL:https://gringogazette.com/event/the-nature-of-symbols/
LOCATION:YAO\, Calle Paseo Avaro Obregon 62\, Pueblo Nuevo\, Todos Santos\, BC\, Baja California Sur\, 23300\, Mexico
CATEGORIES:Arts,Fashion,Music,Party,Todos Santos
ATTACH;FMTTYPE=image/jpeg:https://gringogazette.com/wp-content/uploads/2026/02/La-Magia.jpg
END:VEVENT
END:VCALENDAR