BEGIN:VCALENDAR
VERSION:2.0
PRODID:-//Gringo Gazette - ECPv6.15.13.1//NONSGML v1.0//EN
CALSCALE:GREGORIAN
METHOD:PUBLISH
X-WR-CALNAME:Gringo Gazette
X-ORIGINAL-URL:https://gringogazette.com
X-WR-CALDESC:Events for Gringo Gazette
REFRESH-INTERVAL;VALUE=DURATION:PT1H
X-Robots-Tag:noindex
X-PUBLISHED-TTL:PT1H
BEGIN:VTIMEZONE
TZID:America/Mazatlan
BEGIN:STANDARD
TZOFFSETFROM:-0700
TZOFFSETTO:-0700
TZNAME:MST
DTSTART:20250101T000000
END:STANDARD
END:VTIMEZONE
BEGIN:VEVENT
DTSTART;TZID=America/Mazatlan:20260319T160000
DTEND;TZID=America/Mazatlan:20260319T213000
DTSTAMP:20260422T144717
CREATED:20260314T041952Z
LAST-MODIFIED:20260314T041952Z
UID:10000625-1773936000-1773955800@gringogazette.com
SUMMARY:Traditional Festivals Part 2
DESCRIPTION:As part of the Fiestas Tradicionales de San José del Cabo 2026\, a cultural program will be held on Thursday\, March 19 at Plaza Antonio Mijares in San José del Cabo. \nThe afternoon begins at 4:00 PM with performances by local dance studios\, showcasing a variety of traditional and contemporary dance styles. At 6:30 PM\, the Casa de la Cultura will present a series of cultural workshops highlighting artistic activities and community participation. \nThe evening will conclude at 9:10 PM with a live performance by the regional music group Los Esenciales de la Baja\, offering a lively musical show for attendees. \nOrganized by the Instituto de la Cultura y las Artes de Los Cabos\, this event celebrates local traditions\, music\, and performing arts as part of the annual festivities honoring the heritage of San José del Cabo.
URL:https://gringogazette.com/event/traditional-festivals-part-2/
LOCATION:Plaza Antonio Mijares\, Blvd. Antonio Mijares\, Centro\, San José del Cabo\, B.C.S.\, San jose del cabo\, Baja California Sur\, 23400\, Mexico
CATEGORIES:Arts,Culture,Dance,Festivals,Music,San Jose del Cabo
ATTACH;FMTTYPE=image/png:https://gringogazette.com/wp-content/uploads/2026/03/Festivales-tradicionales-2.PNG
END:VEVENT
END:VCALENDAR