BEGIN:VCALENDAR
VERSION:2.0
PRODID:-//Gringo Gazette - ECPv6.15.13.1//NONSGML v1.0//EN
CALSCALE:GREGORIAN
METHOD:PUBLISH
X-WR-CALNAME:Gringo Gazette
X-ORIGINAL-URL:https://gringogazette.com
X-WR-CALDESC:Events for Gringo Gazette
REFRESH-INTERVAL;VALUE=DURATION:PT1H
X-Robots-Tag:noindex
X-PUBLISHED-TTL:PT1H
BEGIN:VTIMEZONE
TZID:America/Mazatlan
BEGIN:STANDARD
TZOFFSETFROM:-0700
TZOFFSETTO:-0700
TZNAME:MST
DTSTART:20240101T000000
END:STANDARD
END:VTIMEZONE
BEGIN:VEVENT
DTSTART;TZID=America/Mazatlan:20251224T180000
DTEND;TZID=America/Mazatlan:20251224T220000
DTSTAMP:20260421T194238
CREATED:20251215T080622Z
LAST-MODIFIED:20251215T080622Z
UID:10000191-1766599200-1766613600@gringogazette.com
SUMMARY:Christmas Eve Dinner at Hacienda del Mar: A Magical Family Celebration
DESCRIPTION:Celebrate Christmas Eve with an elegant and heartwarming dinner experience at Hacienda del Mar. This special evening is designed to bring families together in a festive atmosphere filled with warmth\, tradition\, and seasonal charm. Guests are invited to enjoy a carefully curated dining experience in a beautiful setting\, perfect for sharing meaningful moments and creating lasting holiday memories. It’s an ideal way to welcome the spirit of Christmas with great food\, a cozy ambiance\, and the joy of being together. \n\n\n\n\n\n\nAdults: ~$140 USD per person | Children (5–12): ~$50 USD
URL:https://gringogazette.com/event/christmas-eve-dinner-at-hacienda-del-mar-a-magical-family-celebration/
LOCATION:Hacienda del Mar Los Cabos An Autograph Collection All-Inclusive Resort\, Corredor Turístico SJC-CSL KM. 10 Lote D\, Cabo del Sol\, Cabo del sol Cabo San Lucas\, BCS 23455\, Los cabos\, Baja California Sur\, Mexico
CATEGORIES:Christmas
ATTACH;FMTTYPE=image/jpeg:https://gringogazette.com/wp-content/uploads/2025/12/24dic_CB85CD5E-68CD-4EBA-870B4814A6151B73_2f6d940f-37a5-453d-af898b4d84c07f0c.jpg
ORGANIZER;CN="Hacienda del Mar Los Cabos An Autograph Collection All-Inclusive Resort":MAILTO:reservations@haciendadelmar.com.mx
END:VEVENT
BEGIN:VEVENT
DTSTART;TZID=America/Mazatlan:20251226T180000
DTEND;TZID=America/Mazatlan:20251226T200000
DTSTAMP:20260421T194238
CREATED:20251218T053726Z
LAST-MODIFIED:20251218T053726Z
UID:10000200-1766772000-1766779200@gringogazette.com
SUMMARY:Baja Big Band 2025
DESCRIPTION:Celebrate the holiday season with an unforgettable evening of live jazz at the Baja Big Band Christmas Concert. This festive performance features a full big band orchestra delivering classic holiday favorites and vibrant jazz arrangements\, creating a warm and joyful atmosphere for all music lovers. \nSet against a cozy\, elegant backdrop\, the concert blends the spirit of Christmas with the energy and sophistication of big band jazz. It’s the perfect way to enjoy seasonal music\, great company\, and an exceptional live performance. \nAn ideal event to kick off the holidays with rhythm\, swing\, and festive cheer.
URL:https://gringogazette.com/event/baja-big-band-2025/
LOCATION:Casa Fandango\, Esq. Antonio\, Lerdo de Tejada\, A. Mijares\, Zona Central\, La Paz\, B.C.S.\, La Paz\, Baja California Sur\, 23000\, Mexico
CATEGORIES:Beer,Christmas,Concert,Dance,La Paz,Music,Party
ATTACH;FMTTYPE=image/jpeg:https://gringogazette.com/wp-content/uploads/2025/12/599958563_122183763188470229_982938540982415244_n.jpg
END:VEVENT
END:VCALENDAR