BEGIN:VCALENDAR
VERSION:2.0
PRODID:-//Gringo Gazette - ECPv6.15.13.1//NONSGML v1.0//EN
CALSCALE:GREGORIAN
METHOD:PUBLISH
X-ORIGINAL-URL:https://gringogazette.com
X-WR-CALDESC:Events for Gringo Gazette
REFRESH-INTERVAL;VALUE=DURATION:PT1H
X-Robots-Tag:noindex
X-PUBLISHED-TTL:PT1H
BEGIN:VTIMEZONE
TZID:America/Mazatlan
BEGIN:STANDARD
TZOFFSETFROM:-0700
TZOFFSETTO:-0700
TZNAME:MST
DTSTART:20250101T000000
END:STANDARD
END:VTIMEZONE
BEGIN:VEVENT
DTSTART;TZID=America/Mazatlan:20260425T100000
DTEND;TZID=America/Mazatlan:20260425T120000
DTSTAMP:20260421T003659
CREATED:20260420T203226Z
LAST-MODIFIED:20260420T203226Z
UID:10000781-1777111200-1777118400@gringogazette.com
SUMMARY:Ceramic Workshop at Crania
DESCRIPTION:The Ceramic Workshop: Create with La Cor Cuit is an art-focused\, hands-on event that invites participants to explore the fundamentals of working with clay in a creative and guided environment. Scheduled for April 25th at 10:00 a.m.\, the workshop will take place at Crania La Playita in San José del Cabo. \nThis workshop is designed for individuals interested in learning or experimenting with ceramic techniques\, regardless of prior experience. Participants will be introduced to the full creative process\, from shaping raw clay to forming unique sculptural pieces. The session emphasizes artistic expression\, allowing attendees to design and create their own ceramic works while receiving guidance from experienced instructors. \nThroughout the activity\, attendees will gain insight into different stages of ceramic production\, including forming\, detailing\, and preparation for firing. The workshop encourages a relaxed and collaborative atmosphere\, where creativity and personal style are central to the experience. The pieces created during the session will undergo a drying and firing process\, and will be ready for pickup approximately three weeks later. \nOverall\, the event offers a meaningful opportunity to engage with art in a tactile and immersive way\, fostering creativity\, skill development\, and appreciation for handcrafted work. It is ideal for those looking to explore a new artistic medium while enjoying a social and inspiring environment.
URL:https://gringogazette.com/event/ceramic-workshop-at-crania/
LOCATION:CRANIA Air Disco\, Global Makerspace & Artist Residency\, Marina Puerto\, Poblado La Playa\, San José del Cabo\, B.C.S.\, San jose del Cabo\, Baja California Sur\, 23403\, Mexico
CATEGORIES:Arts,Baja California Sur,Ceramic,Relaxing,San Jose del Cabo,Workshop
ATTACH;FMTTYPE=image/jpeg:https://gringogazette.com/wp-content/uploads/2026/04/Taller-de-ceramica-crania.jpg
END:VEVENT
END:VCALENDAR