BEGIN:VCALENDAR
VERSION:2.0
PRODID:-//Gringo Gazette - ECPv6.15.13.1//NONSGML v1.0//EN
CALSCALE:GREGORIAN
METHOD:PUBLISH
X-WR-CALNAME:Gringo Gazette
X-ORIGINAL-URL:https://gringogazette.com
X-WR-CALDESC:Events for Gringo Gazette
REFRESH-INTERVAL;VALUE=DURATION:PT1H
X-Robots-Tag:noindex
X-PUBLISHED-TTL:PT1H
BEGIN:VTIMEZONE
TZID:America/Mazatlan
BEGIN:STANDARD
TZOFFSETFROM:-0700
TZOFFSETTO:-0700
TZNAME:MST
DTSTART:20240101T000000
END:STANDARD
END:VTIMEZONE
BEGIN:VEVENT
DTSTART;TZID=America/Mazatlan:20260410T140000
DTEND;TZID=America/Mazatlan:20260412T200000
DTSTAMP:20260425T200240
CREATED:20260331T194535Z
LAST-MODIFIED:20260331T194535Z
UID:10000657-1775829600-1776024000@gringogazette.com
SUMMARY:The Great Night Race 2026
DESCRIPTION:The Loreto 500  “La Gran Carrera Nocturna” (The Great Night Race) is part of the O’Reilly Auto Parts Baja Desert Series 2026\, delivering an exciting off-road racing experience across Baja California Sur. \nThe event will take place from April 10 to April 12\, 2026\, covering the route from Loreto to Comondú to La Paz. This marks the 2nd edition of this thrilling desert race\, featuring motorcycles and off-road vehicles competing in a single-stage format with no time cuts. \nThe schedule includes: \n\nApril 10: Mechanical inspection in Loreto from 5:00 PM to 11:00 PM\nApril 11: Race day\, starting from Loreto  motorcycles depart at 2:00 PM\, and cars at 4:00 PM\nApril 12: Awards ceremony in La Paz at 2:00 PM\n\nSupported by major sponsors such as O’Reilly Auto Parts\, Chevrolet\, Nissan\, and others\, the event promises high-speed action\, endurance challenges\, and a spectacular night racing atmosphere through the Baja desert. \nOverall\, the Loreto 500 offers an adrenaline-filled experience for motorsport fans\, combining rugged terrain\, competitive spirit\, and the unique beauty of Baja California Sur.
URL:https://gringogazette.com/event/the-great-night-race-2026/
LOCATION:Loreto\, 26°00'42.3"N 111°20'51.9"W\, Loreto\, Baja California Sur\, Mexico
CATEGORIES:Cars,Loreto,Race,Sports
ATTACH;FMTTYPE=image/jpeg:https://gringogazette.com/wp-content/uploads/2026/03/La-gran-carrera-nocturna.jpg
END:VEVENT
BEGIN:VEVENT
DTSTART;TZID=America/Mazatlan:20260221T070000
DTEND;TZID=America/Mazatlan:20260221T183000
DTSTAMP:20260425T200240
CREATED:20260213T215313Z
LAST-MODIFIED:20260213T215313Z
UID:10000567-1771657200-1771698600@gringogazette.com
SUMMARY:Guaycura Desert Challenge
DESCRIPTION:The Guaycura Desert Challenge returns for another thrilling edition as part of the Cabo Off-Road Racing Series (CORRS)\, bringing together desert racers\, UTV pilots\, trophy truck teams\, and off-road enthusiasts for one of the most scenic and demanding races on the Baja peninsula. \nA fast\, technical 32-kilometer loop per lap\, designed to test speed\, vehicle durability\, driver skill\, and navigation through classic Baja terrain. The route combines high-speed straights across open desert flats\, tight rocky sections\, dry riverbed (arroyo) crossings\, sandy washes\, whoops\, and dramatic elevation changes with stunning views of the Sierra de la Laguna mountains and distant Sea of Cortez coastline. Multiple laps mean racers will face the same challenging loop repeatedly\, turning small mistakes into big time losses and rewarding consistency and smart driving. \nWhether you’re racing for the podium\, chasing lap times\, or just want to witness Baja’s legendary off-road action under the winter sun\, the Guaycura Desert Challenge delivers pure desert racing adrenaline.
URL:https://gringogazette.com/event/guaycura-desert-challenge/
LOCATION:Puente de Santa Anita\, .google.com/maps/place/23405+Palmilla\,+B.C.S./@23.0161015\,-109.7235578\,18z/data=!3m1!4b1!4m6!3m5!1s0x86af4f19a6752fe1:0x48b552e40cb8d354!8m2!3d23.0164319!4d-109.723824!16sg1td614yy?entry=ttu&g_ep=EgoyMDI1MDkzMC4wIKXMDSoASAFQAw\, San jose del cabo\, Select a State:\, 3405\, Mexico
CATEGORIES:Cars,Race,San Jose del Cabo,Sports
ATTACH;FMTTYPE=image/jpeg:https://gringogazette.com/wp-content/uploads/2026/02/guaycura.jpg
END:VEVENT
BEGIN:VEVENT
DTSTART;TZID=America/Mazatlan:20251206T120000
DTEND;TZID=America/Mazatlan:20251207T170000
DTSTAMP:20260425T200240
CREATED:20251203T202427Z
LAST-MODIFIED:20251203T202427Z
UID:10000171-1765022400-1765126800@gringogazette.com
SUMMARY:Expo Motor BCS 2025
DESCRIPTION:The BCS Motor Expo 2025 is just around the corner! This Saturday\, December 6th at 12:00 PM marks the start of the automotive celebration that the city\nof La Paz has been waiting for! Come and enjoy two days where you can indulge your passion for cars and experience a fantastic\natmosphere with: New Car Show\, Classic Cars\, Sports Cars\, 4×4 Vehicles\, Off-Road Vehicles\, Motorcycles\, UTVs and UTV Kids \nWith a wide variety of amenities for the whole family\, including a food court\, children’s area\,\nlive music\, a radio-controlled car track\, and many more surprises!
URL:https://gringogazette.com/event/expo-motor-bcs-2025/
LOCATION:Centro Comercial Galerías La Paz\, Blvd. Gral. Agustín Olachea 8010\, El Zacatal\, La Paz\, B.C.S.\, La Paz\, Baja California Sur\, 23088\, Mexico
CATEGORIES:Cars,Expo,La Paz,Music
ATTACH;FMTTYPE=image/jpeg:https://gringogazette.com/wp-content/uploads/2025/12/Dec0120250638032001764606914581680860_1307992261356501_7695209121145557350_n.jpg
END:VEVENT
END:VCALENDAR