BEGIN:VCALENDAR
VERSION:2.0
PRODID:-//Gringo Gazette - ECPv6.15.13.1//NONSGML v1.0//EN
CALSCALE:GREGORIAN
METHOD:PUBLISH
X-WR-CALNAME:Gringo Gazette
X-ORIGINAL-URL:https://gringogazette.com
X-WR-CALDESC:Events for Gringo Gazette
REFRESH-INTERVAL;VALUE=DURATION:PT1H
X-Robots-Tag:noindex
X-PUBLISHED-TTL:PT1H
BEGIN:VTIMEZONE
TZID:America/Mazatlan
BEGIN:STANDARD
TZOFFSETFROM:-0700
TZOFFSETTO:-0700
TZNAME:MST
DTSTART:20240101T000000
END:STANDARD
END:VTIMEZONE
BEGIN:VEVENT
DTSTART;TZID=America/Mazatlan:20260423T090000
DTEND;TZID=America/Mazatlan:20260423T193000
DTSTAMP:20260425T193709
CREATED:20260420T202304Z
LAST-MODIFIED:20260420T202304Z
UID:10000780-1776934800-1776972600@gringogazette.com
SUMMARY:World Book and Copyright Day
DESCRIPTION:The Book Day Festival and Copyright Celebration is a cultural event scheduled for April 23rd\, 2026\, organized by the Instituto Sudcaliforniano de Cultura in La Paz. This festival is designed to promote reading\, literature\, and awareness of authors’ rights through a full day of diverse and engaging activities for the public. \nThe program is divided into morning and afternoon sessions\, offering a wide range of experiences across different venues such as libraries\, reading rooms\, and cultural spaces. Morning activities focus on workshops\, reading sessions\, chess activities\, and artistic presentations\, creating an interactive environment that encourages participation from children\, students\, and families. These sessions aim to foster a love for reading and creative expression from an early age. \nIn the afternoon\, the event continues with a formal inauguration led by cultural authorities\, followed by storytelling sessions\, literary discussions\, and book presentations by authors and commentators. The program also includes theatrical performances and live music\, blending literature with other artistic disciplines to create a dynamic cultural atmosphere. Presentations of published works provide insight into local and regional literature\, encouraging dialogue between writers and audiences. \nOverall\, the festival serves as a celebration of books\, creativity\, and intellectual exchange. It promotes cultural enrichment\, community engagement\, and the importance of protecting creative work\, while offering attendees a varied and immersive experience centered on literature and the arts.
URL:https://gringogazette.com/event/world-book-and-copyright-day/
LOCATION:Centro cultural de la Paz\, Calle16 de Septiembre\, #120\, zona centro\, La Paz\, Baja California Sur\, 23000\, Mexico
CATEGORIES:Baja California Sur,Book Fair,Culture,Family,La Paz,Music,Relaxing
ATTACH;FMTTYPE=image/jpeg:https://gringogazette.com/wp-content/uploads/2026/04/Dia-mundial-del-libro.jpg
END:VEVENT
BEGIN:VEVENT
DTSTART;TZID=America/Mazatlan:20260422T180000
DTEND;TZID=America/Mazatlan:20260422T193000
DTSTAMP:20260425T193709
CREATED:20260406T193118Z
LAST-MODIFIED:20260406T193118Z
UID:10000740-1776880800-1776886200@gringogazette.com
SUMMARY:The Basket of Books
DESCRIPTION:La Canasta de Libros  Reading Circle A Warm & Welcoming Literary Gathering for All Ages \nThe Biblioteca Pública “Maestro Justo Sierra” in La Paz\, in collaboration with the Gobierno del Estado de Baja California Sur and the Coordinación Estatal de Bibliotecas\, invites the community to La Canasta de Libros\, a delightful and relaxed reading circle designed to celebrate the joy of sharing stories together. \nDates: Wednesday\, April 8\, 2026 \nWednesday\, April 22\, 2026 \nBring a book you love\, or simply come ready to discover new ones. The basket is waiting. \nSee you at the library  where every page turns into connection and every story becomes shared memory.
URL:https://gringogazette.com/event/the-basket-of-books/
LOCATION:Maestro Justo Sierra Biblioteca\, Calle Ignacio Altamirano 368\, Zona Central\, La Paz\, B.C.S.\, La Paz\, Baja California Sur\, 23000\, Mexico
CATEGORIES:Baja California Sur,Book Fair,La Paz,Relaxing
ATTACH;FMTTYPE=image/jpeg:https://gringogazette.com/wp-content/uploads/2026/04/Canasta-de-libros.jpg
END:VEVENT
BEGIN:VEVENT
DTSTART;TZID=America/Mazatlan:20260327T090000
DTEND;TZID=America/Mazatlan:20260328T153000
DTSTAMP:20260425T193709
CREATED:20260129T051935Z
LAST-MODIFIED:20260129T051935Z
UID:10000239-1774602000-1774711800@gringogazette.com
SUMMARY:World Summit of Writers La Paz 2026
DESCRIPTION:2026 will mark a new era for international literature… And you can be a part of it. Two days surrounded by brilliant minds in writing at a historic venue overlooking the sea. You’ll experience a blend of knowledge\, inspiration\, extraordinary connections\, and an atmosphere that only La Paz can offer.  \nThis year\, nothing will be ordinary:  6 international speakers will address topics such as global literature\, publishing trends\, disruptive narrative\, artificial intelligence applied to art\, profound creativity\, and the future of writing.  High-Impact Workshops Professional Networking with authors\, editors\, agents\, and cultural managers  Official Recognitions  Open Mic for Emerging Talents  Book Signing Area\, Book Sales\, and Literary Exhibition  Literary Gala Ceremony  Gifts\, Surprises\, and Exclusive Content for the first 10 participants registered in December 2025.  “If writing is your passion… this event is your destination.” The La Paz 2026 World Writers Summit is not just another conference; it’s a meeting point for cultures\, ideas\, and dreams that deserves to be experienced to the fullest.
URL:https://gringogazette.com/event/world-summit-of-writers-la-paz-2026/
LOCATION:Centro cultural de la Paz\, Calle16 de Septiembre\, #120\, zona centro\, La Paz\, Baja California Sur\, 23000\, Mexico
CATEGORIES:Arts,Book Fair,La Paz,Relaxing
ATTACH;FMTTYPE=image/jpeg:https://gringogazette.com/wp-content/uploads/2026/01/Cumbre.jpg
END:VEVENT
BEGIN:VEVENT
DTSTART;TZID=America/Mazatlan:20260311T180000
DTEND;TZID=America/Mazatlan:20260311T200000
DTSTAMP:20260425T193709
CREATED:20260310T220920Z
LAST-MODIFIED:20260310T220920Z
UID:10000620-1773252000-1773259200@gringogazette.com
SUMMARY:Soy Mujer - Book presentation
DESCRIPTION:The Instituto de la Cultura y las Artes de Los Cabos\, in collaboration with the Casa de la Cultura “Profr. Nieves Trasviña de Ceseña” and the H. XV Ayuntamiento de Los Cabos\, warmly invites the community to the official presentation of “Soy Mujer”\, a powerful and moving poetic anthology created by the Colectivo Sudcalifornianas en la Literatura. \n“Soy Mujer” gathers the voices of 33 women writers from across Baja California Sur  poets\, storytellers\, dreamers\, mothers\, daughters\, grandmothers\, and everyday heroines who use words to claim their space\, heal wounds\, celebrate identity\, and honor the feminine experience in all its complexity and beauty. \nThe anthology weaves themes of empowerment\, resilience\, love\, ancestral memory\, nature\, struggle\, joy\, and the unique sudcaliforniana perspective  shaped by desert landscapes\, sea breezes\, mission heritage\, ranch life\, and the vibrant multicultural spirit of the peninsula \nNo registration needed  just arrive early to find a good seat. Bring a friend\, bring your heart\, and come ready to be moved by poetry that speaks directly to the soul.
URL:https://gringogazette.com/event/soy-mujer-book-presentation/
LOCATION:Galeria de Arte Cerrito del timbre\, Centro\, Ildefonso Green\, Cabo San Lucas\, B.C.S.\, Cabo San lucas\, Baja California Sur\, 23470\, Mexico
CATEGORIES:Book Fair,Cabo San Lucas,Gallery,Relaxing
ATTACH;FMTTYPE=image/png:https://gringogazette.com/wp-content/uploads/2026/03/soy-mujer.PNG
END:VEVENT
BEGIN:VEVENT
DTSTART;TZID=America/Mazatlan:20260305T180000
DTEND;TZID=America/Mazatlan:20260305T200000
DTSTAMP:20260425T193709
CREATED:20260303T212700Z
LAST-MODIFIED:20260303T212700Z
UID:10000601-1772733600-1772740800@gringogazette.com
SUMMARY:Cyclone Liza - Book Presentation
DESCRIPTION:The Government of Baja California Sur\, through the Instituto Sudcaliforniano de Cultura and the Archivo Histórico del Estado Pablo L. Martínez\, invites the public to the presentation of the book “El ciclón Liza: Three Centuries of the History of a Town Marked by Storms and Disasters” by Dr. Elino Villanueva González. \nThis work explores the historical impact of Cyclone Liza and examines three centuries of social and environmental challenges that shaped the region and its people. The presentation will include commentary by Juan Cuauhtémoc Murillo Hernández and Dr. Luis Alberto Trasviña Moreno\, offering historical insights and reflections on the book’s significance. \nThe event will take place on Thursday\, March 5\, 2026\, at 6:00 PM at the User Services Hall of the Archivo Histórico in La Paz. Admission is free. \nThis presentation provides an opportunity to reflect on the historical memory of natural disasters and their lasting influence on the identity and resilience of the community.
URL:https://gringogazette.com/event/cyclone-liza-book-presentation/
LOCATION:Sala de Atención a Usuarios del Archivo Histórico BCS Pablo L. Martínez\, Av. Ignacio Altamirano e/ Encinas y Legaspi\, Col. Centro\, La Paz\, BCS\, La Paz\, Baja California Sur\, 23000\, Mexico
CATEGORIES:Book Fair,Culture,History,La Paz,Relaxing,Research
ATTACH;FMTTYPE=image/jpeg:https://gringogazette.com/wp-content/uploads/2026/03/El-ciclon-de-liza.jpg
END:VEVENT
BEGIN:VEVENT
DTSTART;TZID=America/Mazatlan:20260228T110000
DTEND;TZID=America/Mazatlan:20260228T130000
DTSTAMP:20260425T193709
CREATED:20260226T013250Z
LAST-MODIFIED:20260226T013250Z
UID:10000593-1772276400-1772283600@gringogazette.com
SUMMARY:The dispute over Mexico - Book Presentation
DESCRIPTION:The Casa de Cultura del Estado de Baja California Sur invites the public to a special editorial presentation of the book La disputa por México: Dos proyectos frente a frente. \nThe event will feature the authors Álvaro Delgado Gómez and Alejandro Páez Varela\, with moderation by Mauricio Guillén Monsalvo. Together\, they will discuss the central themes of the book\, which examines two contrasting political and social visions shaping Mexico’s present and future. \nThe presentation will take place on Saturday\, March 28\, 2026 at 11:00 AM at the Casa de Cultura del Estado in La Paz\, Baja California Sur. Admission is free. \nAttendees will have the opportunity to purchase copies of the book and participate in a signing session with the authors on the same day. As the event will be held in an open-air space\, guests are encouraged to bring sunglasses\, hats\, or umbrellas for sun protection. \nThis gathering offers a valuable opportunity for readers and community members to engage in thoughtful dialogue about contemporary issues in Mexico.
URL:https://gringogazette.com/event/the-dispute-over-mexico-book-presentation/
LOCATION:Casa de Cultura Baja California Sur\, calle Francisco I. Madero #825 entre Manuel Torre Iglesias Juan María de Salvatierra y\, Esterito\, La Paz\, B.C.S\, La Paz\, Baja California Sur\, 23020\, Mexico
CATEGORIES:Book Fair,Culture,La Paz,Relaxing
ATTACH;FMTTYPE=image/jpeg:https://gringogazette.com/wp-content/uploads/2026/02/La-disputa-por-mexico.jpg
END:VEVENT
BEGIN:VEVENT
DTSTART;TZID=America/Mazatlan:20260226T180000
DTEND;TZID=America/Mazatlan:20260226T200000
DTSTAMP:20260425T193709
CREATED:20260213T214356Z
LAST-MODIFIED:20260213T214356Z
UID:10000566-1772128800-1772136000@gringogazette.com
SUMMARY:30 empowered women from Baja California Sur
DESCRIPTION:The XV City Council of Los Cabos\, through the Institute of Culture and the Arts and Casa de la Cultura “Profa. Nieves Trasviña de Ceseña\,” invites the community to the presentation of the book 30 Empowered Women of Baja California Sur by Angie Montoya. \nThis inspiring publication highlights the stories\, achievements\, and impact of thirty remarkable women whose leadership\, resilience\, and dedication have contributed to the social\, cultural\, and professional development of Baja California Sur. The book celebrates empowerment\, perseverance\, and the transformative role of women in shaping their communities. \nJoin this meaningful cultural gathering that honors women’s voices and promotes art and culture as agents of transformation.
URL:https://gringogazette.com/event/30-empowered-women-from-baja-california-sur/
LOCATION:Galeria de Arte Cerrito del timbre\, Centro\, Ildefonso Green\, Cabo San Lucas\, B.C.S.\, Cabo San lucas\, Baja California Sur\, 23470\, Mexico
CATEGORIES:Arts,Book Fair,Cabo San Lucas,Relaxing
ATTACH;FMTTYPE=image/png:https://gringogazette.com/wp-content/uploads/2026/02/30-mujeres.PNG
END:VEVENT
BEGIN:VEVENT
DTSTART;TZID=America/Mazatlan:20260226T093000
DTEND;TZID=America/Mazatlan:20260226T113000
DTSTAMP:20260425T193709
CREATED:20260224T201015Z
LAST-MODIFIED:20260224T201015Z
UID:10000589-1772098200-1772105400@gringogazette.com
SUMMARY:Coloring Book Club
DESCRIPTION:The Coloring Book Club  Todos Santos is a relaxing and creative gathering designed for art lovers and anyone looking to unwind in a positive\, inspiring atmosphere. Hosted by Adriana Manjarrez from Golden Happiness Books\, this event invites participants to enjoy a couple of peaceful hours filled with color\, creativity\, and connection. \nThe club will meet on Thursday\, February 26 at 9:30 AM at El Triángulo\, located at Camino a Las Playitas and Calle Telmex  Las Tunas in Todos Santos\, Baja California Sur. \nGuests are encouraged to bring their favorite Golden Happiness coloring book (if they already own one) and join for free\, with donations warmly appreciated to help support the space. For those who would like to purchase a book\, the cost is $35 dollars  per person\, which includes a coloring book and a reserved spot in the session. \nParticipants can enjoy a tasty coffee\, color inspiring designs\, and share light-hearted conversations and laughs with fellow creatives. It’s the perfect opportunity to feel calm\, inspired\, and happy while connecting with the local community.
URL:https://gringogazette.com/event/coloring-book-club/
LOCATION:Mercado El triangulo\, Calle Las Playitas\, Las Tunas\, Todos Santos\, BCS.\, Todos Santos\, Baja California Sur\, 23300\, Mexico
CATEGORIES:Book Fair,Coffe,Relaxing,Todos Santos
ATTACH;FMTTYPE=image/jpeg:https://gringogazette.com/wp-content/uploads/2026/02/coloring-book-club.jpeg
END:VEVENT
BEGIN:VEVENT
DTSTART;TZID=America/Mazatlan:20260220T180000
DTEND;TZID=America/Mazatlan:20260220T200000
DTSTAMP:20260425T193709
CREATED:20260212T001618Z
LAST-MODIFIED:20260212T001618Z
UID:10000561-1771610400-1771617600@gringogazette.com
SUMMARY:A Brief History of Mulegé for Young Researchers
DESCRIPTION:The Government of the State of Baja California Sur\, through the Sudcalifornian Institute of Culture\, the Ministry of Public Education\, the General Directorate of Basic Education\, the Directorate of Primary Education\, and the State Historical Archive “Pablo L. Martínez\,” invite the community to the presentation of the educational booklet: \n“A Brief History of Mulegé for Young Researchers.” \nThis publication is a collaborative editorial project developed by the Directorate of Primary Education of the Ministry of Public Education of Baja California Sur\, in partnership with the State Historical Archive “Pablo L. Martínez.” Designed especially for children\, the booklet introduces young readers to the rich history of Mulegé in an accessible\, engaging\, and educational format\, encouraging curiosity\, research\, and appreciation for local heritage.
URL:https://gringogazette.com/event/a-brief-history-of-mulege-for-young-researchers/
LOCATION:Sala de Atención a Usuarios del Archivo Histórico BCS Pablo L. Martínez\, Av. Ignacio Altamirano e/ Encinas y Legaspi\, Col. Centro\, La Paz\, BCS\, La Paz\, Baja California Sur\, 23000\, Mexico
CATEGORIES:Book Fair,La Paz,Relaxing
ATTACH;FMTTYPE=image/jpeg:https://gringogazette.com/wp-content/uploads/2026/02/Investigadores.jpg
END:VEVENT
BEGIN:VEVENT
DTSTART;TZID=America/Mazatlan:20260116T170000
DTEND;TZID=America/Mazatlan:20260116T190000
DTSTAMP:20260425T193709
CREATED:20260107T060337Z
LAST-MODIFIED:20260107T060337Z
UID:10000216-1768582800-1768590000@gringogazette.com
SUMMARY:The All Saints' Pact
DESCRIPTION:The Historical Archive of the State “Pablo L. Martínez” invites the public to the editorial presentation of The Pact of Todos Santos\, a book by Vicky Güereña Mills. The work explores key moments in the civil struggle against toxic mining and large-scale development projects in Baja California Sur\, highlighting community resistance and social organization. \nThe presentation will feature commentary by Víctor Adrián Trujillo Muñoz\, Leonardo Reyes Silva\, and Juan Ángel Trasviña\, offering historical and social perspectives on the book’s themes. \nThis event is open to the general public and is ideal for those interested in history\, environmental justice\, and social movements in Baja California Sur.
URL:https://gringogazette.com/event/the-all-saints-pact/
LOCATION:Sala de Atención a Usuarios del Archivo Histórico\, Ignacio Altamirano 975\, entre Encinas y Legaspi\, col. Centro\, La Paz\, Baja California Sur\, La Paz\, Baja California Sur\, 23000\, Mexico
CATEGORIES:Book Fair,La Paz
ATTACH;FMTTYPE=image/jpeg:https://gringogazette.com/wp-content/uploads/2026/01/611082179_1202682545373353_3784741840129192117_n.jpg
END:VEVENT
BEGIN:VEVENT
DTSTART;VALUE=DATE:20251120
DTEND;VALUE=DATE:20251123
DTSTAMP:20260425T193709
CREATED:20251112T213743Z
LAST-MODIFIED:20251112T213743Z
UID:10000124-1763596800-1763855999@gringogazette.com
SUMMARY:La Paz Book Fair 2025
DESCRIPTION:The La Paz Book Fair 2025 is coming soon\, a space for readers and authors.\n\nYou can enjoy: readings\, books for sale from the ISC collection\, the presence of bookstores\n and public libraries\, and the participation of facilitators from the National Reading Rooms \nProgram in Baja California Sur.
URL:https://gringogazette.com/event/la-paz-book-fair-2025/
LOCATION:Jardin Velasco\, Independencia 115\, Zona Comercial\, La Paz\, B.C.S.\, La Paz\, Baja California Sur\, 23006\, Mexico
CATEGORIES:Book Fair,La Paz,Relaxing
ATTACH;FMTTYPE=image/jpeg:https://gringogazette.com/wp-content/uploads/2025/11/581016348_1160549026253372_1421187227336623841_n.jpg
END:VEVENT
END:VCALENDAR