BEGIN:VCALENDAR
VERSION:2.0
PRODID:-//Gringo Gazette - ECPv6.15.13.1//NONSGML v1.0//EN
CALSCALE:GREGORIAN
METHOD:PUBLISH
X-ORIGINAL-URL:https://gringogazette.com
X-WR-CALDESC:Events for Gringo Gazette
REFRESH-INTERVAL;VALUE=DURATION:PT1H
X-Robots-Tag:noindex
X-PUBLISHED-TTL:PT1H
BEGIN:VTIMEZONE
TZID:America/Mazatlan
BEGIN:STANDARD
TZOFFSETFROM:-0700
TZOFFSETTO:-0700
TZNAME:MST
DTSTART:20250101T000000
END:STANDARD
END:VTIMEZONE
BEGIN:VEVENT
DTSTART;TZID=America/Mazatlan:20260322T060000
DTEND;TZID=America/Mazatlan:20260322T120000
DTSTAMP:20260423T235253
CREATED:20260321T003955Z
LAST-MODIFIED:20260321T003955Z
UID:10000640-1774159200-1774180800@gringogazette.com
SUMMARY:Fishing Tournament for a Cause
DESCRIPTION:The Fishing Tournament for a Cause will take place on Sunday\, March 22\, from 6:00 AM to 12:00 PM at Playa Migriño. \nThis exciting event invites participants to compete by catching the heaviest fish\, with cash prizes awarded to the top three winners: first place receives $280 dollars\, second place $168 dollars\, and third place $112 dollars. Most fish species are eligible to compete\, with a few exceptions. \nThe tournament has an entry fee of $20 dollars\, which supports the charitable cause behind the event. It offers a fun and competitive environment for fishing enthusiasts while also contributing to the community.
URL:https://gringogazette.com/event/fishing-tournament-for-a-cause/
LOCATION:Playa Migriño\, Libertad\, Cabo San Lucas\, B.C.S\, Cabo San lucas\, Baja California Sur\, 23470\, Mexico
CATEGORIES:Beach,Cabo San Lucas,Fishing,Tournament
ATTACH;FMTTYPE=image/jpeg:https://gringogazette.com/wp-content/uploads/2026/03/torneo-de-pesca-con-cusa.jpg
END:VEVENT
END:VCALENDAR