BEGIN:VCALENDAR
VERSION:2.0
PRODID:-//Gringo Gazette - ECPv6.15.13.1//NONSGML v1.0//EN
CALSCALE:GREGORIAN
METHOD:PUBLISH
X-WR-CALNAME:Gringo Gazette
X-ORIGINAL-URL:https://gringogazette.com
X-WR-CALDESC:Events for Gringo Gazette
REFRESH-INTERVAL;VALUE=DURATION:PT1H
X-Robots-Tag:noindex
X-PUBLISHED-TTL:PT1H
BEGIN:VTIMEZONE
TZID:America/Mazatlan
BEGIN:STANDARD
TZOFFSETFROM:-0700
TZOFFSETTO:-0700
TZNAME:MST
DTSTART:20250101T000000
END:STANDARD
END:VTIMEZONE
BEGIN:VEVENT
DTSTART;TZID=America/Mazatlan:20260506T160000
DTEND;TZID=America/Mazatlan:20260506T180000
DTSTAMP:20260423T233855
CREATED:20260424T002737Z
LAST-MODIFIED:20260424T002737Z
UID:10000790-1778083200-1778090400@gringogazette.com
SUMMARY:The Music of Baja California Sur Unites Us - Play
DESCRIPTION:“The Music of BCS Unites Us!” \nUnder the poetic subtitle “From the port of illusion to the world\,” this event is described as a spectacular performance that gathers the entire musical essence of Sudcalifornia. It is designed to be a vibrant display of regional identity\, featuring folk music and traditional dance. \nThe performance brings together a variety of traditional and contemporary musical expressions that reflect the identity and spirit of Southern California’s peninsula. Attendees can expect live music featuring regional styles\, accompanied by folkloric dance performances with colorful costumes that highlight local traditions. The imagery suggests a fusion of mariachi-style musicians\, dancers in traditional dress\, and storytelling through music and movement\, creating a festive and inclusive atmosphere. \nOverall\, it’s not just a concert\, but a cultural celebration that highlights the essence\, beauty\, and artistic diversity of Baja California Sur
URL:https://gringogazette.com/event/the-music-of-baja-california-sur-unites-us-play/
LOCATION:Teatro de la Paz\, Antonio Navarro e/ Altamirano y H\, de Independencia Centro\, Zona Central\, 23000 La Paz\, B.C.S.\, La Paz\, Baja California Sur\, 23000\, Mexico
CATEGORIES:Acting,Baja California Sur,Dance,La Paz,Music,Theater
ATTACH;FMTTYPE=image/jpeg:https://gringogazette.com/wp-content/uploads/2026/04/Musica-de-Bcs-union.jpg
END:VEVENT
END:VCALENDAR