BEGIN:VCALENDAR
VERSION:2.0
PRODID:-//Gringo Gazette - ECPv6.15.13.1//NONSGML v1.0//EN
CALSCALE:GREGORIAN
METHOD:PUBLISH
X-ORIGINAL-URL:https://gringogazette.com
X-WR-CALDESC:Events for Gringo Gazette
REFRESH-INTERVAL;VALUE=DURATION:PT1H
X-Robots-Tag:noindex
X-PUBLISHED-TTL:PT1H
BEGIN:VTIMEZONE
TZID:America/Mazatlan
BEGIN:STANDARD
TZOFFSETFROM:-0700
TZOFFSETTO:-0700
TZNAME:MST
DTSTART:20250101T000000
END:STANDARD
END:VTIMEZONE
BEGIN:VEVENT
DTSTART;TZID=America/Mazatlan:20260424T070000
DTEND;TZID=America/Mazatlan:20260428T190000
DTSTAMP:20260421T155654
CREATED:20260417T035107Z
LAST-MODIFIED:20260417T035107Z
UID:10000775-1777014000-1777402800@gringogazette.com
SUMMARY:Grand Opening- Miko Banana bowls
DESCRIPTION:Be among the first to experience the grand opening of Mi Banana\, a new concept focused on healthy\, energizing\, and delicious food. This exclusive private event will introduce guests to a fresh menu featuring vibrant dishes\, wholesome ingredients\, and a unique dining experience. \nAttendees who sign up will receive a special invitation to the grand opening\, where they can enjoy a preview of the offerings in a welcoming and modern atmosphere. \nmikobananabowls.com
URL:https://gringogazette.com/event/grand-opening-miko-banana-bowls/
LOCATION:Mikobananabowls\, Miguel Hidalgo\, Centro\, San José del Cabo\, Mexico\, 23400\, San jose del cabo\, Select a State:\, 3405\, Mexico
CATEGORIES:San Jose del Cabo
ATTACH;FMTTYPE=image/png:https://gringogazette.com/wp-content/uploads/2026/04/Screenshot-2026-04-16-202202.png
END:VEVENT
BEGIN:VEVENT
DTSTART;TZID=America/Mazatlan:20260426T000000
DTEND;TZID=America/Mazatlan:20260501T000000
DTSTAMP:20260421T155654
CREATED:20260415T042339Z
LAST-MODIFIED:20260415T042339Z
UID:10000767-1777161600-1777593600@gringogazette.com
SUMMARY:Writer’s Retreat in Cabo San Lucas – With Kim Addonizio
DESCRIPTION:Escape to a luxurious and inspiring creative getaway at this exclusive Writer’s Retreat in Cabo San Lucas\, Mexico. Led by acclaimed poet Kim Addonizio\, this intimate experience is designed for writers looking to deepen their craft while enjoying a stunning oceanfront setting. \nParticipants will stay in 6-star villas and take part in daily workshops\, generative writing sessions\, and personalized one-on-one consultations. The retreat also includes curated experiences such as yoga sessions\, a sunset cruise\, and shared meals to foster creativity and connection.
URL:https://gringogazette.com/event/writers-retreat-in-cabo-san-lucas-with-kim-addonizio/
LOCATION:Villa Bésame\, Del la Carreta 70\, Pedregal\, 23453 Cabo San Lucas\, B.C.S.\, Los cabos\, Mexico
CATEGORIES:Cabo San Lucas
ATTACH;FMTTYPE=image/jpeg:https://gringogazette.com/wp-content/uploads/2026/04/82bdaf36-4eb5-4723-a087-d4a62525cc59.jpg
END:VEVENT
BEGIN:VEVENT
DTSTART;TZID=America/Mazatlan:20260426T090000
DTEND;TZID=America/Mazatlan:20260428T000000
DTSTAMP:20260421T155654
CREATED:20260418T043135Z
LAST-MODIFIED:20260418T043135Z
UID:10000779-1777194000-1777334400@gringogazette.com
SUMMARY:El Papasearte Biker Fest – Sector 1
DESCRIPTION:Get ready for an epic beachside biker experience at El Papasearte\, a large-scale motorcycle festival that brings together riders\, music\, and camping in a vibrant coastal setting. Taking place at Playa La Gaviota in Buena Vista\, this three-day event offers a unique mix of live entertainment\, community\, and outdoor adventure. \nAttendees can enjoy a full biker campout experience\, complete with beach camping\, bonfires\, live music\, and a lively social atmosphere. Participants are encouraged to bring their own gear\, including fishing equipment\, to make the most of the coastal environment.
URL:https://gringogazette.com/event/el-papasearte-biker-fest-sector-1/
LOCATION:Playa La Gaviota\, Buena Vista\, Los Cabos\, Buenavista\, Baja California Sur\, Mexico\, Los cabos\, Mexico
CATEGORIES:Los Cabos
ATTACH;FMTTYPE=image/jpeg:https://gringogazette.com/wp-content/uploads/2026/04/670365177_1264697922469556_3773310843703707333_n.jpg
END:VEVENT
END:VCALENDAR