BEGIN:VCALENDAR
VERSION:2.0
PRODID:-//Gringo Gazette - ECPv6.15.13.1//NONSGML v1.0//EN
CALSCALE:GREGORIAN
METHOD:PUBLISH
X-ORIGINAL-URL:https://gringogazette.com
X-WR-CALDESC:Events for Gringo Gazette
REFRESH-INTERVAL;VALUE=DURATION:PT1H
X-Robots-Tag:noindex
X-PUBLISHED-TTL:PT1H
BEGIN:VTIMEZONE
TZID:America/Mazatlan
BEGIN:STANDARD
TZOFFSETFROM:-0700
TZOFFSETTO:-0700
TZNAME:MST
DTSTART:20250101T000000
END:STANDARD
END:VTIMEZONE
BEGIN:VEVENT
DTSTART;TZID=America/Mazatlan:20260423T090000
DTEND;TZID=America/Mazatlan:20260424T210000
DTSTAMP:20260423T231409
CREATED:20260420T204205Z
LAST-MODIFIED:20260420T204205Z
UID:10000782-1776934800-1777064400@gringogazette.com
SUMMARY:Baja California Sur State Coffee Festival
DESCRIPTION:Festival Estatal del Café BCS 2026 The Biggest Coffee Celebration in Baja California Sur \nCoffee lovers\, baristas\, and foodies mark your calendars! The Festival Estatal del Café BCS returns on April 23 and 24\, 2026\, transforming Jardín Velasco in La Paz into a vibrant hub of aroma\, flavor\, and culture dedicated entirely to Baja California Sur’s growing specialty coffee scene. \nThe festival brings together cafeterías\, tostadores de café (roasters)\, máquina de espresso demonstrations\, and everything coffee-related in one beautiful central location. \nBaja California Sur is quickly emerging as a promising region for specialty coffee\, and this festival is the perfect opportunity to discover local producers\, meet passionate baristas\, learn new brewing techniques\, and enjoy world-class coffee in a festive\, open-air setting. Whether you’re a coffee connoisseur\, a casual drinker\, or simply looking for a fun weekend activity\, the Festival Estatal del Café offers something for everyone.
URL:https://gringogazette.com/event/baja-california-sur-state-coffee-festival/
LOCATION:Jardin Velasco\, Independencia 115\, Zona Comercial\, La Paz\, B.C.S.\, La Paz\, Baja California Sur\, 23006\, Mexico
CATEGORIES:Baja California Sur,Coffe,Festivals,La Paz,Relaxing,Restaurant
ATTACH;FMTTYPE=image/jpeg:https://gringogazette.com/wp-content/uploads/2026/04/Festival-estatal-de-cafe.jpg
END:VEVENT
BEGIN:VEVENT
DTSTART;TZID=America/Mazatlan:20260423T153000
DTEND;TZID=America/Mazatlan:20260425T220000
DTSTAMP:20260423T231409
CREATED:20251223T054525Z
LAST-MODIFIED:20251223T054525Z
UID:10000203-1776958200-1777154400@gringogazette.com
SUMMARY:BajaWonderGrass 2026
DESCRIPTION:Baja Wondergrass is a three-day music and community festival celebrating roots\, bluegrass\, folk\, and jam music\, set in the beautiful surroundings of La Tuna\, Baja California Sur\, Mexico\, from April 23–25\, 2026. Now in its 4th annual edition\, the festival brings together an international lineup of acclaimed artists and musicians\, including The Brothers Comatose\, Vince Herman of Leftover Salmon\, The Fretliners\, Magoo\, Cordovas\, Bonfire Dub\, and more\, along with special guests Anna Moss and Silas Herman. \nThe experience goes beyond live performances\, creating an intimate gathering that blends music\, nature\, and community. The event kicks off with a Welcome Gathering on April 22 at Pólvora\, and concludes with a Closing Ceremony on April 26 at Baja Joe’s\, hosted by The New Bajamians. With DJ sets\, collaborative performances\, and a relaxed Baja vibe\, Baja Wondergrass offers a unique cultural and musical escape that celebrates creativity\, connection\, and the spirit of Baja.
URL:https://gringogazette.com/event/bajawondergrass-2026/
LOCATION:La Tuna\, C. Ramundo Aviles\, El Teso\, El Sgto.\, B.C.S.\, La Paz\, Baja California Sur\, 23232\, Mexico
CATEGORIES:Beer,Concert,Dance,Festivals,La Paz,Music,Party
ATTACH;FMTTYPE=image/webp:https://gringogazette.com/wp-content/uploads/2025/12/BWG_26_Poster_11x17_web.webp
END:VEVENT
BEGIN:VEVENT
DTSTART;VALUE=DATE:20260424
DTEND;VALUE=DATE:20260425
DTSTAMP:20260423T231409
CREATED:20260407T185503Z
LAST-MODIFIED:20260407T185503Z
UID:10000750-1776988800-1777075199@gringogazette.com
SUMMARY:International Dance Day
DESCRIPTION:Open Call to the Artistic Community \nThe H. XV Ayuntamiento de Los Cabos\, through the Instituto de la Cultura y las Artes de Los Cabos\, warmly invites the entire artistic community  dancers\, choreographers\, dance groups\, schools\, and independent artists  to participate in the official celebration of International Dance Day 2026. \n“Baila Los Cabos” is a joyful\, inclusive\, and vibrant community event that aims to celebrate the art of movement\, foster togetherness\, and highlight the power of dance to unite people across all ages and backgrounds. \nWhether you want to perform\, teach a short workshop\, or simply join the celebration as a dancer or spectator\, Baila Los Cabos is your invitation to move\, create\, and be part of something beautiful.
URL:https://gringogazette.com/event/international-dance-day/
LOCATION:Plaza Antonio Mijares\, Blvd. Antonio Mijares\, Centro\, San José del Cabo\, B.C.S.\, San jose del cabo\, Baja California Sur\, 23400\, Mexico
CATEGORIES:Arts,Baja California Sur,Dance,Music,San Jose del Cabo
ATTACH;FMTTYPE=image/png:https://gringogazette.com/wp-content/uploads/2026/04/Dia-internacional-de-la-danza.PNG
END:VEVENT
BEGIN:VEVENT
DTSTART;TZID=America/Mazatlan:20260424T000000
DTEND;TZID=America/Mazatlan:20260425T000000
DTSTAMP:20260423T231409
CREATED:20260416T030151Z
LAST-MODIFIED:20260416T030151Z
UID:10000771-1776988800-1777075200@gringogazette.com
SUMMARY:Environmental Film Festival – Loreto\, Baja California Sur 🎬🌿
DESCRIPTION:The Environmental Film Festival in Loreto\, Baja California Sur is a cultural and educational event that uses cinema to raise awareness about environmental issues such as ocean conservation\, climate change\, and wildlife protection. Featuring a selection of short films\, documentaries\, animations\, and independent productions from Mexico and around the world\, the festival creates a space for reflection and conversation through storytelling. In addition to film screenings\, attendees can enjoy talks\, discussions\, and community activities that encourage participation and learning. With a relaxed\, family-friendly atmosphere and many events held outdoors in different public spaces around Loreto\, this free festival offers a unique experience that blends art\, education\, and environmental consciousness in a beautiful coastal setting. \n\n\n\n\nApril 24: 6:30pm\nApril 25: 8:30pm
URL:https://gringogazette.com/event/environmental-film-festival-loreto-baja-california-sur-%f0%9f%8e%ac%f0%9f%8c%bf/
LOCATION:Miguel Hidalgo esquina Romanita\, Colonia Centro\, 23880 Loreto\, Mexico\, Loreto\, Mexico
CATEGORIES:Loreto
ATTACH;FMTTYPE=image/jpeg:https://gringogazette.com/wp-content/uploads/2026/04/655461874_1365604752263500_4869763275020228905_n-scaled.jpg
END:VEVENT
BEGIN:VEVENT
DTSTART;TZID=America/Mazatlan:20260424T070000
DTEND;TZID=America/Mazatlan:20260428T190000
DTSTAMP:20260423T231409
CREATED:20260417T035107Z
LAST-MODIFIED:20260417T035107Z
UID:10000775-1777014000-1777402800@gringogazette.com
SUMMARY:Grand Opening- Miko Banana bowls
DESCRIPTION:Be among the first to experience the grand opening of Mi Banana\, a new concept focused on healthy\, energizing\, and delicious food. This exclusive private event will introduce guests to a fresh menu featuring vibrant dishes\, wholesome ingredients\, and a unique dining experience. \nAttendees who sign up will receive a special invitation to the grand opening\, where they can enjoy a preview of the offerings in a welcoming and modern atmosphere. \nmikobananabowls.com
URL:https://gringogazette.com/event/grand-opening-miko-banana-bowls/
LOCATION:Mikobananabowls\, Miguel Hidalgo\, Centro\, San José del Cabo\, Mexico\, 23400\, San jose del cabo\, Select a State:\, 3405\, Mexico
CATEGORIES:San Jose del Cabo
ATTACH;FMTTYPE=image/png:https://gringogazette.com/wp-content/uploads/2026/04/Screenshot-2026-04-16-202202.png
END:VEVENT
BEGIN:VEVENT
DTSTART;TZID=America/Mazatlan:20260424T120000
DTEND;TZID=America/Mazatlan:20260426T160000
DTSTAMP:20260423T231409
CREATED:20260203T055409Z
LAST-MODIFIED:20260203T055409Z
UID:10000264-1777032000-1777219200@gringogazette.com
SUMMARY:Classic Yellowtail Tournament 10th Anniversary
DESCRIPTION:Mark your calendar for the 10th Anniversary of the Classic Yellowtail Tournament at Hotel La Misión in beautiful Loreto\, Baja California Sur  the self-proclaimed “First Capital of the California Yellowtail”! This premier two-day offshore showdown is one of Loreto’s most anticipated fishing events\, drawing passionate anglers\, charter captains\, and teams from across Mexico and beyond to battle the powerful\, hard-fighting jurel (yellowtail amberjack) in the crystal-clear\, nutrient-rich waters of the Sea of Cortez. \nThis milestone 10th anniversary edition promises epic battles\, stunning scenery (think turquoise waters\, leaping fish\, and island backdrops)\, camaraderie among competitors\, and the chance to win big while enjoying Loreto’s legendary hospitality. All while supporting the local fishing community and the Sea of Cortez ecosystem.
URL:https://gringogazette.com/event/classic-yellowtail-tournament-10th-anniversary/
LOCATION:Hotel la mision Loreto\, Calle Rosendo Robles S/N\, Centro\, Loreto\, B.C.S.\, loreto\, Baja California Sur\, 23880\, Mexico
CATEGORIES:Fishing,Loreto,Relaxing,Sports,Tournament
ATTACH;FMTTYPE=image/jpeg:https://gringogazette.com/wp-content/uploads/2026/02/Yellow.jpg
END:VEVENT
BEGIN:VEVENT
DTSTART;TZID=America/Mazatlan:20260424T160000
DTEND;TZID=America/Mazatlan:20260424T180000
DTSTAMP:20260423T231409
CREATED:20260423T034922Z
LAST-MODIFIED:20260423T034922Z
UID:10000786-1777046400-1777053600@gringogazette.com
SUMMARY:The endless story - Film Series
DESCRIPTION:A special film screening of the beloved fantasy classic The NeverEnding Story (titled “La Historia Sin Fin” in Spanish). Organized by the Museo de Arte de Baja California Sur\, the screening invites audiences to rediscover a timeless story that has captivated generations with its imagination\, adventure\, and emotional depth. \nThe film\, directed by Wolfgang Petersen\, follows a young boy who becomes immersed in a magical book\, entering a fantastical world filled with unforgettable creatures\, heroic quests\, and profound lessons about courage\, hope\, and the power of storytelling. Known for its iconic imagery and heartfelt narrative\, the movie remains a landmark in fantasy cinema. \nThe screening will take place on Friday\, April 24 at 4:00 PM\, offering a cultural and family-friendly experience suitable for a wide audience (rated “A”). Held at the museum’s venue in La Paz\, this event provides a great opportunity to enjoy cinema in a cultural setting\, whether you are revisiting the film or discovering it for the first time. \nOverall\, this event blends art\, film\, and nostalgia\, creating a welcoming space for movie lovers\, families\, and anyone interested in classic storytelling to come together and experience a magical journey on the big screen.
URL:https://gringogazette.com/event/the-endless-story-film-series/
LOCATION:Museo de Arte de BCS\, Cl. 5 de Mayo SN-S"BANCO VITAL"\, Zona Central\, La Paz\, B.C.S.\, La Paz\, Baja California Sur\, Cl. 5 de Mayo SN-S"BANCO VITAL"\, Zona Central\, 23000 La Paz\, B.C.S.\, Mexico
CATEGORIES:Arts,Baja California Sur,Cinema,Culture,Family,Films,La Paz,Movies,Museum
ATTACH;FMTTYPE=image/jpeg:https://gringogazette.com/wp-content/uploads/2026/04/La-historia-sin-fin.jpg
END:VEVENT
BEGIN:VEVENT
DTSTART;TZID=America/Mazatlan:20260424T160000
DTEND;TZID=America/Mazatlan:20260424T183000
DTSTAMP:20260423T231409
CREATED:20260410T022647Z
LAST-MODIFIED:20260410T022647Z
UID:10000756-1777046400-1777055400@gringogazette.com
SUMMARY:Gastronomic Experience & Mezcal
DESCRIPTION:Gastronomic Experience & Mezcal Tasting An Exclusive Sensory Evening at Reverens Mezcal Artesanal \nIndulge in a memorable culinary and cultural journey on Saturday\, April 23\, 2026\, at 4:00 PM\, with a special Gastronomic Experience & Mezcal Tasting hosted by Reverens Mezcal Artesanal. \nThis intimate event beautifully combines fine dining with the rich tradition of artisanal mezcal in a warm\, elegant atmosphere. You’ll enjoy a carefully crafted multi-course menu paired with premium mezcal tastings\, while being serenaded by the live music of Mariachi Tita White. \nThis is the perfect event for food lovers\, mezcal enthusiasts\, couples\, and anyone seeking a refined yet relaxed evening that celebrates Mexican gastronomy and spirits in true Baja style. \nReservations are required. Please contact Reverens Mezcal Artesanal directly for availability and booking. \nReservations: 612-202-6687
URL:https://gringogazette.com/event/gastronomic-experience-mezcal/
LOCATION:La palapa del Sabor\, La orcadita\, segunda etapa\, Todos Santos\, B.C.S.\, Todos Santos\, Baja California Sur\, 23300\, Mexico
CATEGORIES:Baja California Sur,Food & wine,Relaxing,Restaurant,seafood,Todos Santos
ATTACH;FMTTYPE=image/jpeg:https://gringogazette.com/wp-content/uploads/2026/04/experiencia-gastronomica-y-mezcal.jpg
END:VEVENT
BEGIN:VEVENT
DTSTART;TZID=America/Mazatlan:20260424T180000
DTEND;TZID=America/Mazatlan:20260424T200000
DTSTAMP:20260423T231409
CREATED:20260418T002109Z
LAST-MODIFIED:20260418T002109Z
UID:10000776-1777053600-1777060800@gringogazette.com
SUMMARY:Sonoran Islands Concert
DESCRIPTION:Islas Sonoras An Evening of Flute & Piano Masterpieces \nThe Instituto Sudcaliforniano de Cultura and the Teatro Juárez present the second concert of the Islas Sonoras series\, a beautiful chamber music evening featuring works for flute and piano by three renowned composers: Franz Doppler\, Carl Reinecke\, and Ian Clarke. \nThis concert offers a wonderful opportunity to enjoy high-level classical chamber music in the elegant setting of Teatro Juárez. Whether you are a classical music enthusiast\, a student\, or simply someone who appreciates beautiful live performances\, “Islas Sonoras” promises an evening of exquisite music that transports the audience through different eras and emotions. \nThe program is ideal for those who enjoy the lyrical and virtuosic side of the flute repertoire\, as well as listeners discovering these works for the first time. \nFree admission No tickets required\, but arrive early to secure a good seat
URL:https://gringogazette.com/event/sonoran-islands-concert/
LOCATION:Teatro Juarez\, Belisario Domínguez 448\, Z1ona Central\,La Paz\, B.C.S.\, La Paz\, Baja California Sur\, 23000
CATEGORIES:Baja California Sur,Concert,La Paz,Music,Relaxing,Theater
ATTACH;FMTTYPE=image/jpeg:https://gringogazette.com/wp-content/uploads/2026/04/islas-sonoras.jpg
END:VEVENT
BEGIN:VEVENT
DTSTART;TZID=America/Mazatlan:20260424T190000
DTEND;TZID=America/Mazatlan:20260424T203000
DTSTAMP:20260423T231409
CREATED:20260423T040528Z
LAST-MODIFIED:20260423T040528Z
UID:10000788-1777057200-1777062600@gringogazette.com
SUMMARY:Anatomical Drawing - (Live model)
DESCRIPTION:Led by artist Karla de Jesús\, a graduate of Instituto Nacional de Bellas Artes y Literatura\, the workshop focuses on anatomy\, proportion\, and expressive techniques while working from a live model. Participants will have the opportunity to practice sketching in real time\, improving their observation skills\, line work\, and overall artistic confidence. The session is suitable for both intermediate and more experienced artists looking to refine their technique. \nThe event will take place on Friday\, April 24\, from 7:00 PM to 8:30 PM at the “Cerrito del Timbre” Art Gallery in Cabo San Lucas. Due to the nature of the class\, space is limited\, and prior reservation is required. The workshop has a fee of $21 dollars\, which includes materials\, making it a convenient option for participants. \nOpen exclusively to adults (18+)\, this session provides a focused\, respectful\, and creative atmosphere where attendees can explore figure drawing while engaging with the local art community. Overall\, it’s an excellent opportunity to develop artistic skills\, learn from a trained instructor\, and experience a classic practice in the visual arts.
URL:https://gringogazette.com/event/anatomical-drawing-live-model/
LOCATION:Galeria de Arte Cerrito del timbre\, Centro\, Ildefonso Green\, Cabo San Lucas\, B.C.S.\, Cabo San lucas\, Baja California Sur\, 23470\, Mexico
CATEGORIES:Arts,Baja California Sur,Cabo San Lucas,Drawing,Gallery,Workshop
ATTACH;FMTTYPE=image/png:https://gringogazette.com/wp-content/uploads/2026/04/Dibujo-Anatomico.PNG
END:VEVENT
BEGIN:VEVENT
DTSTART;TZID=America/Mazatlan:20260424T190000
DTEND;TZID=America/Mazatlan:20260424T210000
DTSTAMP:20260423T231409
CREATED:20260411T044756Z
LAST-MODIFIED:20260411T044756Z
UID:10000760-1777057200-1777064400@gringogazette.com
SUMMARY:Dancing Together International Dance Day 2026
DESCRIPTION:“Bailando Juntos” (Dancing Together) is a dynamic dance showcase that brings together multiple dance studios and performers for an energetic and entertaining evening. \nThe event will take place on Friday\, April 24 at 7:00 PM at the Teatro de la Ciudad in La Paz\, Baja California Sur. It features performances from various dance groups and schools\, highlighting different styles and talents in a collaborative show. \nTickets are priced at $7 dollars and are available at the theater’s institutional box office. \n“Bailando Juntos” celebrates movement\, creativity\, and community\, offering audiences a vibrant night filled with rhythm\, expression\, and artistic collaboration.
URL:https://gringogazette.com/event/dancing-together-international-dance-day-2026/
LOCATION:Teatro de la Paz\, Antonio Navarro e/ Altamirano y H\, de Independencia Centro\, Zona Central\, 23000 La Paz\, B.C.S.\, La Paz\, Baja California Sur\, 23000\, Mexico
CATEGORIES:Baja California Sur,Dance,La Paz,Music,Relaxing,Theater
ATTACH;FMTTYPE=image/jpeg:https://gringogazette.com/wp-content/uploads/2026/04/Bailando-Juntos.jpg
END:VEVENT
BEGIN:VEVENT
DTSTART;TZID=America/Mazatlan:20260424T190000
DTEND;TZID=America/Mazatlan:20260424T210000
DTSTAMP:20260423T231409
CREATED:20260421T210512Z
LAST-MODIFIED:20260421T210512Z
UID:10000785-1777057200-1777064400@gringogazette.com
SUMMARY:Vocal Concert "It's Like a Movie"
DESCRIPTION:¡Está como de Película!” (It’s Like a Movie!)\, is a vocal concert that promises an entertaining and cinematic musical experience. The performance will be presented by the “Voces al Vuelo” group\, made up of students trained by soprano instructor Liliana Del Conde\, showcasing their vocal talent through a selection of songs inspired by film\, theater\, and popular music. \nScheduled for April 24th at 7:00 PM\, the concert invites attendees to enjoy an evening filled with emotion\, artistry\, and storytelling through music. The theme suggests a program that may include iconic movie soundtracks or theatrical-style performances\, creating a dynamic atmosphere that blends live singing with the magic of cinema. \nTaking place at a cultural venue located on 16 de Septiembre Street\, corner of Belisario Domínguez (#120) in La Paz\, this event is part of a broader effort to promote artistic development and cultural engagement within the community. Organized with the support of local cultural institutions\, the concert highlights the work and progress of emerging vocalists under professional guidance. \nOverall\, this concert offers a great opportunity for audiences to experience live vocal performances in an intimate setting\, while supporting local talent and enjoying a night of music that feels truly “like a movie.”
URL:https://gringogazette.com/event/vocal-concert-its-like-a-movie/
LOCATION:Centro cultural de la Paz\, Calle16 de Septiembre\, #120\, zona centro\, La Paz\, Baja California Sur\, 23000\, Mexico
CATEGORIES:Baja California Sur,Concert,Culture,Family,La Paz,Music,Relaxing
ATTACH;FMTTYPE=image/jpeg:https://gringogazette.com/wp-content/uploads/2026/04/Esta-como-de-pelicula.jpg
END:VEVENT
END:VCALENDAR