BEGIN:VCALENDAR
VERSION:2.0
PRODID:-//Gringo Gazette - ECPv6.15.13.1//NONSGML v1.0//EN
CALSCALE:GREGORIAN
METHOD:PUBLISH
X-ORIGINAL-URL:https://gringogazette.com
X-WR-CALDESC:Events for Gringo Gazette
REFRESH-INTERVAL;VALUE=DURATION:PT1H
X-Robots-Tag:noindex
X-PUBLISHED-TTL:PT1H
BEGIN:VTIMEZONE
TZID:America/Mazatlan
BEGIN:STANDARD
TZOFFSETFROM:-0700
TZOFFSETTO:-0700
TZNAME:MST
DTSTART:20250101T000000
END:STANDARD
END:VTIMEZONE
BEGIN:VEVENT
DTSTART;TZID=America/Mazatlan:20260329T160000
DTEND;TZID=America/Mazatlan:20260329T190000
DTSTAMP:20260420T030619
CREATED:20260327T040235Z
LAST-MODIFIED:20260327T040235Z
UID:10000650-1774800000-1774810800@gringogazette.com
SUMMARY:World Theater Day Final Part
DESCRIPTION:The World Theatre Day celebrations\, organized by the Instituto de la Cultura y las Artes de Los Cabos\, conclude on Sunday\, March 29 with a vibrant closing program at Parque Villas de Cortés. \nThe final day begins at 4:00 PM with a theatrical games workshop\, led by Puentes de Juego and directed by Chiara Sandretti\, offering a fun and interactive experience that encourages creativity and participation. \nAt 5:00 PM\, attendees can enjoy the play “El Sueño de la Chureya”\, performed by the Gaby and Gabriela Pérez Puppet Theater Group\, bringing storytelling to life through imaginative puppetry. The festival then closes at 6:00 PM with the musical theater performance “Somos Cósmicos”\, presented by Erimar Teatro and directed by Erika Reyes. \nThis closing day combines playful learning\, artistic expression\, and live performance\, providing a memorable finale to the celebration. Admission is free\, inviting the entire community to take part in this cultural event.
URL:https://gringogazette.com/event/world-theater-day-final-part/
LOCATION:Parque Villas de Cortez\, Blvd. Villa de Oropesa\, Villas de Cortéz\, Vista Hermosa\, San José del Cabo\, B.C.S\, San jose del Cabo\, Baja California Sur\, 23427\, Mexico
CATEGORIES:Acting,Arts,Culture,Festivals,Music,San Jose del Cabo,Theater
ATTACH;FMTTYPE=image/png:https://gringogazette.com/wp-content/uploads/2026/03/dia-mundial-del-teatro.PNG
END:VEVENT
BEGIN:VEVENT
DTSTART;TZID=America/Mazatlan:20260329T190000
DTEND;TZID=America/Mazatlan:20260329T210000
DTSTAMP:20260420T030619
CREATED:20260310T193243Z
LAST-MODIFIED:20260310T193243Z
UID:10000619-1774810800-1774818000@gringogazette.com
SUMMARY:Noche Romántica - Piano Recital
DESCRIPTION:The Honorable XV City Council of Los Cabos\, through the Institute of Culture and the Arts\, and the “Prof. Alfredo Green González” House of Culture\, invites you to immerse yourself in an evening of music and romance with the piano recital “Romantic Night.”  \nThe renowned pianist Jonathan Orozco\, accompanied by the incredible voices of Yudith Ascencio\, Ana Lilia\, Ericka Chávez\, Karina Ramos\, and Rey David\, will take you on a journey through the most emotive and passionate melodies of the romantic repertoire. Enjoy an unforgettable evening of music and emotion in the welcoming setting of the House of Culture in San José del Cabo.
URL:https://gringogazette.com/event/noche-romantica-piano-recital/
LOCATION:Foro de la Casa de la Cultura de San José del Cabo\, Centro\, San José del Cabo\, B.C.S.\, San jose del Cabo\, Baja California Sur\, 23400\, Mexico
CATEGORIES:Culture,Music,Recital,San Jose del Cabo
ATTACH;FMTTYPE=image/png:https://gringogazette.com/wp-content/uploads/2026/03/Recital-de-piano.PNG
END:VEVENT
END:VCALENDAR