BEGIN:VCALENDAR
VERSION:2.0
PRODID:-//Gringo Gazette - ECPv6.15.13.1//NONSGML v1.0//EN
CALSCALE:GREGORIAN
METHOD:PUBLISH
X-ORIGINAL-URL:https://gringogazette.com
X-WR-CALDESC:Events for Gringo Gazette
REFRESH-INTERVAL;VALUE=DURATION:PT1H
X-Robots-Tag:noindex
X-PUBLISHED-TTL:PT1H
BEGIN:VTIMEZONE
TZID:America/Mazatlan
BEGIN:STANDARD
TZOFFSETFROM:-0700
TZOFFSETTO:-0700
TZNAME:MST
DTSTART:20250101T000000
END:STANDARD
END:VTIMEZONE
BEGIN:VEVENT
DTSTART;TZID=America/Mazatlan:20260321T080000
DTEND;TZID=America/Mazatlan:20260321T193000
DTSTAMP:20260422T184303
CREATED:20260318T192347Z
LAST-MODIFIED:20260318T192347Z
UID:10000634-1774080000-1774121400@gringogazette.com
SUMMARY:Art of Being
DESCRIPTION:Celebrate the equinox in community: a profound and transformative encounter through holistic tools for body\, mind\, and spirit. Give yourself a day for yourself. The Art of Being is an experience designed as a conscious journey of activation\, release\, and integration within a community. Throughout the day\, you will work on your body\, mind\, and spirit using methodologies guided by facilitators specializing in consciousness development. Each session has a clear intention: to activate your vital energy\, release physical and emotional tension\, expand your awareness\, and provide you with practical tools for your daily life. It is an encounter to live\, feel\, participate\, and transform alongside others. Come celebrate the equinox with us. Come expand\, reconnect\, and remember what you are capable of. This could be the day that marks a new cycle for you. \nYou can also create your own half-day experience! You can participate in all workshops from 8:00 am to 1:35 pm or from 2:15 pm to 7:45 pm. (This ticket does NOT include food.)
URL:https://gringogazette.com/event/art-of-being/
LOCATION:A Camanchy\, 410 Miguel Hidalgo y Costilla La Paz\, BCS 23006\, La paz\, Mexico
CATEGORIES:La Paz
ATTACH;FMTTYPE=image/webp:https://gringogazette.com/wp-content/uploads/2026/03/image-13.webp
END:VEVENT
BEGIN:VEVENT
DTSTART;TZID=America/Mazatlan:20260321T090000
DTEND;TZID=America/Mazatlan:20260321T110000
DTSTAMP:20260422T184303
CREATED:20260320T235528Z
LAST-MODIFIED:20260320T235528Z
UID:10000637-1774083600-1774090800@gringogazette.com
SUMMARY:La Hora del recreo
DESCRIPTION:“La Hora del Recreo” (Recess Time) is a family-friendly cultural program that will air on Saturday\, March 21 at 9:00 AM through Channel 8 and 99.1 FM\, organized by the Instituto Sudcaliforniano de Cultura. \nThis special edition features guest educators José Manuel Ogawa C. and Iván D. Ríos Olvera\, who will present the segment “A Brief History of Mulegé for Young Researchers.” The program also includes mini sections with children Joel and Ian\, as well as interactive activities focused on reading and crafts\, encouraging creativity and learning among young audiences. \nDesigned especially for children and families\, the show blends education and entertainment\, promoting cultural knowledge\, curiosity\, and participation in a fun and engaging format.
URL:https://gringogazette.com/event/la-hora-del-recreo/
LOCATION:Baja California Sur
CATEGORIES:Culture,La Paz,Relaxing,Talk
ATTACH;FMTTYPE=image/jpeg:https://gringogazette.com/wp-content/uploads/2026/03/la-hora-del-recreo.jpg
END:VEVENT
BEGIN:VEVENT
DTSTART;TZID=America/Mazatlan:20260321T110000
DTEND;TZID=America/Mazatlan:20260322T170000
DTSTAMP:20260422T184303
CREATED:20260318T181515Z
LAST-MODIFIED:20260318T181515Z
UID:10000632-1774090800-1774198800@gringogazette.com
SUMMARY:Paper Fantasies - Sculpture Exhibition
DESCRIPTION:A Whimsical Journey into Folded Creatures at Teatro de la Ciudad\, La Paz \nStep into a magical world of imagination and craftsmanship at Fantasías de Papel\, a captivating paper sculpture exhibition by talented sculptor Félix Gabriel Velasco Tafoya. This enchanting display features delicate yet striking life-sized and miniature creatures from graceful swans and majestic elephants to playful crabs\, fierce scorpions\, and mythical beings all meticulously folded and sculpted from simple white paper. \nPaper art is deceptive in its simplicity what looks effortless actually demands incredible skill\, focus\, and vision. Félix’s work bridges childhood wonder (folding paper animals) with sophisticated contemporary sculpture\, making it accessible and awe-inspiring for all ages. Set in the elegant lobby of La Paz’s Teatro de la Ciudad\, the exhibition feels both intimate and grand a perfect weekend cultural outing in the heart of the city. \nThis beautiful showcase is part of the 18th National Theater Marathon for Girls\, Boys\, Children\, and Adolescents  a nationwide initiative celebrating theater and creativity for young audiences so expect a joyful\, family-oriented vibe. \nNo tickets needed  just walk in and let the paper creatures captivate you!
URL:https://gringogazette.com/event/paper-fantasies-sculpture-exhibition/
LOCATION:Teatro de la Paz\, Antonio Navarro e/ Altamirano y H\, de Independencia Centro\, Zona Central\, 23000 La Paz\, B.C.S.\, La Paz\, Baja California Sur\, 23000\, Mexico
CATEGORIES:Arts,Exhibition,La Paz,Sculpture
ATTACH;FMTTYPE=image/jpeg:https://gringogazette.com/wp-content/uploads/2026/03/fantasias-de-papel.jpg
END:VEVENT
BEGIN:VEVENT
DTSTART;TZID=America/Mazatlan:20260321T130000
DTEND;TZID=America/Mazatlan:20260321T150000
DTSTAMP:20260422T184303
CREATED:20260318T051435Z
LAST-MODIFIED:20260318T051435Z
UID:10000630-1774098000-1774105200@gringogazette.com
SUMMARY:Marine Crossing -Play
DESCRIPTION:As part of the Gran Maratón Nacional de Teatro para Niñas\, Niños\, Niñes y Adolescentes\, the play “Travesía Marina” will be presented on Saturday\, March 21 at 1:00 PM at the Teatro de la Ciudad. \nWritten and performed by Janna Domínguez Boza and Issac Hernández Pedraza\, this theatrical production is designed for children aged 5 and up and runs approximately 40 minutes. The play offers a creative and imaginative journey\, combining storytelling\, performance\, and visual elements to engage young audiences. \nAdmission is free\, making it an accessible cultural experience for families. Organized with the support of institutions such as the Coordinación Nacional de Teatro and INBAL\, the event promotes theater as an inclusive and enriching art form for children and adolescents.
URL:https://gringogazette.com/event/marine-crossing-play/
LOCATION:Teatro de la Paz\, Antonio Navarro e/ Altamirano y H\, de Independencia Centro\, Zona Central\, 23000 La Paz\, B.C.S.\, La Paz\, Baja California Sur\, 23000\, Mexico
CATEGORIES:Acting,Arts,Culture,La Paz,Theater
ATTACH;FMTTYPE=image/jpeg:https://gringogazette.com/wp-content/uploads/2026/03/Travesia-marina.jpg
END:VEVENT
BEGIN:VEVENT
DTSTART;TZID=America/Mazatlan:20260321T160000
DTEND;TZID=America/Mazatlan:20260321T203000
DTSTAMP:20260422T184303
CREATED:20260317T062300Z
LAST-MODIFIED:20260317T062300Z
UID:10000628-1774108800-1774125000@gringogazette.com
SUMMARY:Traditional Festivals Part 4
DESCRIPTION:As part of the Fiestas Tradicionales de San José del Cabo 2026\, a full day of cultural activities will be held on Saturday\, March 21 at Plaza Antonio Mijares in San José del Cabo. \nThe program begins at 4:00 PM with a performance by the traditional circus group Diocircus\, offering family-friendly entertainment. At 5:00 PM\, the LIII Juegos Florales “Margarito Sández Villarino” will take place\, featuring a series of artistic and literary presentations. Highlights include a romantic musical performance by Yudith Ascencio and Jonathan Orozco\, the official opening ceremony\, a contemporary dance piece titled “Abilis: El lenguaje como hogar” by choreographer Sofía Camacho\, and the crowning of the festival queen along with the award-winning poetry recital. \nThe evening concludes with a live concert at 8:15 PM by the renowned Mexican pop group Pandora\, promising a memorable performance to close the day’s festivities. \nOrganized by the Instituto de la Cultura y las Artes de Los Cabos\, this event celebrates tradition\, music\, literature\, and performing arts as part of one of the region’s most important cultural festivals.
URL:https://gringogazette.com/event/traditional-festivals-part-4/
LOCATION:Plaza Antonio Mijares\, Blvd. Antonio Mijares\, Centro\, San José del Cabo\, B.C.S.\, San jose del cabo\, Baja California Sur\, 23400\, Mexico
CATEGORIES:Concert,Festivals,Music,Party,San Jose del Cabo
ATTACH;FMTTYPE=image/jpeg:https://gringogazette.com/wp-content/uploads/2026/03/Festivales-tradicionales-4.jpg
END:VEVENT
BEGIN:VEVENT
DTSTART;TZID=America/Mazatlan:20260321T190000
DTEND;TZID=America/Mazatlan:20260321T200000
DTSTAMP:20260422T184303
CREATED:20260318T052417Z
LAST-MODIFIED:20260318T052417Z
UID:10000631-1774119600-1774123200@gringogazette.com
SUMMARY:H2O Adventure - Dance
DESCRIPTION:Experience the joy\, color\, and imagination of contemporary children’s theater at Andandanza del H2O\, a delightful 35-minute show specially created for kids aged 6 and up\, presented as part of the 18th National Theater Marathon for Girls\, Boys\, Children\, and Adolescents.\nAndandanza del H2O is a lively\, physical-theater piece full of movement\, humor\, music\, and wonder\, written and directed by Marco Antonio Vasconcelos. It stars three dynamic performers: Andrea Carreño\, Elea Casiano\, and Victoria Lomelí\, who bring to life a playful\, colorful exploration of water its magic\, its transformations\, its rhythms\, and its vital role in our world \nThis joyful performance is more than a show  it’s a colorful invitation to move\, laugh\, wonder\, and fall in love with theater. Perfect for a family night out during the busy spring season in Los Cabos
URL:https://gringogazette.com/event/h2o-adventure-dance/
LOCATION:Casa de la Danza\, Calle de la Roca esq Costa Azul\, Blvd. Hojazen Fracc\, Cabo San Lucas\, B.C.S.\, Cabo San lucas\, Baja California Sur\, 23473\, Mexico
CATEGORIES:Arts,Cabo San Lucas,Dance,Relaxing,Theater
ATTACH;FMTTYPE=image/jpeg:https://gringogazette.com/wp-content/uploads/2026/03/Andanza-h20.jpg
END:VEVENT
END:VCALENDAR