BEGIN:VCALENDAR
VERSION:2.0
PRODID:-//Gringo Gazette - ECPv6.15.13.1//NONSGML v1.0//EN
CALSCALE:GREGORIAN
METHOD:PUBLISH
X-ORIGINAL-URL:https://gringogazette.com
X-WR-CALDESC:Events for Gringo Gazette
REFRESH-INTERVAL;VALUE=DURATION:PT1H
X-Robots-Tag:noindex
X-PUBLISHED-TTL:PT1H
BEGIN:VTIMEZONE
TZID:America/Mazatlan
BEGIN:STANDARD
TZOFFSETFROM:-0700
TZOFFSETTO:-0700
TZNAME:MST
DTSTART:20250101T000000
END:STANDARD
END:VTIMEZONE
BEGIN:VEVENT
DTSTART;TZID=America/Mazatlan:20260306T000000
DTEND;TZID=America/Mazatlan:20260308T000000
DTSTAMP:20260420T045155
CREATED:20260202T050429Z
LAST-MODIFIED:20260202T050429Z
UID:10000247-1772755200-1772928000@gringogazette.com
SUMMARY:SNOR Los Cabos – National Series 2026 Opening Round
DESCRIPTION:The countdown has begun for racing fans and drivers as the National Series 2026 kicks off with its opening round. This high-energy off-road RC racing event brings together top pilots and enthusiasts to start the season with intense competition\, skill\, and adrenaline. A must-see event for fans of RC racing and motorsports culture.
URL:https://gringogazette.com/event/snor-los-cabos-national-series-2026-opening-round/
LOCATION:San Jose del Cabo\, .google.com/maps/place/23405+Palmilla\,+B.C.S./@23.0161015\,-109.7235578\,18z/data=!3m1!4b1!4m6!3m5!1s0x86af4f19a6752fe1:0x48b552e40cb8d354!8m2!3d23.0164319!4d-109.723824!16sg1td614yy?entry=ttu&g_ep=EgoyMDI1MDkzMC4wIKXMDSoASAFQAw\, San jose del cabo\, Select a State:\, 3405\, Mexico
ATTACH;FMTTYPE=image/jpeg:https://gringogazette.com/wp-content/uploads/2026/02/616401533_1209046307999933_5872016193451005246_n.jpg
END:VEVENT
BEGIN:VEVENT
DTSTART;TZID=America/Mazatlan:20260306T180000
DTEND;TZID=America/Mazatlan:20260306T200000
DTSTAMP:20260420T045155
CREATED:20260228T002829Z
LAST-MODIFIED:20260228T002829Z
UID:10000596-1772820000-1772827200@gringogazette.com
SUMMARY:Group 2 Albatrosses
DESCRIPTION:The Casa de Cultura del Estado de Baja California Sur presents the exhibition “50 Years of History: Grupo 2 Albatros”\, a commemorative showcase celebrating five decades of legacy\, community\, and youth development. \nThe exhibition honors the history and impact of Grupo 2 Albatros\, highlighting its contributions through photographs\, memorabilia\, and archival materials that reflect its growth and enduring spirit over the past 50 years. \nThe opening event will take place on March 6\, 2026 at 6:00 PM at the Galería “La Pintada” inside the Casa de Cultura del Estado in La Paz. Admission is free. \nThe exhibition will remain open to the public from March 6 to March 27\, 2026\, offering visitors an opportunity to explore the organization’s rich history and celebrate its lasting influence on generations of members and the broader community.
URL:https://gringogazette.com/event/group-2-albatrosses/
LOCATION:Galeria La Pintada\, Francisco I. Madero 825. Col. Esterito CP \, La Paz\, Baja California Sur.\, La Paz\, Baja California Sur\, 23020\, Mexico
CATEGORIES:Arts,Culture,La Paz,Photos
ATTACH;FMTTYPE=image/jpeg:https://gringogazette.com/wp-content/uploads/2026/02/Grupo-2-albatros.jpg
END:VEVENT
BEGIN:VEVENT
DTSTART;TZID=America/Mazatlan:20260306T183000
DTEND;TZID=America/Mazatlan:20260306T183000
DTSTAMP:20260420T045155
CREATED:20260304T075248Z
LAST-MODIFIED:20260304T194717Z
UID:10000603-1772821800-1772821800@gringogazette.com
SUMMARY:Sambolero – Live Music Night
DESCRIPTION:Come to Merkén and enjoy a delicious dinner while listening to the best Latin jazz band in town: SAMBOLERO.\n\n\nA blend of bossa nova\, swing\, contemporary Mexican music\, boleros\, and pop are just some of the sounds you’ll experience in their vibrant musical atmosphere.\n\nThe show will take place on Friday\, March 6th at 6:30 p.m.\, with a 100 MXN cover charge. For more information or reservations\, attendees can call 612 348 9960. This concert offers an intimate setting to enjoy dynamic musical arrangements and an engaging live atmosphere.
URL:https://gringogazette.com/event/sambolero-live-music-night/
LOCATION:Merkén\, Km. 8.5 Carretera al norte Chametla\, La Paz\, B.C.S.\, La paz\, Baja California Sur\, 23205\, Mexico
CATEGORIES:La Paz,Music
ATTACH;FMTTYPE=image/jpeg:https://gringogazette.com/wp-content/uploads/2026/03/646135404_947681721142937_4214158590021967738_n.jpg
ORGANIZER;CN="La Lupita Rock Cafe":MAILTO:lalupitarockcafe@gmail.com
END:VEVENT
END:VCALENDAR