BEGIN:VCALENDAR
VERSION:2.0
PRODID:-//Gringo Gazette - ECPv6.15.13.1//NONSGML v1.0//EN
CALSCALE:GREGORIAN
METHOD:PUBLISH
X-WR-CALNAME:Gringo Gazette
X-ORIGINAL-URL:https://gringogazette.com
X-WR-CALDESC:Events for Gringo Gazette
REFRESH-INTERVAL;VALUE=DURATION:PT1H
X-Robots-Tag:noindex
X-PUBLISHED-TTL:PT1H
BEGIN:VTIMEZONE
TZID:America/Mazatlan
BEGIN:STANDARD
TZOFFSETFROM:-0700
TZOFFSETTO:-0700
TZNAME:MST
DTSTART:20250101T000000
END:STANDARD
END:VTIMEZONE
BEGIN:VEVENT
DTSTART;VALUE=DATE:20260130
DTEND;VALUE=DATE:20260204
DTSTAMP:20260420T023112
CREATED:20260126T215522Z
LAST-MODIFIED:20260126T215522Z
UID:10000233-1769731200-1770163199@gringogazette.com
SUMMARY:Traditional San Blas Festival 2026
DESCRIPTION:Honoring the Patron Saint San Blas  A Living Piece of Baja Heritage \nNestled in the rugged\, cactus-dotted mountains south of La Paz lies the historic rural community of San Blas\, a centuries-old gathering place for ranch families whose roots trace back to the 18th century missions and the old Camino Real trail. Every year\, the Fiestas Tradicionales de San Blas (recognized as part of Mexico’s Intangible Cultural Heritage) bring together locals\, families from nearby ranchos like Los Divisaderos\, and visitors for five days of deep-rooted devotion\, joyful music\, horseback tradition\, and unbreakable community spirit. \nThis isn’t just a party  it’s a vibrant celebration of Baja California Sur’s rural soul: faith\, vaquero culture\, live regional music\, and the simple joy of coming together under the desert stars. \nCome celebrate faith\, family\, and tradition in one of Baja’s most cherished hidden gems.
URL:https://gringogazette.com/event/traditional-san-blas-festival-2026/
LOCATION:San blas\, San Blas 23248 B.C.S\, La Paz\, Baja California Sur\, 23248\, Mexico
CATEGORIES:Arts,Dance,La Paz,Music,Party
ATTACH;FMTTYPE=image/jpeg:https://gringogazette.com/wp-content/uploads/2026/01/san-blas.jpg
END:VEVENT
BEGIN:VEVENT
DTSTART;TZID=America/Mazatlan:20260130T150000
DTEND;TZID=America/Mazatlan:20260202T233000
DTSTAMP:20260420T023112
CREATED:20251223T063349Z
LAST-MODIFIED:20251223T063349Z
UID:10000208-1769785200-1770075000@gringogazette.com
SUMMARY:New Year\, New You Cabo 2026
DESCRIPTION:Meet DocSwiner on the sands of Mexico’s paradisal peninsula for 4 days/3 nights of respite and retreat at the Copola Villas at Quivira Los Cabos. Sponsored by Black Girl Vitamins\, Seasons 2 Consign\, Chatham Natural\, Serenity Hydration & Wellness and Swiner Publishing Company! \nEscape to hacienda-style residences and luxury condominiums designed to seduce your senses. Each offers luxury living expertly melded with contemporary Mexican decor\, upscale finishing touches and stunning ocean views. \nFrom the moment we meet during Friday’s welcome reception to our closing session\, gatherings will follow Safer Meetin protocol\, aligned with CDC travel guidelines. Anticipate info-rich workshops\, community building\, and plenty of time for play.
URL:https://gringogazette.com/event/new-year-new-you-cabo-2026/
LOCATION:Copala At Quivira\, Predio Paraíso Escondido s/n\, Cabo San Lucas\, B.C.S.\, Cabo San lucas\, Baja California Sur\, 23450\, Mexico
CATEGORIES:Cabo San Lucas,Food & wine,Relaxing,Retirement
ATTACH;FMTTYPE=image/png:https://gringogazette.com/wp-content/uploads/2025/12/new.PNG
END:VEVENT
BEGIN:VEVENT
DTSTART;TZID=America/Mazatlan:20260202T100000
DTEND;TZID=America/Mazatlan:20260202T170000
DTSTAMP:20260420T023112
CREATED:20260203T025930Z
LAST-MODIFIED:20260203T025930Z
UID:10000250-1770026400-1770051600@gringogazette.com
SUMMARY:Mercadito Merken
DESCRIPTION:Mercadito Merkén is a vibrant community market offering organic coffee\, fresh vegetables\, handmade crafts\, delicious food\, alternative medicine\, natural cosmetics\, artisanal jewelry\, refreshing beverages\, and live music. The market also features purpose-driven projects that support conscious living and local initiatives. A welcoming space to explore\, enjoy\, and connect with creativity\, wellness\, and community spirit.
URL:https://gringogazette.com/event/mercadito-merken-2/2026-02-02/
LOCATION:Merkén\, Km. 8.5 Carretera al norte Chametla\, La Paz\, B.C.S.\, La paz\, Baja California Sur\, 23205\, Mexico
ATTACH;FMTTYPE=image/jpeg:https://gringogazette.com/wp-content/uploads/2026/02/Screenshot-2026-02-02-183144.jpg
END:VEVENT
BEGIN:VEVENT
DTSTART;TZID=America/Mazatlan:20260202T170000
DTEND;TZID=America/Mazatlan:20260202T181500
DTSTAMP:20260420T023112
CREATED:20260203T055041Z
LAST-MODIFIED:20260203T055041Z
UID:10000260-1770051600-1770056100@gringogazette.com
SUMMARY:Cheese\, Bread & Wine Tasting
DESCRIPTION:Indulge in a relaxed and flavorful tasting experience featuring a curated selection of cheeses\, artisanal bread\, and fine wines. Set in an elegant resort atmosphere\, this weekly gathering is perfect for unwinding\, socializing\, and savoring classic pairings in a warm and inviting setting. A delightful experience for wine and food lovers alike. 🍷🧀✨
URL:https://gringogazette.com/event/cheese-bread-wine-tasting/2026-02-02/
LOCATION:Pueblo Bonito Pacífica Golf & Spa Resort\, Previo\, Paraíso Escondido s/n\, Centro Cabo San Lucas\, BCS 23450\, Los cabos\, Mexico
ATTACH;FMTTYPE=image/jpeg:https://gringogazette.com/wp-content/uploads/2026/02/Queso-manchego-pan-y-vino.jpg
END:VEVENT
BEGIN:VEVENT
DTSTART;TZID=America/Mazatlan:20260202T180000
DTEND;TZID=America/Mazatlan:20260202T193000
DTSTAMP:20260420T023112
CREATED:20260203T034450Z
LAST-MODIFIED:20260203T034450Z
UID:10000256-1770055200-1770060600@gringogazette.com
SUMMARY:Oceanfront Live Fire Dining Experience
DESCRIPTION:Experience an unforgettable beachfront culinary event where fire\, flavor\, and atmosphere come together. Enjoy live fire cooking prepared by expert chefs\, showcasing bold techniques and fresh ingredients in a stunning seaside setting. A unique dining experience that blends gastronomy\, artistry\, and the natural beauty of the coast for a truly memorable evening. 🔥🌊🍽️
URL:https://gringogazette.com/event/oceanfront-live-fire-dining-experience/2026-02-02/
LOCATION:Pueblo Bonito Pacífica Golf & Spa Resort\, Previo\, Paraíso Escondido s/n\, Centro Cabo San Lucas\, BCS 23450\, Los cabos\, Mexico
ATTACH;FMTTYPE=image/png:https://gringogazette.com/wp-content/uploads/2026/02/Screen-Shot-2022-07-27-at-31234-PM_B21BD663-4487-4952-B10ABC42EF77263A_f2ac24ea-d73c-4eea-a1baf54036034b91.png
END:VEVENT
END:VCALENDAR