BEGIN:VCALENDAR
VERSION:2.0
PRODID:-//Gringo Gazette - ECPv6.15.13.1//NONSGML v1.0//EN
CALSCALE:GREGORIAN
METHOD:PUBLISH
X-WR-CALNAME:Gringo Gazette
X-ORIGINAL-URL:https://gringogazette.com
X-WR-CALDESC:Events for Gringo Gazette
REFRESH-INTERVAL;VALUE=DURATION:PT1H
X-Robots-Tag:noindex
X-PUBLISHED-TTL:PT1H
BEGIN:VTIMEZONE
TZID:America/Mazatlan
BEGIN:STANDARD
TZOFFSETFROM:-0700
TZOFFSETTO:-0700
TZNAME:MST
DTSTART:20240101T000000
END:STANDARD
END:VTIMEZONE
BEGIN:VEVENT
DTSTART;TZID=America/Mazatlan:20251201T080000
DTEND;TZID=America/Mazatlan:20260131T170000
DTSTAMP:20260424T031626
CREATED:20251205T040944Z
LAST-MODIFIED:20251205T040944Z
UID:10000176-1764576000-1769878800@gringogazette.com
SUMMARY:12th Baja California Sur Visual Arts Biennial Exhibition
DESCRIPTION:Experience a diverse showcase of contemporary visual art at the 12th Baja California Sur Visual Arts Biennial Exhibition. This event highlights outstanding works in both three-dimensional forms—such as sculpture\, installation\, and objects—and two-dimensional techniques\, including painting\, drawing\, and graphic art. Featuring creations from talented regional artists\, the exhibition offers a unique opportunity to explore fresh perspectives and artistic expressions. Free admission allows everyone to enjoy this cultural celebration throughout December 2025 and January 2026 at the Carlos Olachea Bouciéguez Art Gallery.
URL:https://gringogazette.com/event/12th-baja-california-sur-visual-arts-biennial-exhibition/
LOCATION:Galería de Arte Carlos Olachea Bouciéguez\, Antonio Navarro entre Altamirano y H. de Independencia\, Colonia Centro\, La Paz\, Baja California Sur.\, La Paz\, Baja California Sur\, Mexico
ATTACH;FMTTYPE=image/jpeg:https://gringogazette.com/wp-content/uploads/2025/12/594604235_1177031477938460_4065447321370569420_n.jpg
END:VEVENT
BEGIN:VEVENT
DTSTART;TZID=America/Mazatlan:20251225T093000
DTEND;TZID=America/Mazatlan:20251225T130000
DTSTAMP:20260424T031626
CREATED:20251215T081251Z
LAST-MODIFIED:20251215T081251Z
UID:10000192-1766655000-1766667600@gringogazette.com
SUMMARY:Santa’s Brunch at Hacienda del Mar
DESCRIPTION:Celebrate the holiday season with a festive brunch experience designed for families to enjoy together. This special gathering offers a warm and joyful atmosphere where guests can relax\, share a delicious meal\, and embrace the spirit of Christmas. The event creates a memorable setting filled with seasonal charm\, perfect for spending quality time with loved ones and enjoying a cheerful holiday tradition in an elegant and welcoming environment. \n  \nAdults: ~$44 USD per person | Children (5–12): ~$17 USD | 15% discount for local residents (tax included).
URL:https://gringogazette.com/event/santas-brunch-at-hacienda-del-mar/
LOCATION:Hacienda del Mar Los Cabos An Autograph Collection All-Inclusive Resort\, Corredor Turístico SJC-CSL KM. 10 Lote D\, Cabo del Sol\, Cabo del sol Cabo San Lucas\, BCS 23455\, Los cabos\, Baja California Sur\, Mexico
ATTACH;FMTTYPE=image/jpeg:https://gringogazette.com/wp-content/uploads/2025/12/santaBrunch_02FCD143-9512-4E91-A9E2379FD1306718_19d4a840-43dc-469b-81806f4d3d584fd4.jpg
ORGANIZER;CN="Hacienda del Mar Los Cabos An Autograph Collection All-Inclusive Resort":MAILTO:reservations@haciendadelmar.com.mx
END:VEVENT
BEGIN:VEVENT
DTSTART;TZID=America/Mazatlan:20251225T170000
DTEND;TZID=America/Mazatlan:20251225T220000
DTSTAMP:20260424T031626
CREATED:20251221T100624Z
LAST-MODIFIED:20251221T100624Z
UID:10000202-1766682000-1766700000@gringogazette.com
SUMMARY:Benno Christmas Dinner
DESCRIPTION:A holiday-inspired menu crafted especially for the season\, paired with live music by Tolines to set the perfect atmosphere. Enjoy good food\, lights\, and a cozy evening filled with Christmas spirit.
URL:https://gringogazette.com/event/benno-christmas-dinner/
LOCATION:Benno\, México 19 Km 54\, 23300 Todos Santos\, B.C.S.\, Todos Santos\, BC\, Select a State:\, 23300\, Mexico
ATTACH;FMTTYPE=image/png:https://gringogazette.com/wp-content/uploads/2025/12/Screenshot-2025-12-21-015245.png
END:VEVENT
BEGIN:VEVENT
DTSTART;TZID=America/Mazatlan:20251225T190000
DTEND;TZID=America/Mazatlan:20251225T220000
DTSTAMP:20260424T031626
CREATED:20251217T070239Z
LAST-MODIFIED:20251217T070239Z
UID:10000199-1766689200-1766700000@gringogazette.com
SUMMARY:Blues Night with Eric Louis Trio
DESCRIPTION:Immerse yourself in the soulful sounds of live blues as the Eric Louis Trio takes the stage for a captivating musical experience. Enjoy an intimate atmosphere filled with rhythm\, emotion\, and the timeless energy of blues music. Perfect for music lovers looking to unwind\, connect\, and enjoy high-quality live performances in a unique setting.
URL:https://gringogazette.com/event/blues-night-with-eric-louis-trio/
LOCATION:Hotel el ganzo\, Boulevard Tiburon s/n La Playa\, 23403 San José del Cabo\, B.C.S.\, San jose del cabo\, Select a State:\, 3405\, Mexico
ATTACH;FMTTYPE=image/jpeg:https://gringogazette.com/wp-content/uploads/2025/12/Vinyl-Nights_C354B7D8-0A97-48D0-B30A4784B264D563_c8d338f5-8e2a-4aa9-a93ea2a52931e801.jpg
ORGANIZER;CN="Hotel El Ganzo":MAILTO:concierge@elganzo.com
END:VEVENT
END:VCALENDAR