BEGIN:VCALENDAR
VERSION:2.0
PRODID:-//Gringo Gazette - ECPv6.15.13.1//NONSGML v1.0//EN
CALSCALE:GREGORIAN
METHOD:PUBLISH
X-WR-CALNAME:Gringo Gazette
X-ORIGINAL-URL:https://gringogazette.com
X-WR-CALDESC:Events for Gringo Gazette
REFRESH-INTERVAL;VALUE=DURATION:PT1H
X-Robots-Tag:noindex
X-PUBLISHED-TTL:PT1H
BEGIN:VTIMEZONE
TZID:America/Mazatlan
BEGIN:STANDARD
TZOFFSETFROM:-0700
TZOFFSETTO:-0700
TZNAME:MST
DTSTART:20240101T000000
END:STANDARD
END:VTIMEZONE
BEGIN:VEVENT
DTSTART;TZID=America/Mazatlan:20251201T080000
DTEND;TZID=America/Mazatlan:20260131T170000
DTSTAMP:20260420T071458
CREATED:20251205T040944Z
LAST-MODIFIED:20251205T040944Z
UID:10000176-1764576000-1769878800@gringogazette.com
SUMMARY:12th Baja California Sur Visual Arts Biennial Exhibition
DESCRIPTION:Experience a diverse showcase of contemporary visual art at the 12th Baja California Sur Visual Arts Biennial Exhibition. This event highlights outstanding works in both three-dimensional forms—such as sculpture\, installation\, and objects—and two-dimensional techniques\, including painting\, drawing\, and graphic art. Featuring creations from talented regional artists\, the exhibition offers a unique opportunity to explore fresh perspectives and artistic expressions. Free admission allows everyone to enjoy this cultural celebration throughout December 2025 and January 2026 at the Carlos Olachea Bouciéguez Art Gallery.
URL:https://gringogazette.com/event/12th-baja-california-sur-visual-arts-biennial-exhibition/
LOCATION:Galería de Arte Carlos Olachea Bouciéguez\, Antonio Navarro entre Altamirano y H. de Independencia\, Colonia Centro\, La Paz\, Baja California Sur.\, La Paz\, Baja California Sur\, Mexico
ATTACH;FMTTYPE=image/jpeg:https://gringogazette.com/wp-content/uploads/2025/12/594604235_1177031477938460_4065447321370569420_n.jpg
END:VEVENT
BEGIN:VEVENT
DTSTART;TZID=America/Mazatlan:20251217T110000
DTEND;TZID=America/Mazatlan:20251219T140000
DTSTAMP:20260420T071458
CREATED:20251127T202231Z
LAST-MODIFIED:20251127T202231Z
UID:10000160-1765969200-1766152800@gringogazette.com
SUMMARY:Cinema is your friend
DESCRIPTION:This December\, treat yourself three magical mornings filled with hot chocolate vibes\, Christmas cheer\, and the joy of turning your wildest stories into real movie scripts! \nWhat you’ll do under the Christmas lights: \nCreate unforgettable characters \nWrite dialogue that sparkles brighter than the tree at Rockefeller \nBuild a short film story from “once upon a time” to a perfect holiday ending \nLeave with your very own finished script outline – ready to shoot in 2026! \nOnly $900 MXN for all 3 festive days! (Limited seats) \nThis isn’t just a workshop it’s your Christmas movie moment waiting to be written. Bring your holiday sweater\, your imagination\, and let’s make cinematic magic together
URL:https://gringogazette.com/event/cinema-is-your-friend/
LOCATION:Casa de Cultura Baja California Sur\, calle Francisco I. Madero #825 entre Manuel Torre Iglesias Juan María de Salvatierra y\, Esterito\, La Paz\, B.C.S\, La Paz\, Baja California Sur\, 23020\, Mexico
CATEGORIES:Films,La Paz,Relaxing
ATTACH;FMTTYPE=image/jpeg:https://gringogazette.com/wp-content/uploads/2025/11/587937171_1172415401733401_1690206589937978656_n.jpg
END:VEVENT
BEGIN:VEVENT
DTSTART;TZID=America/Mazatlan:20251218T190000
DTEND;TZID=America/Mazatlan:20251218T213000
DTSTAMP:20260420T071458
CREATED:20251208T221307Z
LAST-MODIFIED:20251208T221307Z
UID:10000180-1766084400-1766093400@gringogazette.com
SUMMARY:Mexican Nativity Play and Christmas Story The Blanket
DESCRIPTION:The Cultural Center of La Paz invites the community to enjoy a festive and family-friendly evening with a special presentation of the Mexican Pastorela and the Christmas Story La Manta\, performed by the theatrical group Ollin under the direction of Maestra Guillermina Sáinz. \nThis traditional holiday performance blends humor\, music\, and Mexican cultural elements to tell the classic story of shepherds on their journey to visit the newborn Christ—filled with mischief\, magical characters\, and lively theatrical moments. The show also includes the Christmas tale La Manta\, offering an emotional and heartwarming touch to the night.
URL:https://gringogazette.com/event/mexican-nativity-play-and-christmas-story-the-blanket/
LOCATION:Centro cultural de la Paz\, Calle16 de Septiembre\, #120\, zona centro\, La Paz\, Baja California Sur\, 23000\, Mexico
CATEGORIES:Acting,Christmas,Dance,La Paz,Music
ATTACH;FMTTYPE=image/jpeg:https://gringogazette.com/wp-content/uploads/2025/12/594475262_1247414554088603_7040467049223644892_n.jpg
END:VEVENT
END:VCALENDAR