BEGIN:VCALENDAR
VERSION:2.0
PRODID:-//Gringo Gazette - ECPv6.15.13.1//NONSGML v1.0//EN
CALSCALE:GREGORIAN
METHOD:PUBLISH
X-WR-CALNAME:Gringo Gazette
X-ORIGINAL-URL:https://gringogazette.com
X-WR-CALDESC:Events for Gringo Gazette
REFRESH-INTERVAL;VALUE=DURATION:PT1H
X-Robots-Tag:noindex
X-PUBLISHED-TTL:PT1H
BEGIN:VTIMEZONE
TZID:America/Mazatlan
BEGIN:STANDARD
TZOFFSETFROM:-0700
TZOFFSETTO:-0700
TZNAME:MST
DTSTART:20240101T000000
END:STANDARD
END:VTIMEZONE
BEGIN:VEVENT
DTSTART;VALUE=DATE:20251114
DTEND;VALUE=DATE:20251217
DTSTAMP:20260425T062258
CREATED:20251023T050928Z
LAST-MODIFIED:20251023T050928Z
UID:10000081-1763078400-1765929599@gringogazette.com
SUMMARY:Expo CMIC
DESCRIPTION:The most anticipated event in Baja California Sur is fast approaching\, and excitement is building across the entire construction industry! EXPOCONSTRUCCIÓN BCS 2025 brings together the region’s most influential companies\, innovative technologies\, and top business leaders for three days that will shape the future of construction in Mexico. \nThree Days That Will Change Everything: \nStrategic networking opportunities \nInnovative technologies and trends \nGrowth and collaboration possibilities \nHigh-level business connections \nBe part of the event that everyone will remember EXPOCONSTRUCCIÓN BCS 2025\, where the future of the construction industry is built.
URL:https://gringogazette.com/event/expo-cmic/
LOCATION:Centro de convenciones Bcs\, La Paz B.C.S\, La Paz\, Baja California Sur\, 23019\, Mexico
CATEGORIES:Expo,La Paz
ATTACH;FMTTYPE=image/jpeg:https://gringogazette.com/wp-content/uploads/2025/10/535558449_122140597160806053_6648478128685243191_n.jpg
END:VEVENT
BEGIN:VEVENT
DTSTART;TZID=America/Mazatlan:20251201T080000
DTEND;TZID=America/Mazatlan:20260131T170000
DTSTAMP:20260425T062258
CREATED:20251205T040944Z
LAST-MODIFIED:20251205T040944Z
UID:10000176-1764576000-1769878800@gringogazette.com
SUMMARY:12th Baja California Sur Visual Arts Biennial Exhibition
DESCRIPTION:Experience a diverse showcase of contemporary visual art at the 12th Baja California Sur Visual Arts Biennial Exhibition. This event highlights outstanding works in both three-dimensional forms—such as sculpture\, installation\, and objects—and two-dimensional techniques\, including painting\, drawing\, and graphic art. Featuring creations from talented regional artists\, the exhibition offers a unique opportunity to explore fresh perspectives and artistic expressions. Free admission allows everyone to enjoy this cultural celebration throughout December 2025 and January 2026 at the Carlos Olachea Bouciéguez Art Gallery.
URL:https://gringogazette.com/event/12th-baja-california-sur-visual-arts-biennial-exhibition/
LOCATION:Galería de Arte Carlos Olachea Bouciéguez\, Antonio Navarro entre Altamirano y H. de Independencia\, Colonia Centro\, La Paz\, Baja California Sur.\, La Paz\, Baja California Sur\, Mexico
ATTACH;FMTTYPE=image/jpeg:https://gringogazette.com/wp-content/uploads/2025/12/594604235_1177031477938460_4065447321370569420_n.jpg
END:VEVENT
BEGIN:VEVENT
DTSTART;VALUE=DATE:20251204
DTEND;VALUE=DATE:20251208
DTSTAMP:20260425T062258
CREATED:20250916T140509Z
LAST-MODIFIED:20250916T140509Z
UID:10000041-1764806400-1765151999@gringogazette.com
SUMMARY:Mar a Mar trail
DESCRIPTION:The Mar a Mar Trail is a unique\, challenging 3-stage trail running event that connects the Sea of Cortez to the Pacific Ocean\, traversing the Sierra de la Laguna in Baja California Sur\, Mexico. It’s known for its spectacular scenery\, mountainous terrain\, and adventurous route. \n\n\nEvent dates: Early December 2025 \n\n\n“Grupo Mar” category: December 5\, 6 & 7 \n\n\n“Grupo Sierra” category: December 4\, 5 & 6 \n\n\nStages: \n\n\nStage 1 – Los Barriles to San Dionisio (~36 km with about +2\,000 meters of elevation gain) \n\n\nStage 2 – San Dionisio to “La Rueda” (~35 km\, ~2\,100 m+) \n\n\nStage 3 – “La Rueda” to Todos Santos (~32 km\, ~450 m+) \n\n\nCamp 1 (Friday evening): Community of San Dionisio — features include camping areas\, showers\, restrooms\, food\, private security\, etc. \n\n\nCamp 2 (Saturday night): Rancho “La Rueda” — similar amenities\, set in a tranquil valley in the Sierra for recovery before the final stretch. \n\nAll entries for Grupo Mar and Grupo Sierra are sold out. This includes group entries and individual camping
URL:https://gringogazette.com/event/mar-a-mar-trail/
LOCATION:Baja California Sur
CATEGORIES:Race,Sports
ATTACH;FMTTYPE=image/jpeg:https://gringogazette.com/wp-content/uploads/2025/09/AR_02_12_22_DeMaraMarColumbia-1432-2048x1363-1.jpg
END:VEVENT
BEGIN:VEVENT
DTSTART;VALUE=DATE:20251205
DTEND;VALUE=DATE:20251208
DTSTAMP:20260425T062258
CREATED:20250909T035529Z
LAST-MODIFIED:20250909T052144Z
UID:10000016-1764892800-1765151999@gringogazette.com
SUMMARY:Gastrovino Baja Food and Wine Festival
DESCRIPTION:The Gastrovino Baja Food and Wine Festival is an annual celebration that brings together the best of Baja California Sur’s gastronomy and wines. During this event\, attendees have the opportunity to taste a wide variety of dishes prepared by local and national chefs\, accompanied by wines selected from the region’s finest wineries. In addition to tastings and pairings\, the festival offers cultural experiences\, live music\, and activities that highlight the peninsula’s culinary richness.
URL:https://gringogazette.com/event/gastrovino-baja-food-and-wine-festival/
LOCATION:Plaza pública\, Todos Santos\, BC
CATEGORIES:Festivals,Food & wine,Todos Santos
ATTACH;FMTTYPE=image/jpeg:https://gringogazette.com/wp-content/uploads/2025/09/Wine-todos-santos.jpg
ORGANIZER;CN="Perla Garnica":MAILTO:hola@gastrovino.mx
END:VEVENT
BEGIN:VEVENT
DTSTART;TZID=America/Mazatlan:20251205T080000
DTEND;TZID=America/Mazatlan:20251207T170000
DTSTAMP:20260425T062258
CREATED:20251128T221322Z
LAST-MODIFIED:20251128T221322Z
UID:10000164-1764921600-1765126800@gringogazette.com
SUMMARY:Gastrovino – De Vuelta al Origen
DESCRIPTION:A vibrant celebration of Mexican wines and Baja Mediterranean cuisine\, bringing together winemakers\, chefs\, and food enthusiasts in an atmosphere filled with flavor\, culture\, and creativity. Guests can enjoy tastings\, culinary experiences\, live entertainment\, and a festive ambiance that highlights the richness of regional gastronomy and the artistry behind every dish and bottle.
URL:https://gringogazette.com/event/gastrovino-de-vuelta-al-origen/
LOCATION:Todos Santos\, 23°26′49″N 110°13′23″O﻿ / ﻿23.44688\, -110.22308\, Todos Santos\, BC\, 23300\, Mexico
ATTACH;FMTTYPE=image/png:https://gringogazette.com/wp-content/uploads/2025/11/Screenshot-2025-11-28-134102.png
END:VEVENT
BEGIN:VEVENT
DTSTART;TZID=America/Mazatlan:20251206T120000
DTEND;TZID=America/Mazatlan:20251207T170000
DTSTAMP:20260425T062258
CREATED:20251203T202427Z
LAST-MODIFIED:20251203T202427Z
UID:10000171-1765022400-1765126800@gringogazette.com
SUMMARY:Expo Motor BCS 2025
DESCRIPTION:The BCS Motor Expo 2025 is just around the corner! This Saturday\, December 6th at 12:00 PM marks the start of the automotive celebration that the city\nof La Paz has been waiting for! Come and enjoy two days where you can indulge your passion for cars and experience a fantastic\natmosphere with: New Car Show\, Classic Cars\, Sports Cars\, 4×4 Vehicles\, Off-Road Vehicles\, Motorcycles\, UTVs and UTV Kids \nWith a wide variety of amenities for the whole family\, including a food court\, children’s area\,\nlive music\, a radio-controlled car track\, and many more surprises!
URL:https://gringogazette.com/event/expo-motor-bcs-2025/
LOCATION:Centro Comercial Galerías La Paz\, Blvd. Gral. Agustín Olachea 8010\, El Zacatal\, La Paz\, B.C.S.\, La Paz\, Baja California Sur\, 23088\, Mexico
CATEGORIES:Cars,Expo,La Paz,Music
ATTACH;FMTTYPE=image/jpeg:https://gringogazette.com/wp-content/uploads/2025/12/Dec0120250638032001764606914581680860_1307992261356501_7695209121145557350_n.jpg
END:VEVENT
BEGIN:VEVENT
DTSTART;TZID=America/Mazatlan:20251207T080000
DTEND;TZID=America/Mazatlan:20251207T180000
DTSTAMP:20260425T062258
CREATED:20251204T203047Z
LAST-MODIFIED:20251204T203047Z
UID:10000173-1765094400-1765130400@gringogazette.com
SUMMARY:4th Machaca\, Cheese and Chorizo ​​Festival
DESCRIPTION:Get ready for the 4th Festival of Machaca\, Cheese\, and Chorizo in San Antonio 2025!On December 7\, the town of San Antonio will celebrate its rich culinary traditions with a full day of flavors\, music\, and family fun. Starting at 8:00 AM at the San Antonio Public Plaza\, visitors can enjoy a wide variety of regional dishes and locally made products. \nCome taste\, explore\, and celebrate the authentic flavors of San Antonio! \nA celebration that brings together the best of our heritage: traditional cuisine\, local crafts\,\nlive music\, and the ever-popular Choyera lottery. Come and enjoy a family-friendly event full of flavor\, culture\, and Baja California Sur tradition.
URL:https://gringogazette.com/event/4th-machaca-cheese-and-chorizo-festival/
LOCATION:Plaza Publica San Antonio\, Manuel de Ocio\, San Antonio\, B.C.S.\, San Antonio\, Baja California Sur\, 23210\, Mexico
CATEGORIES:Festivals,Food & wine,Music,San Antonio
ATTACH;FMTTYPE=image/jpeg:https://gringogazette.com/wp-content/uploads/2025/12/592264709_1284070880420543_99245752697100595_n.jpg
END:VEVENT
BEGIN:VEVENT
DTSTART;TZID=America/Mazatlan:20251207T130000
DTEND;TZID=America/Mazatlan:20251207T170000
DTSTAMP:20260425T062258
CREATED:20251124T213605Z
LAST-MODIFIED:20251124T213605Z
UID:10000152-1765112400-1765126800@gringogazette.com
SUMMARY:Gastrowine Festival
DESCRIPTION:Sunday is our outdoor celebration. More than 22 wineries will be serving wine\, and nearly 20\nrestaurants and food trucks will be offering bite-sized delicacies. Music will liven up the day\nwith live performances from local talent and nationally recognized artists. The Plaza becomes a stage\,\nthe town a celebration\, and every toast a reminder of why Gastrovino has become such a beloved tradition\,\nas we celebrate our 13th anniversary. \nIt includes a signature Gastrovino wine glass\, tastings from each participating winery\, and\nculinary experiences from a curated selection of restaurants. Additional wine and food will\nalso be available to sample and purchase.
URL:https://gringogazette.com/event/gastrowine-festival/
LOCATION:Plaza de Todos Santos\, Centro\, Todos Santos\, B.C.S.\, Todos Santos\, Baja California Sur\, 23300\, Mexico
CATEGORIES:Festivals,Food & wine,Music,Party,Todos Santos
ATTACH;FMTTYPE=image/webp:https://gringogazette.com/wp-content/uploads/2025/11/event-box-sunday-festival-2025.webp
END:VEVENT
BEGIN:VEVENT
DTSTART;TZID=America/Mazatlan:20251207T170000
DTEND;TZID=America/Mazatlan:20251207T190000
DTSTAMP:20260425T062258
CREATED:20251205T215020Z
LAST-MODIFIED:20251205T215020Z
UID:10000177-1765126800-1765134000@gringogazette.com
SUMMARY:Grand Christmas Tree Lighting
DESCRIPTION:Loreto lights up with Christmas spirit \nThis Sunday\, December 7th\, we’ll celebrate the Grand Lighting of the Christmas Tree in Plaza Salvatierra. \nA moment to share with family\, celebrate togetherness\, and feel the Christmas spirit begin to illuminate our town. \nWe look forward to seeing you at 5:00 p.m. to enjoy the artistic program and welcome this beautiful season together.
URL:https://gringogazette.com/event/grand-christmas-tree-lighting/
LOCATION:Plaza Salvatierra\, Centro\, Loreto\, B.C.S\, Loreto\, Baja California Sur\, 23880\, Mexico
CATEGORIES:Arts,Christmas,Festivals,Loreto,Music
ATTACH;FMTTYPE=image/jpeg:https://gringogazette.com/wp-content/uploads/2025/12/594623662_1265418238952061_1661820631466087791_n.jpg
END:VEVENT
END:VCALENDAR