BEGIN:VCALENDAR
VERSION:2.0
PRODID:-//Gringo Gazette - ECPv6.15.13.1//NONSGML v1.0//EN
CALSCALE:GREGORIAN
METHOD:PUBLISH
X-ORIGINAL-URL:https://gringogazette.com
X-WR-CALDESC:Events for Gringo Gazette
REFRESH-INTERVAL;VALUE=DURATION:PT1H
X-Robots-Tag:noindex
X-PUBLISHED-TTL:PT1H
BEGIN:VTIMEZONE
TZID:America/Mazatlan
BEGIN:STANDARD
TZOFFSETFROM:-0700
TZOFFSETTO:-0700
TZNAME:MST
DTSTART:20240101T000000
END:STANDARD
END:VTIMEZONE
BEGIN:VEVENT
DTSTART;VALUE=DATE:20251114
DTEND;VALUE=DATE:20251217
DTSTAMP:20260423T090448
CREATED:20251023T050928Z
LAST-MODIFIED:20251023T050928Z
UID:10000081-1763078400-1765929599@gringogazette.com
SUMMARY:Expo CMIC
DESCRIPTION:The most anticipated event in Baja California Sur is fast approaching\, and excitement is building across the entire construction industry! EXPOCONSTRUCCIÓN BCS 2025 brings together the region’s most influential companies\, innovative technologies\, and top business leaders for three days that will shape the future of construction in Mexico. \nThree Days That Will Change Everything: \nStrategic networking opportunities \nInnovative technologies and trends \nGrowth and collaboration possibilities \nHigh-level business connections \nBe part of the event that everyone will remember EXPOCONSTRUCCIÓN BCS 2025\, where the future of the construction industry is built.
URL:https://gringogazette.com/event/expo-cmic/
LOCATION:Centro de convenciones Bcs\, La Paz B.C.S\, La Paz\, Baja California Sur\, 23019\, Mexico
CATEGORIES:Expo,La Paz
ATTACH;FMTTYPE=image/jpeg:https://gringogazette.com/wp-content/uploads/2025/10/535558449_122140597160806053_6648478128685243191_n.jpg
END:VEVENT
BEGIN:VEVENT
DTSTART;TZID=America/Mazatlan:20251122T170000
DTEND;TZID=America/Mazatlan:20251130T200000
DTSTAMP:20260423T090448
CREATED:20251125T025525Z
LAST-MODIFIED:20251125T025525Z
UID:10000153-1763830800-1764532800@gringogazette.com
SUMMARY:Meet Santa
DESCRIPTION:Feel the magic of the holiday season! Visit Plaza Paseo La Paz and meet Santa Claus for a heartwarming Christmas experience. Children and families can enjoy a friendly conversation with Santa\, write and deliver their Christmas letter\, and take a festive photo — all completely free of charge. Celebrate the joy\, warmth\, and wonder of Christmas with this charming seasonal event perfect for all ages.
URL:https://gringogazette.com/event/meet-santa/
LOCATION:Plaza Paseo\, BLVD. AGUSTIN OLACHEA S/N ESQ. DANIEL ROLDAN COL. SAN ANTONIO EL ZACATA\, La Paz\, Mexico\, La paz\, Baja California Sur\, Mexico
CATEGORIES:Christmas,La Paz
ATTACH;FMTTYPE=image/jpeg:https://gringogazette.com/wp-content/uploads/2025/11/583450071_122249811308191380_4125355664515879054_n.jpg
END:VEVENT
BEGIN:VEVENT
DTSTART;VALUE=DATE:20251127
DTEND;VALUE=DATE:20251201
DTSTAMP:20260423T090448
CREATED:20250904T233456Z
LAST-MODIFIED:20250904T233456Z
UID:10000005-1764201600-1764547199@gringogazette.com
SUMMARY:21 Festival de Cine Todos Santos
DESCRIPTION:An international showcase celebrating Latin American and Mexican cinematographic excellence\, the festival curates a diverse program of feature films\, documentaries\, and short films—highlighting women’s cinema\, emerging voices\, and local storytelling  . It aims to nurture youth education\, elevate new talent\, and spotlight regional cinema through film screenings\, discussions\, and community engagement.
URL:https://gringogazette.com/event/21-festival-de-cine-todos-santos/
LOCATION:Teatro y Cine General Manuel Marquez de León de\, Av. Legaspy s/n esquina con Gral. Márquez de León e Hidalgo\, Manuel Márquez de León 3\, Centro\, Todos Santos\, Baja California Sur\, 23300\, Mexico
CATEGORIES:Arts,Festivals,Films
ATTACH;FMTTYPE=image/jpeg:https://gringogazette.com/wp-content/uploads/2025/09/todosSantosFilmFest.jpg
END:VEVENT
BEGIN:VEVENT
DTSTART;VALUE=DATE:20251127
DTEND;VALUE=DATE:20251201
DTSTAMP:20260423T090448
CREATED:20251127T203657Z
LAST-MODIFIED:20251127T203657Z
UID:10000161-1764201600-1764547199@gringogazette.com
SUMMARY:Cabo San Lucas Murder Mystery Catch the Killer
DESCRIPTION:A body has been found in the heart of the city and the killer is still out there. Only one team can solve the crime before the trail goes cold. \nExperience the ultimate outdoor detective adventure: Turn the streets of La Paz into your giant crime scene! Armed only with your phone and your wits\, you and your friends will: \nHunt for hidden clues in iconic landmarks \nCrack cryptic puzzles and secret codes \nGather evidence from real locations Follow the killer’s footsteps through the malecón\, historic center\, and shadowy alleys \nEvery corner hides a secret. Every step brings you closer to the truth. The story unfolds live as you move – the city itself becomes your game board. \n – YOU are the detective and the phone is your loupe\n– NO players limit per group\n– Start any day of the week\, any hour\n– Explore 12 locations in your city\, within a 1 mile radius\n– max 2 hours to complete
URL:https://gringogazette.com/event/cabo-san-lucas-murder-mystery-catch-the-killer/
LOCATION:Cabo Sails\, Centro\, Marina\, Cabo San Lucas\, B.C.S.\, Mexico\, Cabo San lucas\, Baja California Sur\, 23450\, Mexico
CATEGORIES:Cabo San Lucas,Mystery
ATTACH;FMTTYPE=image/jpeg:https://gringogazette.com/wp-content/uploads/2025/11/https___cdnevbuc_com_images_962279313_296218901481_1_original.jpg
END:VEVENT
BEGIN:VEVENT
DTSTART;TZID=America/Mazatlan:20251128T170000
DTEND;TZID=America/Mazatlan:20251130T220000
DTSTAMP:20260423T090448
CREATED:20251112T055005Z
LAST-MODIFIED:20251112T055005Z
UID:10000122-1764349200-1764540000@gringogazette.com
SUMMARY:Jazz Festival
DESCRIPTION:The atmosphere of Todos Santos will come alive with rhythm and soul as the town hosts its annual celebration of jazz. The festival invites music lovers to immerse themselves in a world of smooth melodies\, vibrant performances\, and the unmistakable charm of live jazz by the sea. Surrounded by tropical scenery and creative energy\, this event promises an unforgettable experience that captures the true essence of artistic expression and community spirit.
URL:https://gringogazette.com/event/jazz-festival/
LOCATION:Oystera\, Ignacio Zaragoza y Santos E\, Calle Benito Juárez\, Degollado\, Centro\, 23300 Todos Santos\, B.C.S.\, Todos Santos\, BC\, Select a State:\, 23300\, Mexico
CATEGORIES:Todos Santos
ATTACH;FMTTYPE=image/png:https://gringogazette.com/wp-content/uploads/2025/11/Screenshot-2025-11-11-213907.png
END:VEVENT
END:VCALENDAR