BEGIN:VCALENDAR
VERSION:2.0
PRODID:-//Gringo Gazette - ECPv6.15.13.1//NONSGML v1.0//EN
CALSCALE:GREGORIAN
METHOD:PUBLISH
X-ORIGINAL-URL:https://gringogazette.com
X-WR-CALDESC:Events for Gringo Gazette
REFRESH-INTERVAL;VALUE=DURATION:PT1H
X-Robots-Tag:noindex
X-PUBLISHED-TTL:PT1H
BEGIN:VTIMEZONE
TZID:America/Mazatlan
BEGIN:STANDARD
TZOFFSETFROM:-0700
TZOFFSETTO:-0700
TZNAME:MST
DTSTART:20240101T000000
END:STANDARD
END:VTIMEZONE
BEGIN:VEVENT
DTSTART;VALUE=DATE:20251114
DTEND;VALUE=DATE:20251217
DTSTAMP:20260423T222654
CREATED:20251023T050928Z
LAST-MODIFIED:20251023T050928Z
UID:10000081-1763078400-1765929599@gringogazette.com
SUMMARY:Expo CMIC
DESCRIPTION:The most anticipated event in Baja California Sur is fast approaching\, and excitement is building across the entire construction industry! EXPOCONSTRUCCIÓN BCS 2025 brings together the region’s most influential companies\, innovative technologies\, and top business leaders for three days that will shape the future of construction in Mexico. \nThree Days That Will Change Everything: \nStrategic networking opportunities \nInnovative technologies and trends \nGrowth and collaboration possibilities \nHigh-level business connections \nBe part of the event that everyone will remember EXPOCONSTRUCCIÓN BCS 2025\, where the future of the construction industry is built.
URL:https://gringogazette.com/event/expo-cmic/
LOCATION:Centro de convenciones Bcs\, La Paz B.C.S\, La Paz\, Baja California Sur\, 23019\, Mexico
CATEGORIES:Expo,La Paz
ATTACH;FMTTYPE=image/jpeg:https://gringogazette.com/wp-content/uploads/2025/10/535558449_122140597160806053_6648478128685243191_n.jpg
END:VEVENT
BEGIN:VEVENT
DTSTART;TZID=America/Mazatlan:20251122T170000
DTEND;TZID=America/Mazatlan:20251130T200000
DTSTAMP:20260423T222654
CREATED:20251125T025525Z
LAST-MODIFIED:20251125T025525Z
UID:10000153-1763830800-1764532800@gringogazette.com
SUMMARY:Meet Santa
DESCRIPTION:Feel the magic of the holiday season! Visit Plaza Paseo La Paz and meet Santa Claus for a heartwarming Christmas experience. Children and families can enjoy a friendly conversation with Santa\, write and deliver their Christmas letter\, and take a festive photo — all completely free of charge. Celebrate the joy\, warmth\, and wonder of Christmas with this charming seasonal event perfect for all ages.
URL:https://gringogazette.com/event/meet-santa/
LOCATION:Plaza Paseo\, BLVD. AGUSTIN OLACHEA S/N ESQ. DANIEL ROLDAN COL. SAN ANTONIO EL ZACATA\, La Paz\, Mexico\, La paz\, Baja California Sur\, Mexico
CATEGORIES:Christmas,La Paz
ATTACH;FMTTYPE=image/jpeg:https://gringogazette.com/wp-content/uploads/2025/11/583450071_122249811308191380_4125355664515879054_n.jpg
END:VEVENT
BEGIN:VEVENT
DTSTART;TZID=America/Mazatlan:20251123T070000
DTEND;TZID=America/Mazatlan:20251123T160000
DTSTAMP:20260423T222654
CREATED:20251020T064421Z
LAST-MODIFIED:20251020T064421Z
UID:10000068-1763881200-1763913600@gringogazette.com
SUMMARY:12th ORSAN Fishing Tournament
DESCRIPTION:The 12th ORSAN 2025 Fishing Tournament is here! 🎣\nGet your rod ready\, gather your gear\, and experience the ultimate sport fishing experience in the Pacific.\n💰 Total purse: $1\,200\,000 pesos\n🥇 1st place: $700\,000\n🥈 2nd place: $300\,000\n🥉 3rd place: $200\,000\n⚓ Pre-registration: $6\,500 (August 1st to November 15th)\n⚓ Day-of registration: $7\,500 (November 22nd at the Cabo San Lucas Marina)\n📍 Fishing day: November 23rd from 7:00 a.m. to 4:00 p.m.\nDon’t miss out on this tradition that unites excitement\, adrenaline\, and community in the Los Cabos sea!
URL:https://gringogazette.com/event/12th-orsan-fishing-tournament/
LOCATION:IGY Marina Cabo\, Centro\, Cabo San Lucas\, Baja California Sur\, 23450\, Mexico
CATEGORIES:Cabo San Lucas,Fishing
ATTACH;FMTTYPE=image/jpeg:https://gringogazette.com/wp-content/uploads/2025/10/549786656_1219035566934694_2256811798396015447_n.jpg
END:VEVENT
BEGIN:VEVENT
DTSTART;TZID=America/Mazatlan:20251123T110000
DTEND;TZID=America/Mazatlan:20251123T120000
DTSTAMP:20260423T222654
CREATED:20251024T214806Z
LAST-MODIFIED:20251024T214806Z
UID:10000092-1763895600-1763899200@gringogazette.com
SUMMARY:Freak Show: The Circus of Human Emotions
DESCRIPTION:Come to the theater and be part of the Baja California Sur State Theater Showcase 2025\,\nfrom November 20 to 23. We share the complete program with you\, and don't miss the great \ncelebration of South Californian theater.\nFeaturing: Freak Show: The Circus of Human Emotions
URL:https://gringogazette.com/event/freak-show-the-circus-of-human-emotions/
LOCATION:Teatro de la Paz\, Antonio Navarro e/ Altamirano y H\, de Independencia Centro\, Zona Central\, 23000 La Paz\, B.C.S.\, La Paz\, Baja California Sur\, 23000\, Mexico
CATEGORIES:Films,La Paz
ATTACH;FMTTYPE=image/jpeg:https://gringogazette.com/wp-content/uploads/2025/10/569769541_1328421802076640_2671890720973614423_n.jpg
END:VEVENT
BEGIN:VEVENT
DTSTART;TZID=America/Mazatlan:20251123T183000
DTEND;TZID=America/Mazatlan:20251123T200000
DTSTAMP:20260423T222654
CREATED:20251024T215325Z
LAST-MODIFIED:20251024T215325Z
UID:10000093-1763922600-1763928000@gringogazette.com
SUMMARY:Arcana (Tarot and Circus)
DESCRIPTION:Come to the theater and be part of the Baja California Sur State Theater Showcase 2025\,\nfrom November 20 to 23. We share the complete program with you\, and don't miss the great \ncelebration of South Californian theater.\nFeaturing: Arcana (Tarot and Circus)
URL:https://gringogazette.com/event/arcana-tarot-and-circus/
LOCATION:Teatro de la Paz\, Antonio Navarro e/ Altamirano y H\, de Independencia Centro\, Zona Central\, 23000 La Paz\, B.C.S.\, La Paz\, Baja California Sur\, 23000\, Mexico
CATEGORIES:Films,La Paz
ATTACH;FMTTYPE=image/jpeg:https://gringogazette.com/wp-content/uploads/2025/10/569336290_1328421865409967_472407030343354019_n.jpg
END:VEVENT
END:VCALENDAR