BEGIN:VCALENDAR
VERSION:2.0
PRODID:-//Gringo Gazette - ECPv6.15.13.1//NONSGML v1.0//EN
CALSCALE:GREGORIAN
METHOD:PUBLISH
X-ORIGINAL-URL:https://gringogazette.com
X-WR-CALDESC:Events for Gringo Gazette
REFRESH-INTERVAL;VALUE=DURATION:PT1H
X-Robots-Tag:noindex
X-PUBLISHED-TTL:PT1H
BEGIN:VTIMEZONE
TZID:America/Mazatlan
BEGIN:STANDARD
TZOFFSETFROM:-0700
TZOFFSETTO:-0700
TZNAME:MST
DTSTART:20240101T000000
END:STANDARD
END:VTIMEZONE
BEGIN:VEVENT
DTSTART;TZID=America/Mazatlan:20251101T130000
DTEND;TZID=America/Mazatlan:20251108T233000
DTSTAMP:20260423T222623
CREATED:20251029T194446Z
LAST-MODIFIED:20251105T045955Z
UID:10000101-1762002000-1762644600@gringogazette.com
SUMMARY:Healer\, Heal Thyself: Rewired from Burnout to Balance
DESCRIPTION:Healer Heal Thyself is an exclusive 7-day retreat designed for practitioners\, healers\, and guides seeking restoration\, growth\, and balance. \nPresented by Everyday Tantra\, this immersive experience features 11 expert facilitators who will lead workshops\, rituals\, and holistic practices focused on helping participants reconnect with their purpose and inner peace. \nSet against the serene backdrop of beach-view accommodations\, the retreat offers a nurturing environment where attendees can rejuvenate from burnout\, expand their awareness\, and cultivate harmony between mind\, body\, and spirit.
URL:https://gringogazette.com/event/healer-heal-thyself-rewired-from-burnout-to-balance/
LOCATION:Cabo bello\, Tourist Corridor\, Cabo Bello\, B.C.S.\, Cabo San lucas\, Baja California Sur\, 23455\, Mexico
CATEGORIES:Cabo San Lucas,Relaxing,Retirement,Yoga
ATTACH;FMTTYPE=image/jpeg:https://gringogazette.com/wp-content/uploads/2025/10/https___cdnevbuc_com_images_1103257773_148046143168_1_original.jpeg
END:VEVENT
BEGIN:VEVENT
DTSTART;VALUE=DATE:20251103
DTEND;VALUE=DATE:20251110
DTSTAMP:20260423T222623
CREATED:20250825T152314Z
LAST-MODIFIED:20250825T152314Z
UID:10000002-1762128000-1762732799@gringogazette.com
SUMMARY:World Wide Technology Championship 2025
DESCRIPTION:The World Wide Technology Championship will bring the world’s best PGA TOUR players to Los Cabos to provide a week of entertainment\, world-class golf\, and enjoyable activities for the entire family!
URL:https://gringogazette.com/event/world-wide-technology-championship-2025/
LOCATION:El Cardonal Golf Course\, Blvd. Diamente S/N Col. Los Cangrejos\, Cabo San Lucas\, Baja California Sur\, 23473
CATEGORIES:Sports
ATTACH;FMTTYPE=image/jpeg:https://gringogazette.com/wp-content/uploads/2025/08/header-pro-am-experience.jpg
END:VEVENT
BEGIN:VEVENT
DTSTART;TZID=America/Mazatlan:20251107T090000
DTEND;TZID=America/Mazatlan:20251109T230000
DTSTAMP:20260423T222623
CREATED:20250916T140517Z
LAST-MODIFIED:20251105T065509Z
UID:10000038-1762506000-1762729200@gringogazette.com
SUMMARY:Loreto Live well experience
DESCRIPTION:The debut of this festival in 2025 marks a new chapter in the history of the idyllic town\, renowned for its charm\, cultural heritage\, and natural beauty\, where the theme of wellness completes the formula for an unrivaled escape. Family yoga\, mindful fitness\, longevity-focused Qigong\, breathwork\, and meditation are among the practices featured in the Loreto Live Well Experience program\, showcasing notable instructors such as Mexican actor Luis de la Rosa\, musician Lady Gang\, senior yoga trainer Jimena Patiño\, healing artist Matt Pesendian\, yoga teacher Ana Ponzo\, and photographer Citlali Chalvignac \nNo more excuses  tickets are now available\, bringing with them the opportunity to nourish body\, mind\, and spirit from the beating heart of this Mexican paradise.
URL:https://gringogazette.com/event/loreto-live-well-experience/
LOCATION:Hotel Oasis\, Calle Baja California E\, P.º A. Lopez Mateos S/N\, Loreto\, Baja California Sur\, 23880\, Mexico
CATEGORIES:Loreto,Retirement,Yoga
ATTACH;FMTTYPE=image/webp:https://gringogazette.com/wp-content/uploads/2025/09/loretoLiveWell.webp
END:VEVENT
BEGIN:VEVENT
DTSTART;TZID=America/Mazatlan:20251108T060000
DTEND;TZID=America/Mazatlan:20251108T203000
DTSTAMP:20260423T222623
CREATED:20251028T191923Z
LAST-MODIFIED:20251028T191923Z
UID:10000098-1762581600-1762633800@gringogazette.com
SUMMARY:Aqua Race La Paz Banorte 2025
DESCRIPTION:Aqua Race is an exciting open-water swimming competition in the beautiful waters of La Paz\, Baja California Sur\, welcoming swimmers of all levels from beginners to professionals. Participants will take on various distances designed to test endurance\, technique\, and passion for the sport amid breathtaking ocean scenery. \nSafety is a top priority\, with a highly trained support team ensuring a secure and enjoyable experience for all competitors. More than just a race\, Aqua Race is a family-friendly event\, inviting friends and loved ones to share in the excitement and atmosphere of a world-class open-water experience. \nDive in\, challenge yourself\, and make unforgettable memories in one of Mexico’s most stunning coastal
URL:https://gringogazette.com/event/aqua-race-la-paz-banorte-2025/
LOCATION:Playa el anzuelo\, P.º Malecón 2415\, Zona Comercial\, La Paz\, B.C.S.\, La Paz\, Baja California Sur\, 23006\, Mexico
CATEGORIES:La Paz,Race,Sports
ATTACH;FMTTYPE=image/jpeg:https://gringogazette.com/wp-content/uploads/2025/10/Sep2920250307502001759173200aqua-race-banorte.jpg
END:VEVENT
BEGIN:VEVENT
DTSTART;TZID=America/Mazatlan:20251108T110000
DTEND;TZID=America/Mazatlan:20251108T170000
DTSTAMP:20260423T222623
CREATED:20251020T071154Z
LAST-MODIFIED:20251020T071154Z
UID:10000070-1762599600-1762621200@gringogazette.com
SUMMARY:CaboCon
DESCRIPTION:Immerse yourself in a world filled with creativity\, colors\, and your favorite characters from anime and Asian pop culture. Enjoy activities\, cosplay\, contests\, and much more at an event where fans come together to celebrate their passion. Experience it today\, tell it tomorrow!
URL:https://gringogazette.com/event/cabocon/
LOCATION:Petunias Venue\, Via de Carlos L 601\, Carr. Transpeninsular col-Km 3.7\, 23463 Cabo San Lucas\, B.C.S.\, Los cabos\, Baja California Sur\, Mexico
CATEGORIES:Cabo San Lucas
ATTACH;FMTTYPE=image/jpeg:https://gringogazette.com/wp-content/uploads/2025/10/524629149_1651581475784326_6287095932912780152_n.jpg
ORGANIZER;CN="CaboCon":MAILTO:cabo.con.bcs@gmail.com
END:VEVENT
BEGIN:VEVENT
DTSTART;TZID=America/Mazatlan:20251108T180000
DTEND;TZID=America/Mazatlan:20251108T180000
DTSTAMP:20260423T222623
CREATED:20251107T063029Z
LAST-MODIFIED:20251107T063101Z
UID:10000115-1762624800-1762624800@gringogazette.com
SUMMARY:Christmas tree lighting
DESCRIPTION:The image radiates warmth and festive joy\, filled with glowing lights and vibrant colors that capture the spirit of the holiday season. A large Christmas tree stands at the center\, surrounded by a cheerful crowd\, creating a sense of unity and wonder. Every detail evokes the magic of togetherness\, celebration\, and the anticipation that comes with the most joyful time of the year.
URL:https://gringogazette.com/event/christmas-tree-lighting/
LOCATION:Plaza Paseo\, BLVD. AGUSTIN OLACHEA S/N ESQ. DANIEL ROLDAN COL. SAN ANTONIO EL ZACATA\, La Paz\, Mexico\, La paz\, Baja California Sur\, Mexico
CATEGORIES:La Paz
ATTACH;FMTTYPE=image/jpeg:https://gringogazette.com/wp-content/uploads/2025/11/574578889_122248024586191380_3583192201299960641_n.jpg
END:VEVENT
BEGIN:VEVENT
DTSTART;TZID=America/Mazatlan:20251108T180000
DTEND;TZID=America/Mazatlan:20251108T210000
DTSTAMP:20260423T222623
CREATED:20251020T052751Z
LAST-MODIFIED:20251020T052751Z
UID:10000065-1762624800-1762635600@gringogazette.com
SUMMARY:Live beachfront concert cuban
DESCRIPTION:Experience a unique experience with a live Cuban music concert by the sea. Enjoy the contagious rhythms of son\, salsa\, mambo\, and cha-cha-cha while the sea breeze and sunset create the perfect setting. Immerse yourself in Cuban culture with live music. An unforgettable evening.
URL:https://gringogazette.com/event/live-beachfront-concert-cuban/
LOCATION:Vidasoul beach club\, Camino Cabo Este 1000\, 23440 La Vinorama\, B.C.S.\, Los cabos\, Baja California Sur\, Mexico
CATEGORIES:Cabo San Lucas,Music
ATTACH;FMTTYPE=image/jpeg:https://gringogazette.com/wp-content/uploads/2025/10/560067619_1268689641698138_4928605206486333056_n.jpg
END:VEVENT
BEGIN:VEVENT
DTSTART;TZID=America/Mazatlan:20251108T190000
DTEND;TZID=America/Mazatlan:20251108T210000
DTSTAMP:20260423T222623
CREATED:20251027T202149Z
LAST-MODIFIED:20251027T202149Z
UID:10000096-1762628400-1762635600@gringogazette.com
SUMMARY:MAU LOA Forever 40th Anniversary
DESCRIPTION:Step into a compelling creative moment where visual narrative meets emotion. In this piece\, vibrant colors and thoughtful composition converge to evoke a sense of presence\, memory\, and connection. Each brush-stroke and form works to draw the viewer into an intimate space where stories quietly unfold enjoy MAU LOA Forever 40th Anniversary.
URL:https://gringogazette.com/event/mau-loa-forever-40th-anniversary/
LOCATION:Teatro de la Paz\, Antonio Navarro e/ Altamirano y H\, de Independencia Centro\, Zona Central\, 23000 La Paz\, B.C.S.\, La Paz\, Baja California Sur\, 23000\, Mexico
CATEGORIES:Films,La Paz
ATTACH;FMTTYPE=image/jpeg:https://gringogazette.com/wp-content/uploads/2025/10/568985401_1326623278923159_8460456964120115778_n.jpg
END:VEVENT
BEGIN:VEVENT
DTSTART;TZID=America/Mazatlan:20251108T200000
DTEND;TZID=America/Mazatlan:20251108T220000
DTSTAMP:20260423T222623
CREATED:20251024T025136Z
LAST-MODIFIED:20251024T025136Z
UID:10000084-1762632000-1762639200@gringogazette.com
SUMMARY:Alika backed by Angel Zambrano
DESCRIPTION:The event promises a night of good vibes\, conscious rhythms\, and positive energy\, in a relaxed and intimate atmosphere ideal for lovers of reggae and alternative music. In addition to Alika’s performance\, the lineup offers a curated visual and audio experience\, ideal for those seeking a unique cultural experience in Baja California Sur.
URL:https://gringogazette.com/event/alika-backed-by-angel-zambrano/
LOCATION:Merkén\, Km. 8.5 Carretera al norte Chametla\, La Paz\, B.C.S.\, La paz\, Baja California Sur\, 23205\, Mexico
CATEGORIES:La Paz,Music
ATTACH;FMTTYPE=image/jpeg:https://gringogazette.com/wp-content/uploads/2025/10/566856129_18040557533695871_7115948106199400153_n.jpg
END:VEVENT
BEGIN:VEVENT
DTSTART;TZID=America/Mazatlan:20251108T210000
DTEND;TZID=America/Mazatlan:20251108T233000
DTSTAMP:20260423T222623
CREATED:20251023T052955Z
LAST-MODIFIED:20251023T052955Z
UID:10000082-1762635600-1762644600@gringogazette.com
SUMMARY:Maria jose Show
DESCRIPTION:Get ready for an unforgettable night in La Paz!\nThis November 8th\, the ICC La Paz stage will be filled with excitement with the highly anticipated \nperformance of María José.\n\nOne of the most powerful and beloved voices in Spanish pop. If you're a fan of her greatest hits like \n"He Was Perfect\," "I Was Wrong\," and "I'd Rather Be Her Lover\," this event is your chance to sing \nalong live and experience a show that promises energy\, nostalgia\, and pure passion.\n\nBuy your María José La Paz tickets now at Boletomóvil and secure your spot!
URL:https://gringogazette.com/event/maria-jose-show/
LOCATION:ICC la paz\, México 11 516\, La Paz\, B.C.S.\, La Paz\, Baja California Sur\, 23060\, Mexico
CATEGORIES:Festivals,La Paz,Music
ATTACH;FMTTYPE=image/webp:https://gringogazette.com/wp-content/uploads/2025/10/desktop_d2f55ae3-01cd-44d4-af26-974a807314c0.webp
END:VEVENT
END:VCALENDAR