BEGIN:VCALENDAR
VERSION:2.0
PRODID:-//Gringo Gazette - ECPv6.15.13.1//NONSGML v1.0//EN
CALSCALE:GREGORIAN
METHOD:PUBLISH
X-WR-CALNAME:Gringo Gazette
X-ORIGINAL-URL:https://gringogazette.com
X-WR-CALDESC:Events for Gringo Gazette
REFRESH-INTERVAL;VALUE=DURATION:PT1H
X-Robots-Tag:noindex
X-PUBLISHED-TTL:PT1H
BEGIN:VTIMEZONE
TZID:America/Mazatlan
BEGIN:STANDARD
TZOFFSETFROM:-0700
TZOFFSETTO:-0700
TZNAME:MST
DTSTART:20240101T000000
END:STANDARD
END:VTIMEZONE
BEGIN:VEVENT
DTSTART;TZID=America/Mazatlan:20251024T153000
DTEND;TZID=America/Mazatlan:20251026T233000
DTSTAMP:20260419T232610
CREATED:20250903T200828Z
LAST-MODIFIED:20250903T200828Z
UID:10000003-1761319800-1761521400@gringogazette.com
SUMMARY:Sunset Fest Cabo
DESCRIPTION:Sunset Fest Cabo – The Ultimate Smooth Rock Getaway\nWhen & Where: \n\n\nA three-day celebration taking place October 24–26\, 2025 on the iconic Medano Beach\, Cabo San Lucas  . \n\n\nThe Vibe: \n\n\nDubbed the ultimate “yacht rock” festival\, it’s a blend of breezy oceanfront ambiance\, smooth rock classics\, and a luxury lifestyle experience  . \n\n\nFeatured Artists: \n\n\nA nostalgic lineup featuring Grammy-winning and beloved soft rock legends: \n\n\nFriday\, Oct 24: Rick Springfield\, Ambrosia (with Peter Beckett)\, Elliot Lurie\, John Ford Coley\, Walter Egan\, Pablo Cruise   . \n\n\nSaturday\, Oct 25: Alan Parsons\, Christopher Cross\, Al Stewart\, The Empty Pockets  . \n\n\nSunday\, Oct 26: Kenny Loggins headlines\, joined by Dire Straits Legacy (plus more acts to be announced)  . \n\n\n\n\nExperience Highlights: \n\n\nBeyond the music\, expect elevated experiences including Michelin‑starred chefs\, seafood tastings\, curated tequila lounges\, immersive poolside and rooftop after‑parties  . \n\n\nSpecial VIP perks include: \n\n\nCaptain’s Package: VIP festival access\, a screening & Q&A for “Yacht Rock: A DOCKumentary”\, reserved seating\, premium food & bar\, complimentary transport\, exclusive after‑parties  . \n\n\nAdmiral’s Package: All Captain perks plus VIP viewing deck\, elite yacht party\, enhanced transportation options and more  . \n\n\n\n\nTicketing & Packages: \n\n\nTickets went on sale Friday\, July 11\, 2025  . \n\n\nPricing tiers include early‑bird options such as: \n\n\n3‑Day General Admission: Approx. $275 \n\n\n3‑Day VIP Pass: Approx. $600 \n\n\n\n\n\nLocation Advantage: \n\n\nNestled beachfront at Medano Beach\, the festival is steps away from top Cabo resorts\, the marina\, and downtown nightlife\, with shuttle services and transport options for attendees.
URL:https://gringogazette.com/event/sunset-fest-cabo/
LOCATION:Medano Beach\, El Medano Ejidal\, Cabo San Lucas\, Baja California Sur\, 23454\, Mexico
CATEGORIES:Music
ATTACH;FMTTYPE=image/jpeg:https://gringogazette.com/wp-content/uploads/2025/09/sunsetFestCabo.jpg
END:VEVENT
BEGIN:VEVENT
DTSTART;VALUE=DATE:20251025
DTEND;VALUE=DATE:20251027
DTSTAMP:20260419T232610
CREATED:20250916T062845Z
LAST-MODIFIED:20250916T062913Z
UID:10000042-1761350400-1761523199@gringogazette.com
SUMMARY:Loreto 400
DESCRIPTION:The Loreto 400 is one of Baja California Sur’s most iconic off-road competitions\, renowned for its adventurous spirit and the passion it inspires among riders\, fans\, and local communities. Beyond speed\, this event reflects tradition\, teamwork\, and the unity of the people who experience the race as a true celebration\, becoming a symbol of identity and pride for the region. \nThe spectator price is expected to be $14 or more.
URL:https://gringogazette.com/event/loreto-400/
LOCATION:malecon de loreto\, Centro\, Loreto\, B.C.S.\, Loreto\, Baja California Sur\, 23880\, Mexico
CATEGORIES:Loreto,Race
ATTACH;FMTTYPE=image/jpeg:https://gringogazette.com/wp-content/uploads/2025/09/FOTO-03-333.jpeg
ORGANIZER;CN="Club Loreto Racing":MAILTO:abraham6123480391@gmail.com
END:VEVENT
BEGIN:VEVENT
DTSTART;TZID=America/Mazatlan:20251026T100000
DTEND;TZID=America/Mazatlan:20251026T180000
DTSTAMP:20260419T232610
CREATED:20251022T040742Z
LAST-MODIFIED:20251022T040742Z
UID:10000079-1761472800-1761501600@gringogazette.com
SUMMARY:Cempasuchil Festival
DESCRIPTION:Get ready to celebrate the beauty and tradition of the 2nd Cempasúchil Festival BCS\, taking place at Rancho El Gordo in San Juan de los Planes on October 25 and 26\, from 10:00 a.m. to 6:00 p.m. \nThis heartfelt celebration returns thanks to the love and support of the community. Visitors will have the chance to walk through a sea of blooming cempasúchil flowers\, take photos in beautifully designed themed spots\, and purchase flowers in bulk directly from the fields. \nEnjoy delicious regional food\, warm hospitality\, and a vibrant atmosphere that honors one of Mexico’s most cherished traditions — the marigold\, symbol of remembrance and life. Come and be part of this colorful experience filled with culture\, nature\, and joy.
URL:https://gringogazette.com/event/cempasuchil-festival/
LOCATION:San juan de los planes\, AGRÍCOLA MD San Juan de Los Planes\, KM 46.5\, BCS\, México.\, San juan de los planes\, Baja California Sur\, 23230\, Mexico
CATEGORIES:Arts,Relaxing,San juan de los planes
ATTACH;FMTTYPE=image/jpeg:https://gringogazette.com/wp-content/uploads/2025/10/564596908_122265565106235824_586402611501403152_n.jpg
END:VEVENT
BEGIN:VEVENT
DTSTART;TZID=America/Mazatlan:20251026T120000
DTEND;TZID=America/Mazatlan:20251101T160000
DTSTAMP:20260419T232610
CREATED:20250916T140534Z
LAST-MODIFIED:20250916T140534Z
UID:10000043-1761480000-1762012800@gringogazette.com
SUMMARY:Playa\, Pen\, & Pose Women's Wellness Retreat
DESCRIPTION:Welcome to Playa\, Pen\, & Pose Women’s Wellness Retreat. Oct 26-Nov 1\, 2025. \nJoin Chrissy Roll Wellness Coach\, LLC and Chara Yoga & Wellness Collaborative at Villa Bugambilias in beautiful Todos Santos for a rejuvenating 7-day experience like no other. This transformative retreat is all about embracing self-care\, ycreativity\, and mindfulness where the desert landscapes meet the Pacific Ocean. \nGet ready to playa – indulge in relaxing beach activities\, connect with like-minded women\, enjoy intentional rest periods\, and recharge your soul in this stunning coastal paradise. \nUnleash your inner writer during our pen sessions\, where you can journal\, reflect\, and explore your thoughts through creative expression in a supportive environment. \nStrike a pose during our pose yoga and movement therapy classes\, designed to help you find balance\, strength\, and inner peace through mindful movement.
URL:https://gringogazette.com/event/playa-pen-pose-womens-wellness-retreat/
LOCATION:Villa Bugambilias\, C.horizonte San ignacio Todos Santos\, Todos Santos\, Baja California Sur\, 22974
CATEGORIES:Relaxing,Todos Santos,Yoga
ATTACH;FMTTYPE=image/jpeg:https://gringogazette.com/wp-content/uploads/2025/09/https___cdnevbuc_com_images_1107151623_2872992875061_1_original.jpg
END:VEVENT
END:VCALENDAR